Back to Multiple platform build/check report for BioC 3.20: simplified long |
|
This page was generated on 2024-07-03 11:44 -0400 (Wed, 03 Jul 2024).
Hostname | OS | Arch (*) | R version | Installed pkgs |
---|---|---|---|---|
nebbiolo2 | Linux (Ubuntu 22.04.3 LTS) | x86_64 | 4.4.0 RC (2024-04-16 r86468) -- "Puppy Cup" | 4693 |
palomino6 | Windows Server 2022 Datacenter | x64 | 4.4.1 (2024-06-14 ucrt) -- "Race for Your Life" | 4413 |
lconway | macOS 12.7.1 Monterey | x86_64 | 4.4.1 RC (2024-06-06 r86719) -- "Race for Your Life" | 4407 |
kjohnson3 | macOS 13.6.5 Ventura | arm64 | 4.4.1 RC (2024-06-06 r86719) -- "Race for Your Life" | 4356 |
kunpeng2 | Linux (openEuler 22.03 LTS-SP1) | aarch64 | 4.4.0 (2024-04-24) -- "Puppy Cup" | 4407 |
Click on any hostname to see more info about the system (e.g. compilers) (*) as reported by 'uname -p', except on Windows and Mac OS X |
Package 548/2243 | Hostname | OS / Arch | INSTALL | BUILD | CHECK | BUILD BIN | ||||||||
destiny 3.19.0 (landing page) Philipp Angerer
| nebbiolo2 | Linux (Ubuntu 22.04.3 LTS) / x86_64 | OK | OK | OK | |||||||||
palomino6 | Windows Server 2022 Datacenter / x64 | OK | OK | OK | OK | |||||||||
lconway | macOS 12.7.1 Monterey / x86_64 | OK | ERROR | skipped | skipped | |||||||||
kjohnson3 | macOS 13.6.5 Ventura / arm64 | OK | ERROR | skipped | skipped | |||||||||
kunpeng2 | Linux (openEuler 22.03 LTS-SP1) / aarch64 | OK | OK | OK | ||||||||||
To the developers/maintainers of the destiny package: - Allow up to 24 hours (and sometimes 48 hours) for your latest push to git@git.bioconductor.org:packages/destiny.git to reflect on this report. See Troubleshooting Build Report for more information. - Use the following Renviron settings to reproduce errors and warnings. - If 'R CMD check' started to fail recently on the Linux builder(s) over a missing dependency, add the missing dependency to 'Suggests:' in your DESCRIPTION file. See Renviron.bioc for more information. - See Martin Grigorov's blog post for how to debug Linux ARM64 related issues on a x86_64 host. |
Package: destiny |
Version: 3.19.0 |
Command: /home/biocbuild/R/R/bin/R CMD check --install=check:destiny.install-out.txt --library=/home/biocbuild/R/R/site-library --no-vignettes --timings destiny_3.19.0.tar.gz |
StartedAt: 2024-07-03 04:25:28 -0000 (Wed, 03 Jul 2024) |
EndedAt: 2024-07-03 04:30:45 -0000 (Wed, 03 Jul 2024) |
EllapsedTime: 316.5 seconds |
RetCode: 0 |
Status: OK |
CheckDir: destiny.Rcheck |
Warnings: 0 |
############################################################################## ############################################################################## ### ### Running command: ### ### /home/biocbuild/R/R/bin/R CMD check --install=check:destiny.install-out.txt --library=/home/biocbuild/R/R/site-library --no-vignettes --timings destiny_3.19.0.tar.gz ### ############################################################################## ############################################################################## * using log directory ‘/home/biocbuild/bbs-3.20-bioc/meat/destiny.Rcheck’ * using R version 4.4.0 (2024-04-24) * using platform: aarch64-unknown-linux-gnu * R was compiled by gcc (GCC) 12.2.1 20220819 (openEuler 12.2.1-14) GNU Fortran (GCC) 10.3.1 * running under: openEuler 22.03 (LTS-SP1) * using session charset: UTF-8 * using option ‘--no-vignettes’ * checking for file ‘destiny/DESCRIPTION’ ... OK * checking extension type ... Package * this is package ‘destiny’ version ‘3.19.0’ * package encoding: UTF-8 * checking package namespace information ... OK * checking package dependencies ... OK * checking if this is a source package ... OK * checking if there is a namespace ... OK * checking for hidden files and directories ... OK * checking for portable file names ... OK * checking for sufficient/correct file permissions ... OK * checking whether package ‘destiny’ can be installed ... OK * used C++ compiler: ‘g++ (GCC) 10.3.1’ * checking C++ specification ... NOTE Specified C++11: please drop specification unless essential * checking installed package size ... OK * checking package directory ... OK * checking DESCRIPTION meta-information ... NOTE Packages listed in more than one of Depends, Imports, Suggests, Enhances: ‘rgl’ ‘SingleCellExperiment’ A package should be listed in only one of these fields. 'LinkingTo' for ‘grDevices’ is unused as it has no 'include' directory * checking top-level files ... OK * checking for left-over files ... OK * checking index information ... OK * checking package subdirectories ... OK * checking code files for non-ASCII characters ... OK * checking R files for syntax errors ... OK * checking whether the package can be loaded ... OK * checking whether the package can be loaded with stated dependencies ... OK * checking whether the package can be unloaded cleanly ... OK * checking whether the namespace can be loaded with stated dependencies ... OK * checking whether the namespace can be unloaded cleanly ... OK * checking loading without being on the library search path ... OK * checking whether startup messages can be suppressed ... OK * checking dependencies in R code ... OK * checking S3 generic/method consistency ... OK * checking replacement functions ... OK * checking foreign function calls ... OK * checking R code for possible problems ... OK * checking Rd files ... NOTE checkRd: (-1) Gene-Relevance.Rd:94: Escaped LaTeX specials: \_ * checking Rd metadata ... OK * checking Rd cross-references ... OK * checking for missing documentation entries ... OK * checking for code/documentation mismatches ... OK * checking Rd \usage sections ... NOTE S3 methods shown with full name in Rd file 'coercions.Rd': ‘fortify.DiffusionMap’ ‘fortify.DPT’ S3 methods shown with full name in Rd file 'plot.DPT.Rd': ‘plot.DPT’ S3 methods shown with full name in Rd file 'plot.DiffusionMap.Rd': ‘plot.DiffusionMap’ The \usage entries for S3 methods should use the \method markup and not their full name. See chapter ‘Writing R documentation files’ in the ‘Writing R Extensions’ manual. * checking Rd contents ... OK * checking for unstated dependencies in examples ... OK * checking contents of ‘data’ directory ... OK * checking data for non-ASCII characters ... OK * checking data for ASCII and uncompressed saves ... OK * checking line endings in C/C++/Fortran sources/headers ... OK * checking line endings in Makefiles ... OK * checking compilation flags in Makevars ... OK * checking for GNU extensions in Makefiles ... OK * checking for portable use of $(BLAS_LIBS) and $(LAPACK_LIBS) ... OK * checking use of PKG_*FLAGS in Makefiles ... OK * checking compiled code ... NOTE Note: information on .o files is not available * checking files in ‘vignettes’ ... OK * checking examples ... OK Examples with CPU (user + system) or elapsed time > 5s user system elapsed Gene-Relevance-plotting 7.347 0.032 7.393 destiny 5.147 0.015 5.172 * checking for unstated dependencies in ‘tests’ ... OK * checking tests ... Running ‘testthat.R’ OK * checking for unstated dependencies in vignettes ... OK * checking package vignettes ... OK * checking running R code from vignettes ... SKIPPED * checking re-building of vignette outputs ... SKIPPED * checking PDF version of manual ... OK * DONE Status: 5 NOTEs See ‘/home/biocbuild/bbs-3.20-bioc/meat/destiny.Rcheck/00check.log’ for details.
destiny.Rcheck/00install.out
############################################################################## ############################################################################## ### ### Running command: ### ### /home/biocbuild/R/R/bin/R CMD INSTALL destiny ### ############################################################################## ############################################################################## * installing to library ‘/home/biocbuild/R/R-4.4.0/site-library’ * installing *source* package ‘destiny’ ... ** using staged installation ** libs using C++ compiler: ‘g++ (GCC) 10.3.1’ using C++11 g++ -std=gnu++11 -I"/home/biocbuild/R/R-4.4.0/include" -DNDEBUG -I'/home/biocbuild/R/R-4.4.0/site-library/Rcpp/include' -I'/home/biocbuild/R/R-4.4.0/site-library/RcppEigen/include' -I'/home/biocbuild/R/R-4.4.0/library/grDevices/include' -I/usr/local/include -ggdb -fPIC -g -O2 -Wall -c RcppExports.cpp -o RcppExports.o g++ -std=gnu++11 -I"/home/biocbuild/R/R-4.4.0/include" -DNDEBUG -I'/home/biocbuild/R/R-4.4.0/site-library/Rcpp/include' -I'/home/biocbuild/R/R-4.4.0/site-library/RcppEigen/include' -I'/home/biocbuild/R/R-4.4.0/library/grDevices/include' -I/usr/local/include -ggdb -fPIC -g -O2 -Wall -c censoring.cpp -o censoring.o g++ -std=gnu++11 -I"/home/biocbuild/R/R-4.4.0/include" -DNDEBUG -I'/home/biocbuild/R/R-4.4.0/site-library/Rcpp/include' -I'/home/biocbuild/R/R-4.4.0/site-library/RcppEigen/include' -I'/home/biocbuild/R/R-4.4.0/library/grDevices/include' -I/usr/local/include -ggdb -fPIC -g -O2 -Wall -c utils.cpp -o utils.o g++ -std=gnu++11 -shared -L/home/biocbuild/R/R-4.4.0/lib -L/usr/local/lib -o destiny.so RcppExports.o censoring.o utils.o -L/home/biocbuild/R/R-4.4.0/lib -lR installing to /home/biocbuild/R/R-4.4.0/site-library/00LOCK-destiny/00new/destiny/libs ** R ** data ** demo ** inst ** byte-compile and prepare package for lazy loading ** help *** installing help indices ** building package indices ** installing vignettes ** testing if installed package can be loaded from temporary location ** checking absolute paths in shared objects and dynamic libraries ** testing if installed package can be loaded from final location ** testing if installed package keeps a record of temporary installation path * DONE (destiny)
destiny.Rcheck/tests/testthat.Rout
R version 4.4.0 (2024-04-24) -- "Puppy Cup" Copyright (C) 2024 The R Foundation for Statistical Computing Platform: aarch64-unknown-linux-gnu R is free software and comes with ABSOLUTELY NO WARRANTY. You are welcome to redistribute it under certain conditions. Type 'license()' or 'licence()' for distribution details. R is a collaborative project with many contributors. Type 'contributors()' for more information and 'citation()' on how to cite R or R packages in publications. Type 'demo()' for some demos, 'help()' for on-line help, or 'help.start()' for an HTML browser interface to help. Type 'q()' to quit R. > library(testthat) > library(destiny) > > test_check('destiny') [ FAIL 0 | WARN 0 | SKIP 1 | PASS 67 ] ══ Skipped tests (1) ═══════════════════════════════════════════════════════════ • Not yet stable (1): 'test_gr.r:23:2' [ FAIL 0 | WARN 0 | SKIP 1 | PASS 67 ] > > proc.time() user system elapsed 17.145 0.608 17.778
destiny.Rcheck/destiny-Ex.timings
name | user | system | elapsed | |
DPT-matrix-methods | 1.975 | 0.008 | 1.987 | |
DPT-methods | 1.695 | 0.008 | 1.705 | |
DPT | 1.833 | 0.012 | 1.848 | |
DiffusionMap-accessors | 1.259 | 0.012 | 1.273 | |
DiffusionMap-class | 3.335 | 0.000 | 3.341 | |
DiffusionMap-methods | 0.448 | 0.008 | 0.457 | |
ExpressionSet-helpers | 0.109 | 0.000 | 0.109 | |
Gene-Relevance-methods | 1.871 | 0.000 | 1.874 | |
Gene-Relevance-plotting | 7.347 | 0.032 | 7.393 | |
Gene-Relevance | 4.093 | 0.048 | 4.149 | |
Sigmas-class | 0.176 | 0.004 | 0.180 | |
coercions | 0.499 | 0.004 | 0.503 | |
colorlegend | 0.011 | 0.000 | 0.011 | |
cube_helix | 0.008 | 0.000 | 0.008 | |
destiny-generics | 0.551 | 0.016 | 0.568 | |
destiny | 5.147 | 0.015 | 5.172 | |
dm_predict | 0.558 | 0.008 | 0.568 | |
eig_decomp | 0.002 | 0.000 | 0.002 | |
extractions | 1.024 | 0.004 | 1.030 | |
find_dm_k | 0.009 | 0.000 | 0.010 | |
find_sigmas | 0.600 | 0.000 | 0.602 | |
find_tips | 0.525 | 0.000 | 0.527 | |
l_which | 0.001 | 0.000 | 0.000 | |
plot.DPT | 2.302 | 0.028 | 2.339 | |
plot.DiffusionMap | 1.506 | 0.052 | 1.560 | |
plot.Sigmas | 0.194 | 0.008 | 0.203 | |
projection_dist | 0.243 | 0.000 | 0.244 | |
random_root | 0.466 | 0.004 | 0.471 | |