This page was generated on 2018-10-17 09:01:14 -0400 (Wed, 17 Oct 2018).
| malbec2 | Linux (Ubuntu 16.04.1 LTS) / x86_64 |  |  |  |  |  | 
| tokay2 | Windows Server 2012 R2 Standard / x64 |  |  |  |  |  | 
| [merida2] | OS X 10.11.6 El Capitan / x86_64 |  |  |  |  |  | 
|  | 
|  | 
|  |  | 
| a4 1.28.0 | Tobias Verbeke | OK | OK | OK | OK |  | 
| a4Base 1.28.0 | Tobias Verbeke | OK | OK | OK | OK |  | 
| a4Classif 1.28.0 | Tobias Verbeke | OK | OK | OK | OK |  | 
| a4Core 1.28.0 | Tobias Verbeke | OK | OK | OK | OK |  | 
| a4Preproc 1.28.0 | Tobias Verbeke | OK | OK | OK | OK |  | 
| a4Reporting 1.28.0 | Tobias Verbeke , Willem Ligtenberg | OK | OK | OK | OK |  | 
| ABAEnrichment 1.10.0 | Steffi Grote | OK | OK | OK | OK |  | 
| ABarray 1.48.0 | Yongming Andrew Sun | OK | OK | OK | OK |  | 
| ABSSeq 1.34.1 | Wentao Yang | OK | OK | OK | OK |  | 
| acde 1.10.0 | Juan Pablo Acosta | OK | OK | OK | OK |  | 
| aCGH 1.58.0 | Peter Dimitrov | OK | OK | OK | OK |  | 
| ACME 2.36.0 | Sean Davis | OK | OK | OK | OK |  | 
| ADaCGH2 2.20.0 | Ramon Diaz-Uriarte | OK | OK | OK | OK |  | 
| adaptest 1.0.0 | Weixin Cai | OK | OK | OK | OK |  | 
| adSplit 1.50.0 | Claudio Lottaz | OK | OK | OK | OK |  | 
| affxparser 1.52.0 | Kasper Daniel Hansen | OK | OK | WARNINGS | OK |  | 
| affy 1.58.0 | Rafael A. Irizarry | OK | OK | WARNINGS | OK |  | 
| affycomp 1.56.0 | Rafael A. Irizarry | OK | OK | OK | OK |  | 
| AffyCompatible 1.40.0 | Martin Morgan | OK | OK | OK | OK |  | 
| affyContam 1.38.0 | V. Carey | OK | OK | OK | OK |  | 
| affycoretools 1.52.2 | James W. MacDonald | OK | OK | OK | OK |  | 
| AffyExpress 1.46.0 | Xuejun Arthur Li | OK | OK | OK | OK |  | 
| affyILM 1.32.0 | Myriam Kroll and Fabrice Berger | OK | OK | OK | OK |  | 
| affyio 1.50.0 | Ben Bolstad | OK | OK | OK | OK |  | 
| affylmGUI 1.54.1 | Gordon Smyth | OK | OK | OK | OK |  | 
| affyPara 1.40.0 | Markus Schmidberger | OK | OK | OK | OK |  | 
| affypdnn 1.54.0 | Laurent Gautier | OK | OK | OK | OK |  | 
| affyPLM 1.56.0 | Ben Bolstad | OK | OK | OK | OK |  | 
| affyQCReport 1.58.0 | Craig Parman | OK | OK | OK | OK |  | 
| AffyRNADegradation 1.26.0 | Mario Fasold | OK | OK | OK | OK |  | 
| AGDEX 1.28.0 | Cuilan lani Gao | OK | OK | OK | OK |  | 
| agilp 3.12.0 | Benny Chain | OK | OK | OK | OK |  | 
| AgiMicroRna 2.30.0 | Pedro Lopez-Romero | OK | OK | OK | OK |  | 
| AIMS 1.12.0 | Eric R Paquet | OK | OK | OK | OK |  | 
| ALDEx2 1.12.0 | Greg Gloor | OK | OK | OK | OK |  | 
| AllelicImbalance 1.18.0 | Jesper R Gadin | OK | OK | OK | OK |  | 
| alpine 1.6.0 | Michael Love | OK | OK | OK | OK |  | 
| alsace 1.16.0 | Ron Wehrens | OK | OK | OK | OK |  | 
| altcdfenvs 2.42.0 | Laurent Gautier | OK | OK | OK | OK |  | 
| AMOUNTAIN 1.6.0 | Dong Li | OK | OK | OK | OK |  | 
| amplican 1.2.1 | Eivind Valen | OK | OK | OK | OK |  | 
| ampliQueso 1.18.0 | Michal Okoniewski | OK | OK | WARNINGS | OK |  | 
| AnalysisPageServer 1.14.0 | Brad Friedman | OK | OK | OK | OK |  | 
| anamiR 1.8.0 | Ti-Tai Wang | OK | OK | OK | OK |  | 
| Anaquin 2.4.0 | Ted Wong | OK | OK | OK | OK |  | 
| AneuFinder 1.8.0 | Aaron Taudt | OK | OK | OK | OK |  | 
| ANF 1.2.0 | Tianle Ma | OK | OK | OK | OK |  | 
| annaffy 1.52.0 | Colin A. Smith | OK | OK | OK | OK |  | 
| annmap 1.22.0 | Chris Wirth | OK | OK | WARNINGS | OK |  | 
| annotate 1.58.0 | Bioconductor Package Maintainer | OK | OK | OK | OK |  | 
| AnnotationDbi 1.42.1 | Bioconductor Package Maintainer | OK | OK | OK | OK |  | 
| AnnotationFilter 1.4.0 | Bioconductor Maintainer | OK | OK | OK | OK |  | 
| AnnotationForge 1.22.2 | Bioconductor Package Maintainer | OK | OK | OK | OK |  | 
| AnnotationFuncs 1.30.0 | Stefan McKinnon Edwards | OK | OK | OK | OK |  | 
| AnnotationHub 2.12.1 | Bioconductor Package Maintainer | OK | OK | WARNINGS | OK |  | 
| AnnotationHubData 1.10.3 | Bioconductor Package Maintainer | OK | OK | OK | OK |  | 
| annotationTools 1.54.0 | Alexandre Kuhn | OK | OK | OK | OK |  | 
| annotatr 1.6.0 | Raymond G. Cavalcante | OK | OK | OK | OK |  | 
| anota 1.28.0 | Ola Larsson | OK | OK | OK | OK |  | 
| anota2seq 1.2.0 | Christian Oertlin , Julie Lorent | OK | OK | OK | OK |  | 
| antiProfiles 1.20.0 | Hector Corrada Bravo | OK | OK | OK | OK |  | 
| apComplex 2.46.0 | Denise Scholtens | OK | OK | OK | OK |  | 
| apeglm 1.2.1 | Anqi Zhu | OK | OK | OK | OK |  | 
| aroma.light 3.10.0 | Henrik Bengtsson | OK | OK | WARNINGS | OK |  | 
| ArrayExpress 1.40.0 | Ugis Sarkans | OK | OK | OK | OK |  | 
| ArrayExpressHTS 1.30.0 | Angela Goncalves , Andrew Tikhonov | OK | OK | OK | OK |  | 
| arrayMvout 1.38.0 | V. Carey | OK | OK | OK | OK |  | 
| arrayQuality 1.58.0 | Agnes Paquet | OK | OK | WARNINGS | OK |  | 
| arrayQualityMetrics 3.36.0 | Mike Smith | OK | OK | OK | OK |  | 
| ArrayTools 1.40.0 | Arthur Li | OK | OK | OK | OK |  | 
| ArrayTV 1.18.0 | Eitan Halper-Stromberg | OK | OK | OK | OK |  | 
| ARRmNormalization 1.20.0 | Jean-Philippe Fortin | OK | OK | OK | OK |  | 
| ASAFE 1.6.0 | Qian Zhang | OK | OK | OK | OK |  | 
| ASEB 1.24.0 | Likun Wang | OK | OK | OK | OK |  | 
| ASGSCA 1.14.0 | Hela Romdhani | OK | OK | OK | OK |  | 
| ASICS 1.0.1 | Gaëlle Lefort | OK | OK | OK | OK |  | 
| ASpli 1.6.0 | Estefania Mancini | OK | OK | OK | OK |  | 
| ASSET 1.98.0 | Samsiddhi Bhattacharjee | OK | OK | WARNINGS | OK |  | 
| ASSIGN 1.16.0 | Ying Shen , W. Evan Johnson | OK | OK | OK | OK |  | 
| ATACseqQC 1.4.3 | Jianhong Ou | OK | OK | OK | OK |  | 
| attract 1.32.0 | Samuel Zimmerman | OK | OK | OK | OK |  | 
| AUCell 1.2.4 | Sara Aibar | OK | OK | OK | OK |  | 
|  | 
|  |  | 
| BaalChIP 1.6.0 | Ines de Santiago | OK | OK | WARNINGS | OK |  | 
| BAC 1.40.0 | Raphael Gottardo | OK | OK | OK | OK |  | 
| bacon 1.8.0 | Maarten van Iterson | OK | OK | OK | OK |  | 
| BADER 1.18.0 | Andreas Neudecker | OK | OK | OK | OK |  | 
| BadRegionFinder 1.8.0 | Sarah Sandmann | OK | OK | OK | OK |  | 
| BAGS 2.20.0 | Alejandro Quiroz-Zarate | OK | OK | OK | OK |  | 
| ballgown 2.12.0 | Jack Fu | OK | OK | OK | OK |  | 
| bamsignals 1.12.1 | Alessandro Mammana | OK | OK | OK | OK |  | 
| banocc 1.4.0 | Emma Schwager | OK | OK | OK | OK |  | 
| basecallQC 1.4.0 | Thomas Carroll | OK | OK | OK | OK |  | 
| BaseSpaceR 1.24.0 | Jared O'Connell | OK | OK | OK | OK |  | 
| Basic4Cseq 1.16.0 | Carolin Walter | OK | OK | OK | OK |  | 
| BASiCS 1.2.1 | Catalina A. Vallejos , Nils Eling | OK | OK | OK | OK |  | 
| BasicSTARRseq 1.8.0 | Annika Buerger | OK | OK | OK | OK |  | 
| BatchQC 1.8.1 | Solaiappan Manimaran | OK | OK | OK | OK |  | 
| BayesKnockdown 1.6.0 | William Chad Young | OK | OK | OK | OK |  | 
| BayesPeak 1.32.0 | Jonathan Cairns | OK | OK | OK | OK |  | 
| baySeq 2.14.0 | Thomas J. Hardcastle | OK | OK | OK | OK |  | 
| BBCAnalyzer 1.10.0 | Sarah Sandmann | OK | OK | OK | OK |  | 
| BCRANK 1.42.0 | Adam Ameur | OK | OK | OK | OK |  | 
| bcSeq 1.2.0 | Jiaxing Lin | OK | OK | OK | OK |  | 
| beachmat 1.2.1 | Aaron Lun | OK | OK | OK | OK |  | 
| beadarray 2.30.0 | Mark Dunning | OK | OK | OK | OK |  | 
| beadarraySNP 1.46.0 | Jan Oosting | OK | OK | OK | OK |  | 
| BeadDataPackR 1.32.0 | Mike Smith | OK | OK | OK | OK |  | 
| BEARscc 1.0.0 | Benjamin Schuster-Boeckler | OK | OK | OK | OK |  | 
| BEAT 1.18.0 | Kemal Akman | OK | OK | OK | OK |  | 
| BEclear 1.12.1 | David Rasp | OK | OK | OK | OK |  | 
| bgafun 1.42.0 | Iain Wallace | OK | OK | OK | OK |  | 
| BgeeDB 2.6.2 | Julien Wollbrett , Julien Roux , Andrea Komljenovic  , Frederic Bastian | OK | OK | OK | OK |  | 
| BGmix 1.40.0 | Alex Lewin | OK | OK | OK | OK |  | 
| bgx 1.46.0 | Ernest Turro | OK | OK | OK | OK |  | 
| BHC 1.32.0 | Rich Savage | OK | OK | OK | OK |  | 
| BicARE 1.38.0 | Pierre Gestraud | OK | OK | OK | OK |  | 
| BiFET |  | ERROR (Bad DESCRIPTION file) | 
| BiGGR 1.16.0 | Anand K. Gavai | OK | OK | OK | OK |  | 
| bigmelon 1.6.0 | Tyler J. Gorrie-Stone | OK | OK | OK | OK |  | 
| bigmemoryExtras 1.28.0 | Peter M. Haverty | OK | OK | WARNINGS | OK |  | 
| bioassayR 1.18.0 | Tyler Backman | OK | OK | OK | OK |  | 
| Biobase 2.40.0 | Bioconductor Package Maintainer | OK | OK | OK | OK |  | 
| biobroom 1.12.1 | John D. Storey  and Andrew J. Bass | OK | OK | OK | OK |  | 
| bioCancer 1.8.0 | Karim Mezhoud | OK | OK | OK | OK |  | 
| BiocCaseStudies 1.42.0 | Bioconductor Package Maintainer | OK | OK | OK | OK |  | 
| BiocCheck 1.16.0 | Bioconductor Package Maintainer | OK | OK | OK | OK |  | 
| BiocFileCache 1.4.0 | Lori Shepherd | OK | OK | OK | OK |  | 
| BiocGenerics 0.26.0 | Bioconductor Package Maintainer | OK | OK | WARNINGS | OK |  | 
| biocGraph 1.42.0 | Florian Hahne | OK | OK | OK | OK |  | 
| BiocInstaller 1.30.0 | Bioconductor Package Maintainer | OK | OK | WARNINGS | OK |  | 
| BiocOncoTK 1.0.3 | VJ Carey | OK | OK | OK | OK |  | 
| BioCor 1.4.0 | Lluís Revilla Sancho | OK | OK | OK | OK |  | 
| BiocParallel 1.14.2 | Bioconductor Package Maintainer | OK | OK | ERROR | OK |  | 
| BiocSklearn 1.2.0 | VJ Carey | OK | OK | OK | OK |  | 
| BiocStyle 2.8.2 | Bioconductor Package Maintainer | OK | OK | OK | OK |  | 
| BiocVersion 3.7.4 | Bioconductor Package Maintainer | OK | OK | WARNINGS | OK |  | 
| biocViews 1.48.3 | Bioconductor Package Maintainer | OK | OK | OK | OK |  | 
| BiocWorkflowTools 1.6.2 | Mike Smith | OK | OK | OK | OK |  | 
| bioDist 1.52.0 | Bioconductor Package Maintainer | OK | OK | OK | OK |  | 
| biomaRt 2.36.1 | Mike Smith | OK | OK | ERROR | OK |  | 
| biomformat 1.8.0 | Paul J. McMurdie | OK | OK | OK | OK |  | 
| BioMVCClass 1.48.0 | Elizabeth Whalen | OK | OK | OK | OK |  | 
| biomvRCNS 1.20.0 | Yang Du | OK | OK | OK | OK |  | 
| BioNet 1.40.0 | Marcus Dittrich | OK | OK | OK | OK |  | 
| BioNetStat 1.0.4 | Vinicius Jardim | OK | OK | OK | OK |  | 
| BioQC 1.8.0 | Jitao David Zhang | OK | OK | OK | OK |  | 
| BioSeqClass 1.38.0 | Li Hong | OK | OK | OK | OK |  | 
| biosigner 1.8.0 | Philippe Rinaudo , Etienne Thevenot | OK | OK | OK | OK |  | 
| Biostrings 2.48.0 | H. Pagès | OK | OK | WARNINGS | OK |  | 
| biosvd 2.16.0 | Anneleen Daemen , Matthew Brauer | OK | OK | OK | OK |  | 
| biotmle 1.4.0 | Nima Hejazi | OK | OK | OK | OK |  | 
| biovizBase 1.28.2 | Michael Lawrence | OK | OK | OK | OK |  | 
| BiRewire 3.12.0 | Andrea Gobbi | OK | OK | OK | OK |  | 
| birta 1.24.0 | Benedikt Zacher | OK | OK | OK | OK |  | 
| birte 1.16.0 | Holger Froehlich | OK | OK | OK | OK |  | 
| BiSeq 1.20.0 | Katja Hebestreit | OK | OK | OK | OK |  | 
| BitSeq 1.24.0 | Antti Honkela , Panagiotis Papastamoulis | OK | OK | WARNINGS | OK |  | 
| blima 1.14.0 | Vojtěch Kulvait | OK | OK | WARNINGS | OK |  | 
| BLMA 1.4.0 | Tin Nguyen | OK | OK | OK | OK |  | 
| bnbc 1.2.0 | Kipper Fletez-Brant | OK | OK | OK | OK |  | 
| BPRMeth 1.6.0 | Chantriolnt-Andreas Kapourani | OK | OK | OK | OK |  | 
| BRAIN 1.26.0 | Piotr Dittwald | OK | OK | OK | OK |  | 
| BrainStars 1.24.0 | Itoshi NIKAIDO | OK | OK | OK | OK |  | 
| branchpointer 1.6.0 | Beth Signal | OK | OK | OK | OK |  | 
| bridge 1.44.0 | Raphael Gottardo | OK | OK | OK | OK |  | 
| BridgeDbR 1.14.0 | Egon Willighagen | OK | OK | OK | OK |  | 
| BrowserViz 2.2.0 | Paul Shannon | OK | OK | OK | OK |  | 
| BrowserVizDemo |  | ...NOT SUPPORTED... | 
| BSgenome 1.48.0 | H. Pagès | OK | OK | WARNINGS | OK |  | 
| bsseq 1.16.1 | Kasper Daniel Hansen | OK | OK | WARNINGS | OK |  | 
| BubbleTree 2.10.0 | Todd Creasy , Wei Zhu | OK | OK | OK | OK |  | 
| BufferedMatrix 1.44.0 | Ben Bolstad | OK | OK | OK | OK |  | 
| BufferedMatrixMethods 1.44.0 | Ben Bolstad | OK | OK | OK | OK |  | 
| BUMHMM 1.4.0 | Alina Selega | OK | OK | OK | OK |  | 
| bumphunter 1.22.0 | Rafael A. Irizarry | OK | OK | OK | OK |  | 
| BUS 1.36.0 | Yuanhua Liu | OK | OK | OK | OK |  | 
|  | 
|  |  | 
| CAFE 1.16.0 | Sander Bollen | OK | OK | OK | OK |  | 
| CAGEfightR 1.0.0 | Malte Thodberg | OK | OK | OK | OK |  | 
| CAGEr 1.22.3 | Vanja Haberle , Charles Plessy | OK | OK | OK | OK |  | 
| CALIB 1.46.0 | Hui Zhao | OK | OK | WARNINGS | OK |  | 
| CAMERA 1.36.0 | Steffen Neumann | OK | OK | OK | OK |  | 
| canceR 1.14.0 | Karim Mezhoud | OK | OK | OK | OK |  | 
| cancerclass 1.24.0 | Daniel Kosztyla | OK | OK | WARNINGS | OK |  | 
| CancerInSilico 2.0.0 | Thomas D. Sherman | OK | OK | WARNINGS | OK |  | 
| CancerMutationAnalysis 1.22.0 | Simina M. Boca | OK | OK | OK | OK |  | 
| CancerSubtypes 1.6.0 | Taosheng Xu | OK | OK | OK | OK |  | 
| CAnD 1.12.0 | Caitlin McHugh | OK | OK | OK | OK |  | 
| caOmicsV 1.10.0 | Henry Zhang | OK | OK | OK | OK |  | 
| Cardinal 1.12.1 | Kylie A. Bemis | OK | OK | OK | OK |  | 
| casper 2.14.0 | David Rossell | OK | OK | WARNINGS | OK |  | 
| CATALYST 1.4.2 | Helena L. Crowell | OK | OK | OK | OK |  | 
| Category 2.46.0 | Bioconductor Package Maintainer | OK | OK | OK | OK |  | 
| categoryCompare 1.24.0 | Robert M. Flight | OK | OK | OK | OK |  | 
| CausalR 1.12.0 | Glyn Bradley , Steven Barrett | OK | OK | OK | OK |  | 
| cbaf 1.2.0 | Arman Shahrisa | OK | OK | OK | OK |  | 
| ccfindR 1.0.0 | Jun Woo | OK | OK | OK | OK |  | 
| ccmap 1.6.0 | Alex Pickering | OK | OK | OK | OK |  | 
| CCPROMISE 1.6.0 | Xueyuan Cao | OK | OK | WARNINGS | OK |  | 
| ccrepe 1.16.0 | Emma Schwager ,Craig Bielski, George Weingart | OK | OK | OK | OK |  | 
| cellbaseR 1.4.0 | Mohammed OE Abdallah | OK | ERROR | skipped | skipped |  | 
| cellGrowth 1.24.0 | Julien Gagneur | OK | OK | OK | OK |  | 
| cellHTS2 2.44.0 | Joseph Barry | OK | OK | WARNINGS | OK |  | 
| cellity 1.8.0 | Tomislav Ilicic | OK | OK | OK | OK |  | 
| CellMapper 1.6.0 | Brad Nelms | OK | OK | WARNINGS | OK |  | 
| CellNOptR 1.26.0 | A.Gabor | OK | OK | WARNINGS | OK |  | 
| cellscape 1.4.0 | Maia Smith | OK | OK | WARNINGS | OK |  | 
| CellScore 1.0.0 | Nancy Mah | OK | OK | OK | OK |  | 
| cellTree 1.10.0 | David duVerle | OK | OK | OK | OK |  | 
| CEMiTool 1.4.2 | Helder Nakaya | OK | OK | OK | OK |  | 
| CexoR 1.18.0 | Pedro Madrigal | OK | OK | OK | OK |  | 
| CFAssay 1.14.0 | Herbert Braselmann | OK | OK | OK | OK |  | 
| CGEN 3.16.0 | William Wheeler | OK | OK | OK | OK |  | 
| CGHbase 1.40.0 | Mark van de Wiel | OK | OK | OK | OK |  | 
| CGHcall 2.42.0 | Mark van de Wiel | OK | OK | OK | OK |  | 
| cghMCR 1.38.0 | J. Zhang | OK | OK | WARNINGS | OK |  | 
| CGHnormaliter 1.34.0 | Bart P.P. van Houte | OK | OK | OK | OK |  | 
| CGHregions 1.38.0 | Sjoerd Vosse | OK | OK | OK | OK |  | 
| ChAMP 2.10.2 | Yuan Tian | OK | OK | WARNINGS | OK |  | 
| CHARGE 1.0.0 | Benjamin Mayne | OK | OK | OK | OK |  | 
| charm 2.26.0 | Peter Murakami | OK | OK | WARNINGS | OK |  | 
| ChemmineOB 1.18.0 | Thomas Girke | OK | OK | WARNINGS | OK |  | 
| ChemmineR 3.32.1 | Thomas Girke | OK | OK | WARNINGS | OK |  | 
| ChIC 1.0.0 | Carmen Maria Livi | OK | OK | OK | OK |  | 
| Chicago 1.8.0 | Mikhail Spivakov | OK | OK | OK | OK |  | 
| chimera 1.22.0 | Raffaele A Calogero | OK | OK | OK | OK |  | 
| chimeraviz 1.6.2 | Stian Lågstad | OK | OK | OK | OK |  | 
| ChIPanalyser 1.2.0 | Patrick C.N. Martin | OK | OK | OK | OK |  | 
| ChIPComp 1.10.0 | Li Chen | OK | OK | OK | OK |  | 
| chipenrich 2.4.0 | Raymond G. Cavalcante | OK | OK | OK | OK |  | 
| ChIPexoQual 1.4.0 | Rene Welch | OK | OK | OK | OK |  | 
| ChIPpeakAnno 3.14.2 | Lihua Julie Zhu | OK | OK | OK | OK |  | 
| ChIPQC 1.16.1 | Tom Carroll , Rory Stark | OK | OK | OK | OK |  | 
| ChIPseeker 1.16.1 | Guangchuang Yu | OK | OK | OK | OK |  | 
| chipseq 1.30.0 | Bioconductor Package Maintainer | OK | OK | WARNINGS | OK |  | 
| ChIPseqR 1.34.0 | Peter Humburg | OK | OK | WARNINGS | OK |  | 
| ChIPSeqSpike 1.0.0 | Nicolas Descostes | OK | OK | OK | OK |  | 
| ChIPsim 1.34.0 | Peter Humburg | OK | OK | OK | OK |  | 
| ChIPXpress 1.24.0 | George Wu | OK | OK | OK | OK |  | 
| chopsticks 1.46.0 | Hin-Tak Leung | OK | OK | WARNINGS | OK |  | 
| chroGPS 1.28.0 | Oscar Reina | OK | OK | OK | OK |  | 
| chromDraw 2.10.0 | Jan Janecka | OK | OK | WARNINGS | OK |  | 
| ChromHeatMap 1.34.0 | Tim F. Rayner | OK | OK | OK | OK |  | 
| chromPlot 1.8.0 | Karen Y. Orostica | OK | OK | OK | OK |  | 
| chromstaR 1.6.2 | Aaron Taudt | OK | OK | OK | OK |  | 
| chromswitch 1.2.1 | Selin Jessa | OK | OK | OK | OK |  | 
| chromVAR 1.2.0 | Alicia Schep | OK | OK | OK | OK |  | 
| CHRONOS 1.8.1 | Panos Balomenos | OK | OK | OK | OK |  | 
| CINdex 1.8.0 | Yuriy Gusev | OK | OK | OK | OK |  | 
| cisPath 1.20.0 | Likun Wang | OK | OK | OK | OK |  | 
| ClassifyR 2.0.10 | Dario Strbenac | OK | OK | OK | OK |  | 
| cleanUpdTSeq 1.18.0 | Sarah Sheppard ; Jianhong Ou | OK | OK | OK | OK |  | 
| cleaver 1.18.0 | Sebastian Gibb | OK | OK | OK | OK |  | 
| clippda 1.30.0 | Stephen Nyangoma | OK | OK | WARNINGS | OK |  | 
| clipper 1.20.1 | Paolo Martini | OK | OK | OK | OK |  | 
| Clomial 1.16.0 | Habil Zare | OK | OK | OK | OK |  | 
| Clonality 1.28.0 | Irina Ostrovnaya | OK | OK | OK | OK |  | 
| clonotypeR 1.18.0 | Charles Plessy | OK | OK | OK | OK |  | 
| clst 1.28.0 | Noah Hoffman | OK | OK | WARNINGS | OK |  | 
| clstutils 1.28.0 | Noah Hoffman | OK | OK | WARNINGS | OK |  | 
| clustComp 1.8.0 | Aurora Torrente | OK | OK | OK | OK |  | 
| clusterExperiment 2.0.2 | Elizabeth Purdom | OK | OK | WARNINGS | OK |  | 
| ClusterJudge 1.2.0 | Adrian Pasculescu | OK | OK | OK | OK |  | 
| clusterProfiler 3.8.1 | Guangchuang Yu | OK | OK | OK | OK |  | 
| clusterSeq 1.4.0 | Thomas J. Hardcastle | OK | OK | OK | OK |  | 
| ClusterSignificance 1.8.2 | Jason T Serviss | OK | OK | OK | OK |  | 
| clusterStab 1.52.0 | James W. MacDonald | OK | OK | OK | OK |  | 
| CMA 1.38.0 | Christoph Bernau | OK | OK | OK | OK |  | 
| cn.farms 1.28.0 | Andreas Mitterecker | OK | OK | OK | OK |  | 
| cn.mops 1.26.0 | Guenter Klambauer | OK | OK | OK | OK |  | 
| CNAnorm 1.26.0 | Stefano Berri | OK | OK | OK | OK |  | 
| CNEr 1.16.1 | Ge Tan | OK | OK | OK | OK |  | 
| CNORdt 1.22.0 | A. MacNamara | OK | OK | OK | OK |  | 
| CNORfeeder 1.20.0 | F.Eduati | OK | OK | OK | OK |  | 
| CNORfuzzy 1.22.0 | T. Cokelaer | OK | OK | OK | OK |  | 
| CNORode 1.22.0 | David Henriques | OK | OK | OK | OK |  | 
| CNPBayes 1.10.0 | Jacob Carey | OK | OK | WARNINGS | OK |  | 
| CNTools 1.36.0 | J. Zhang | OK | OK | OK | OK |  | 
| cnvGSA 1.24.0 | Joseph Lugo | OK | OK | OK | OK |  | 
| CNVPanelizer 1.12.0 | Thomas Wolf | OK | OK | OK | OK |  | 
| CNVrd2 1.18.0 | Hoang Tan Nguyen | OK | OK | OK | OK |  | 
| CNVtools 1.74.0 | Chris Barnes | OK | OK | OK | OK |  | 
| cobindR 1.18.0 | Manuela Benary | OK | OK | WARNINGS | OK |  | 
| CoCiteStats 1.52.0 | Bioconductor Package Maintainer | OK | OK | OK | OK |  | 
| codelink 1.48.0 | Diego Diez | OK | OK | OK | OK |  | 
| CODEX 1.12.0 | Yuchao Jiang | OK | OK | OK | OK |  | 
| coexnet 1.2.0 | Juan David Henao | OK | OK | OK | OK |  | 
| CoGAPS 3.0.2 | Elana J. Fertig | OK | OK | OK | OK |  | 
| cogena 1.14.0 | Zhilong Jia | OK | OK | WARNINGS | OK |  | 
| coGPS 1.24.0 | Yingying Wei | OK | OK | OK | OK |  | 
| COHCAP 1.26.0 | Charles Warden | OK | OK | OK | OK |  | 
| coMET 1.12.0 | Tiphaine Martin | OK | OK | OK | OK |  | 
| COMPASS 1.18.1 | Greg Finak | OK | OK | OK | OK |  | 
| compcodeR 1.16.1 | Charlotte Soneson | OK | OK | OK | OK |  | 
| compEpiTools 1.14.1 | Kamal Kishore | OK | OK | OK | OK |  | 
| CompGO 1.16.0 | Ashley J. Waardenberg | OK | OK | OK | OK |  | 
| ComplexHeatmap 1.18.1 | Zuguang Gu | OK | OK | WARNINGS | OK |  | 
| CONFESS 1.8.0 | Diana LOW | OK | OK | WARNINGS | OK |  | 
| ConsensusClusterPlus 1.44.0 | Matt Wilkerson | OK | OK | OK | OK |  | 
| consensusOV 1.2.0 | Benjamin Haibe-Kains | OK | OK | OK | OK |  | 
| consensusSeekeR 1.8.0 | Astrid Deschenes | OK | OK | OK | OK |  | 
| contiBAIT 1.8.0 | Kieran O'Neill | OK | OK | OK | OK |  | 
| conumee 1.14.0 | Volker Hovestadt | OK | OK | OK | OK |  | 
| convert 1.56.0 | Yee Hwa (Jean) Yang | OK | OK | OK | OK |  | 
| copa 1.48.0 | James W. MacDonald | OK | OK | OK | OK |  | 
| copynumber 1.20.0 | Gro Nilsen | OK | OK | OK | OK |  | 
| CopywriteR 2.12.0 | Thomas Kuilman | OK | OK | OK | OK |  | 
| CoRegNet 1.18.0 | Remy Nicolle | OK | OK | WARNINGS | OK |  | 
| Cormotif 1.26.0 | Yingying Wei | OK | OK | OK | OK |  | 
| CorMut 1.22.0 | Zhenpeng Li | OK | OK | OK | OK |  | 
| CORREP 1.46.0 | Dongxiao Zhu | OK | OK | OK | OK |  | 
| coseq 1.4.0 | Andrea Rau | OK | OK | OK | OK |  | 
| cosmiq 1.14.0 | David Fischer , Christian Panse | OK | ERROR | skipped | skipped |  | 
| COSNet 1.14.0 | Marco Frasca | OK | OK | OK | OK |  | 
| CountClust 1.8.0 | Kushal Dey | OK | OK | OK | OK |  | 
| covEB 1.6.0 | C. Pacini | OK | OK | OK | OK |  | 
| CoverageView 1.18.0 | Ernesto Lowy | OK | OK | OK | OK |  | 
| covRNA 1.6.0 | Lara Urban | OK | OK | OK | OK |  | 
| cpvSNP 1.12.0 | Caitlin McHugh | OK | OK | OK | OK |  | 
| cqn 1.26.0 | Kasper Daniel Hansen | OK | OK | OK | OK |  | 
| CRImage 1.28.0 | Henrik Failmezger , Yinyin Yuan | OK | OK | OK | OK |  | 
| CRISPRseek 1.20.0 | Lihua Julie Zhu | OK | OK | WARNINGS | OK |  | 
| crisprseekplus 1.6.0 | Alper Kucukural | OK | OK | OK | OK |  | 
| CrispRVariants 1.8.0 | Helen Lindsay | OK | OK | OK | OK |  | 
| crlmm 1.38.0 | Benilton S Carvalho | OK | OK | OK | OK |  | 
| crossmeta 1.6.0 | Alex Pickering | OK | OK | WARNINGS | OK |  | 
| CSAR 1.32.0 | Jose M Muino | OK | OK | OK | OK |  | 
| csaw 1.14.1 | Aaron Lun | OK | OK | OK | OK |  | 
| CSSP 1.18.0 | Chandler Zuo | OK | OK | OK | OK |  | 
| ctc 1.54.0 | Antoine Lucas | OK | OK | OK | OK |  | 
| CTDquerier 1.0.0 | Carles Hernandez-Ferrer | OK | OK | OK | OK |  | 
| ctsGE 1.6.1 | Michal Sharabi-Schwager | OK | OK | OK | OK |  | 
| cummeRbund 2.22.0 | Loyal A. Goff | OK | OK | OK | OK |  | 
| customProDB 1.20.2 | Xiaojing Wang | OK | OK | OK | OK |  | 
| CVE 1.6.0 | Andreas Mock | OK | OK | WARNINGS | OK |  | 
| cycle 1.34.0 | Matthias Futschik | OK | OK | OK | OK |  | 
| cydar 1.4.0 | Aaron Lun | OK | OK | OK | OK |  | 
| CytoDx 1.0.1 | Zicheng Hu | OK | OK | OK | OK |  | 
| cytofkit 1.12.0 | Jinmiao Chen , Matthew Myint | OK | ERROR | skipped | skipped |  | 
| cytolib 1.2.0 | Mike Jiang | OK | OK | OK | OK |  | 
| CytoML 1.6.5 | Mike Jiang | OK | OK | OK | OK |  | 
|  | 
|  |  | 
| dada2 1.8.0 | Benjamin Callahan | OK | OK | OK | OK |  | 
| dagLogo 1.18.0 | Jianhong Ou | OK | OK | OK | OK |  | 
| daMA 1.52.0 | Jobst Landgrebe | OK | OK | OK | OK |  | 
| DaMiRseq 1.4.2 | Mattia Chiesa | OK | OK | OK | OK |  | 
| DAPAR 1.12.11 | Samuel Wieczorek | OK | OK | OK | OK |  | 
| DART 1.28.0 | Charles Shijie Zheng | OK | OK | OK | OK |  | 
| DASC1.2.0 | Haidong Yi | OK | ERROR | skipped | skipped |  | 
| DBChIP 1.24.0 | Kun Liang | OK | OK | OK | OK |  | 
| dcGSA 1.8.0 | Jiehuan sun | OK | OK | WARNINGS | OK |  | 
| DChIPRep 1.10.0 | Bernd Klaus | OK | OK | OK | OK |  | 
| ddCt 1.36.0 | Jitao David Zhang | OK | OK | OK | OK |  | 
| ddPCRclust 1.0.1 | Benedikt G. Brink | OK | OK | OK | OK |  | 
| debrowser 1.8.5 | Alper Kucukural | OK | OK | OK | OK |  | 
| DECIPHER 2.8.1 | Erik Wright | OK | OK | OK | OK |  | 
| DEComplexDisease 1.0.0 | Guofeng Meng | OK | OK | OK | OK |  | 
| DeconRNASeq 1.22.0 | Ting Gong | OK | OK | OK | OK |  | 
| decontam 1.0.0 | Benjamin Callahan | OK | OK | OK | OK |  | 
| DEDS 1.54.0 | Yuanyuan Xiao | OK | OK | OK | OK |  | 
| DeepBlueR 1.6.0 | Felipe Albrecht , Markus List | OK | OK | OK | OK |  | 
| deepSNV 1.26.1 | Moritz Gerstung | OK | OK | OK | OK |  | 
| DEFormats 1.8.0 | Andrzej Oleś | OK | OK | OK | OK |  | 
| DEGraph |  | ...NOT SUPPORTED... | 
| DEGreport 1.16.0 | Lorena Pantano | OK | OK | OK | OK |  | 
| DEGseq 1.34.1 | Likun Wang | OK | OK | OK | OK |  | 
| DelayedArray 0.6.6 | Hervé Pagès | OK | OK | WARNINGS | OK |  | 
| DelayedMatrixStats 1.2.0 | Peter Hickey | OK | OK | OK | OK |  | 
| deltaGseg 1.20.0 | Diana Low | OK | OK | OK | OK |  | 
| DeMAND 1.10.0 | Jung Hoon Woo , Mariano Alvarez | OK | OK | OK | OK |  | 
| DEP 1.2.0 | Arne Smits | OK | OK | OK | OK |  | 
| derfinder 1.14.0 | Leonardo Collado-Torres | OK | OK | OK | OK |  | 
| derfinderHelper 1.14.0 | Leonardo Collado-Torres | OK | OK | OK | OK |  | 
| derfinderPlot 1.14.0 | Leonardo Collado-Torres | OK | OK | OK | OK |  | 
| DEScan2 1.0.0 | Dario Righelli | OK | OK | OK | OK |  | 
| DESeq 1.32.0 | Simon Anders | OK | OK | OK | OK |  | 
| DESeq2 1.20.0 | Michael Love | OK | OK | OK | OK |  | 
| DEsingle 1.0.5 | Zhun Miao | OK | OK | OK | OK |  | 
| destiny 2.10.2 | Philipp Angerer | OK | OK | OK | OK |  | 
| DEsubs 1.6.3 | Aristidis G. Vrahatis , Panos Balomenos | OK | OK | OK | OK |  | 
| DEXSeq 1.26.0 | Alejandro Reyes | OK | OK | OK | OK |  | 
| dexus 1.20.0 | Guenter Klambauer | OK | OK | OK | OK |  | 
| DFP 1.38.0 | Rodrigo Alvarez-Glez | OK | OK | OK | OK |  | 
| DiffBind 2.8.0 | Rory Stark | OK | OK | OK | OK |  | 
| diffcoexp 1.0.0 | Wenbin Wei | OK | OK | OK | OK |  | 
| diffcyt 1.0.10 | Lukas M. Weber | OK | OK | OK | OK |  | 
| diffGeneAnalysis 1.62.0 | Choudary Jagarlamudi | OK | OK | OK | OK |  | 
| diffHic 1.12.1 | Aaron Lun | OK | OK | OK | OK |  | 
| DiffLogo 2.4.0 | Hendrik Treutler | OK | OK | OK | OK |  | 
| diffloop 1.8.0 | Caleb Lareau | OK | OK | OK | OK |  | 
| diffuStats 0.104.0 | Sergio Picart-Armada | OK | OK | OK | OK |  | 
| diggit 1.12.0 | Mariano J Alvarez | OK | OK | WARNINGS | OK |  | 
| Director 1.6.0 | Katherine Icay | OK | OK | OK | OK |  | 
| DirichletMultinomial 1.22.0 | Martin Morgan | OK | OK | OK | OK |  | 
| discordant 1.4.0 | Charlotte Siska | OK | OK | OK | OK |  | 
| dks 1.26.0 | Jeffrey T. Leek | OK | OK | OK | OK |  | 
| DMCHMM 1.2.0 | Farhad Shokoohi | OK | OK | OK | OK |  | 
| DMRcaller 1.12.7 | Nicolae Radu Zabet | OK | OK | OK | OK |  | 
| DMRcate 1.16.0 | Tim Peters | OK | OK | TIMEOUT | OK |  | 
| DMRforPairs 1.16.0 | Martin Rijlaarsdam | OK | OK | OK | OK |  | 
| DMRScan 1.6.0 | Christian M Page | OK | OK | OK | OK |  | 
| dmrseq 1.0.14 | Keegan Korthauer | OK | OK | OK | OK |  | 
| DNABarcodes 1.10.0 | Tilo Buschmann | OK | OK | OK | OK |  | 
| DNAcopy 1.54.0 | Venkatraman E. Seshan | OK | OK | OK | OK |  | 
| DNAshapeR 1.8.0 | Tsu-Pei Chiu | OK | OK | OK | OK |  | 
| DominoEffect 1.0.0 | Marija Buljan | OK | OK | OK | OK |  | 
| doppelgangR 1.8.0 | Levi Waldron | OK | OK | OK | OK |  | 
| DOQTL 1.16.2 | Daniel Gatti | OK | OK | WARNINGS | OK |  | 
| Doscheda 1.2.0 | Bruno Contrino | OK | OK | OK | OK |  | 
| DOSE 3.6.1 | Guangchuang Yu | OK | OK | OK | OK |  | 
| drawProteins 1.0.0 | Paul Brennan | OK | OK | OK | OK |  | 
| DRIMSeq 1.8.0 | Malgorzata Nowicka | OK | OK | OK | OK |  | 
| DriverNet 1.20.0 | Jiarui Ding | OK | OK | OK | OK |  | 
| DropletUtils 1.0.3 | Aaron Lun | OK | OK | OK | OK |  | 
| DrugVsDisease 2.22.0 | j. Saez-Rodriguez | OK | TIMEOUT | skipped | skipped |  | 
| dSimer 1.6.0 | Peng Ni | OK | OK | OK | OK |  | 
| DSS 2.28.0 | Hao Wu | OK | OK | OK | OK |  | 
| DTA 2.26.0 | Bjoern Schwalb | OK | OK | OK | OK |  | 
| dualKS 1.40.0 | Eric J. Kort | OK | OK | OK | OK |  | 
| DupChecker 1.18.0 | "Quanhu SHENG" | OK | OK | OK | OK |  | 
| dupRadar 1.10.0 | Sergi Sayols , Holger Klein | OK | OK | OK | OK |  | 
| dyebias 1.40.0 | Philip Lijnzaad | OK | OK | OK | OK |  | 
| DynDoc 1.58.0 | Bioconductor Package Maintainer | OK | OK | OK | OK |  | 
|  | 
|  |  | 
| EasyqpcR |  | ERROR (Bad DESCRIPTION file) | 
| easyRNASeq 2.16.0 | Nicolas Delhomme | OK | OK | OK | OK |  | 
| EBarrays 2.44.0 | Ming Yuan | OK | OK | OK | OK |  | 
| EBcoexpress 1.24.0 | John A. Dawson | OK | OK | OK | OK |  | 
| EBImage 4.22.1 | Andrzej Oleś | OK | OK | OK | OK |  | 
| EBSEA 1.8.0 | Arfa Mehmood | OK | OK | OK | OK |  | 
| EBSeq 1.20.0 | Ning Leng | OK | OK | OK | OK |  | 
| EBSeqHMM 1.14.0 | Ning Leng | OK | OK | OK | OK |  | 
| ecolitk 1.52.0 | Laurent Gautier | OK | OK | WARNINGS | OK |  | 
| EDASeq 2.14.1 | Davide Risso | OK | OK | OK | OK |  | 
| EDDA 1.18.0 | Chia Kuan Hui Burton , Niranjan Nagarajan | OK | OK | WARNINGS | OK |  | 
| edge 2.12.2 | John D. Storey , Andrew J. Bass | OK | OK | OK | OK |  | 
| edgeR 3.22.5 | Yunshun Chen , Aaron Lun , Mark Robinson , Davis McCarthy , Gordon Smyth | OK | OK | OK | OK |  | 
| eegc 1.6.1 | Xiaoyuan Zhou | OK | OK | WARNINGS | OK |  | 
| EGAD 1.8.0 | Sara Ballouz | OK | OK | WARNINGS | OK |  | 
| EGSEA 1.8.0 | Monther Alhamdoosh | OK | OK | OK | OK |  | 
| eiR 1.20.0 | Thomas Girke | OK | OK | OK | OK |  | 
| eisa 1.32.0 | Gabor Csardi | OK | OK | OK | OK |  | 
| ELBOW 1.16.0 | Graham Alvare , Xiangli Zhang | OK | OK | OK | OK |  | 
| ELMER 2.4.4 | Tiago Chedraoui Silva | OK | OK | WARNINGS | OK |  | 
| EMDomics 2.10.0 | Sadhika Malladi  and Daniel Schmolze | OK | OK | OK | OK |  | 
| EmpiricalBrownsMethod 1.8.0 | David Gibbs | OK | OK | OK | OK |  | 
| ENCODExplorer 2.6.0 | Charles Joly Beauparlant | OK | OK | OK | OK |  | 
| ENmix 1.16.0 | Zongli Xu | OK | OK | OK | OK |  | 
| EnrichedHeatmap 1.10.0 | Zuguang Gu | OK | OK | OK | OK |  | 
| EnrichmentBrowser 2.10.11 | Ludwig Geistlinger | OK | OK | OK | OK |  | 
| enrichplot 1.0.2 | Guangchuang Yu | OK | OK | OK | OK |  | 
| ensembldb 2.4.1 | Johannes Rainer | OK | OK | OK | OK |  | 
| ensemblVEP 1.22.1 | Bioconductor Package Maintainer | OK | OK | OK | OK |  | 
| ENVISIONQuery 1.28.0 | Alex Lisovich , Roger Day | OK | OK | OK | OK |  | 
| EpiDISH 1.2.0 | Shijie Charles Zheng | OK | OK | OK | OK |  | 
| epigenomix 1.20.0 | Hans-Ulrich Klein | OK | OK | OK | OK |  | 
| epiNEM 1.4.0 | Martin Pirkl | OK | OK | OK | OK |  | 
| epivizr 2.10.0 | Hector Corrada Bravo | OK | OK | OK | OK |  | 
| epivizrChart 1.2.0 | Hector Corrada Bravo | OK | OK | WARNINGS | OK |  | 
| epivizrData 1.8.0 | Hector Corrada Bravo | OK | OK | WARNINGS | OK |  | 
| epivizrServer 1.8.1 | Hector Corrada Bravo | OK | OK | WARNINGS | OK |  | 
| epivizrStandalone 1.8.0 | Hector Corrada Bravo | OK | OK | OK | OK |  | 
| erccdashboard 1.14.0 | Sarah Munro | OK | OK | OK | OK |  | 
| erma 0.12.0 | VJ Carey | OK | OK | OK | OK |  | 
| esATAC 1.2.3 | Zheng Wei , Wei Zhang | OK | OK | OK | OK |  | 
| esetVis 1.6.3 | Laure Cougnaud | OK | OK | OK | OK |  | 
| eudysbiome 1.10.0 | Xiaoyuan Zhou | OK | OK | OK | OK |  | 
| EventPointer 1.4.0 | Juan Pablo Romero | OK | OK | OK | OK |  | 
| ExiMiR 2.22.0 | Sylvain Gubian | OK | OK | OK | OK |  | 
| exomeCopy 1.26.0 | Michael Love | OK | OK | OK | OK |  | 
| exomePeak 2.14.0 | Lin Zhang , Lian Liu , Jia Meng | OK | OK | OK | OK |  | 
| ExperimentHub 1.6.1 | Bioconductor Package Maintainer | OK | OK | OK | OK |  | 
| ExperimentHubData 1.6.0 | Bioconductor Package Maintainer | OK | OK | OK | OK |  | 
| explorase |  | ...NOT SUPPORTED... | 
| ExpressionAtlas 1.8.1 | Suhaib Mohammed | OK | OK | OK | OK |  | 
| ExpressionView 1.32.0 | Gabor Csardi | OK | OK | OK | OK |  | 
|  | 
|  |  | 
| fabia 2.26.0 | Sepp Hochreiter | OK | OK | OK | OK |  | 
| facopy 1.14.0 | David Mosen-Ansorena | ERROR | ERROR | skipped | skipped |  | 
| factDesign 1.56.0 | Denise Scholtens | OK | OK | OK | OK |  | 
| FamAgg 1.8.0 | Johannes Rainer | OK | OK | OK | OK |  | 
| farms 1.32.0 | Djork-Arne Clevert | OK | OK | OK | OK |  | 
| fastLiquidAssociation 1.16.0 | Tina Gunderson | OK | OK | WARNINGS | OK |  | 
| fastseg 1.26.0 | Guenter Klambauer | OK | OK | OK | OK |  | 
| fCCAC 1.6.0 | Pedro Madrigal | OK | OK | OK | OK |  | 
| fCI 1.10.0 | Shaojun Tang | OK | OK | WARNINGS | OK |  | 
| fdrame 1.52.0 | Effi Kenigsberg | OK | OK | OK | OK |  | 
| FELLA 1.0.1 | Sergio Picart-Armada | OK | OK | OK | OK |  | 
| FEM 3.8.0 | Zhen Yang | OK | OK | WARNINGS | OK |  | 
| ffpe 1.24.0 | Levi Waldron | OK | OK | OK | OK |  | 
| FGNet 3.14.0 | Sara Aibar | OK | ERROR | skipped | skipped |  | 
| fgsea 1.6.0 | Alexey Sergushichev | OK | OK | OK | OK |  | 
| FindMyFriends 1.10.0 | Thomas Lin Pedersen | OK | OK | WARNINGS | OK |  | 
| FISHalyseR 1.14.0 | Karesh Arunakirinathan | OK | OK | WARNINGS | OK |  | 
| FitHiC 1.6.0 | Ruyu Tan | OK | OK | OK | OK |  | 
| flagme 1.36.0 | Mark Robinson , Riccardo Romoli | OK | OK | WARNINGS | OK |  | 
| flipflop 1.18.0 | Elsa Bernard | OK | OK | WARNINGS | OK |  | 
| flowAI 1.10.1 | Gianni Monaco | OK | OK | OK | OK |  | 
| flowBeads 1.18.0 | Nikolas Pontikos | OK | OK | OK | OK |  | 
| flowBin 1.16.0 | Kieran O'Neill | OK | OK | OK | OK |  | 
| flowcatchR 1.14.0 | Federico Marini | OK | OK | OK | OK |  | 
| flowCHIC 1.14.0 | Author: Joachim Schumann | OK | OK | OK | OK |  | 
| flowCL 1.18.1 | Justin Meskas | OK | OK | OK | OK |  | 
| flowClean 1.18.0 | Kipper Fletez-Brant | OK | OK | WARNINGS | OK |  | 
| flowClust 3.18.0 | Greg Finak , Mike Jiang | OK | OK | WARNINGS | OK |  | 
| flowCore 1.46.2 | M.Jiang | OK | OK | WARNINGS | OK |  | 
| flowCyBar 1.16.0 | Joachim Schumann | OK | OK | OK | OK |  | 
| flowDensity 1.14.0 | Mehrnoush Malek | OK | OK | WARNINGS | OK |  | 
| flowFit 1.18.0 | Davide Rambaldi | OK | OK | OK | OK |  | 
| flowFP 1.38.0 | Herb Holyst | OK | OK | OK | OK |  | 
| flowMap 1.18.0 | Chiaowen Joyce Hsiao | OK | OK | WARNINGS | OK |  | 
| flowMatch 1.16.0 | Ariful Azad | OK | OK | OK | OK |  | 
| flowMeans 1.40.0 | Nima Aghaeepour | OK | OK | WARNINGS | OK |  | 
| flowMerge 2.28.0 | Greg Finak | OK | OK | WARNINGS | OK |  | 
| flowPeaks 1.26.0 | Yongchao Ge | OK | OK | OK | OK |  | 
| flowPloidy 1.6.0 | Tyler Smith | OK | OK | OK | OK |  | 
| flowPlots 1.28.0 | N. Hawkins | OK | OK | OK | OK |  | 
| flowQ |  | ...NOT SUPPORTED... | 
| flowQB 2.8.0 | Josef Spidlen | OK | OK | OK | OK |  | 
| FlowRepositoryR 1.12.0 | Josef Spidlen | OK | OK | OK | OK |  | 
| FlowSOM 1.12.0 | Sofie Van Gassen | OK | OK | WARNINGS | OK |  | 
| flowStats 3.38.0 | Greg Finak  and Mike Jiang | OK | OK | OK | OK |  | 
| flowTime 1.4.0 | R. Clay Wright | OK | OK | OK | OK |  | 
| flowTrans 1.32.0 | Greg Finak | OK | OK | OK | OK |  | 
| flowType 2.18.0 | Nima Aghaeepour | OK | OK | WARNINGS | OK |  | 
| flowUtils 1.44.0 | Josef Spidlen | OK | OK | OK | OK |  | 
| flowViz 1.44.0 | Mike Jiang | OK | OK | OK | OK |  | 
| flowVS 1.12.0 | Ariful Azad | OK | OK | OK | OK |  | 
| flowWorkspace 3.28.2 | Greg Finak ,Mike Jiang | OK | OK | WARNINGS | OK |  | 
| fmcsR 1.22.0 | Thomas Girke | OK | OK | OK | OK |  | 
| focalCall 1.14.0 | Oscar Krijgsman | OK | OK | OK | OK |  | 
| FourCSeq 1.14.0 | Felix A. Klein | OK | OK | WARNINGS | OK |  | 
| FRGEpistasis 1.16.0 | Futao Zhang | OK | OK | OK | OK |  | 
| frma 1.32.0 | Matthew N. McCall | OK | OK | OK | OK |  | 
| frmaTools 1.32.0 | Matthew N. McCall | OK | OK | OK | OK |  | 
| FunChIP 1.6.0 | Alice Parodi | OK | OK | WARNINGS | OK |  | 
| FunciSNP 1.24.0 | Simon G. Coetzee | OK | OK | OK | OK |  | 
| funtooNorm 1.4.0 | Kathleen Klein | OK | OK | OK | OK |  | 
|  | 
|  |  | 
| GA4GHclient 1.4.0 | Welliton Souza | OK | OK | OK | OK |  | 
| GA4GHshiny 1.2.0 | Welliton Souza | OK | OK | OK | OK |  | 
| gaga 2.26.0 | David Rossell | OK | OK | WARNINGS | OK |  | 
| gage 2.30.0 | Weijun Luo | OK | OK | OK | OK |  | 
| gaggle 1.48.0 | Christopher Bare | OK | OK | OK | OK |  | 
| gaia 2.24.0 | S. Morganella | OK | OK | OK | OK |  | 
| GAprediction 1.6.0 | Jon Bohlin | OK | OK | OK | OK |  | 
| garfield 1.8.0 | Valentina Iotchkova | OK | OK | OK | OK |  | 
| GARS 1.0.0 | Mattia Chiesa | OK | OK | OK | OK |  | 
| GateFinder 1.0.0 | Nima Aghaeepour | OK | OK | OK | OK |  | 
| gaucho 1.16.0 | Alex Murison | OK | OK | ERROR | OK |  | 
| gcapc 1.4.0 | Mingxiang Teng | OK | OK | OK | OK |  | 
| gcatest 1.10.0 | Wei Hao , John D. Storey | OK | OK | OK | OK |  | 
| gCMAP 1.24.0 | Thomas Sandmann | OK | OK | OK | OK |  | 
| gCMAPWeb 1.20.0 | Thomas Sandmann | OK | OK | OK | OK |  | 
| gCrisprTools 1.8.0 | Peter Haverty | OK | OK | OK | OK |  | 
| gcrma 2.52.0 | Z. Wu | OK | OK | OK | OK |  | 
| GDCRNATools 1.0.7 | Ruidong Li | OK | OK | OK | OK |  | 
| GDSArray 1.0.0 | Qian Liu | OK | OK | OK | OK |  | 
| gdsfmt 1.16.0 | Xiuwen Zheng | OK | OK | OK | OK |  | 
| geecc 1.14.0 | Markus Boenn | OK | OK | OK | OK |  | 
| GEM 1.6.0 | Hong Pan | OK | OK | OK | OK |  | 
| genArise 1.56.0 | IFC Development Team | OK | OK | WARNINGS | OK |  | 
| genbankr 1.8.0 | Gabriel Becker | OK | OK | OK | OK |  | 
| GeneAnswers 2.22.0 | Lei Huang  and Gang Feng | OK | OK | WARNINGS | OK |  | 
| geneAttribution 1.6.0 | Arthur Wuster | OK | OK | OK | OK |  | 
| GeneBreak 1.10.0 | Evert van den Broek | OK | OK | OK | OK |  | 
| geneClassifiers 1.4.0 | R Kuiper | OK | OK | OK | OK |  | 
| GeneExpressionSignature 1.26.0 | Yang Cao , Fei Li | OK | OK | OK | OK |  | 
| genefilter 1.62.0 | Bioconductor Package Maintainer | OK | OK | WARNINGS | OK |  | 
| genefu 2.12.0 | Benjamin Haibe-Kains , Markus Schroeder | OK | OK | WARNINGS | OK |  | 
| GeneGA 1.30.0 | Zhenpeng Li | OK | OK | OK | OK |  | 
| GeneGeneInteR 1.6.0 | Mathieu Emily , Magalie Houee-Bigot | OK | OK | OK | OK |  | 
| GeneMeta 1.52.0 | Bioconductor Package Maintainer | OK | OK | OK | OK |  | 
| GeneNetworkBuilder 1.22.0 | Jianhong Ou | OK | OK | OK | OK |  | 
| GeneOverlap 1.16.0 | Li Shen, Mount Sinai | OK | OK | OK | OK |  | 
| geneplast 1.6.2 | Mauro Castro | OK | OK | OK | OK |  | 
| geneplotter 1.58.0 | Bioconductor Package Maintainer | OK | OK | OK | OK |  | 
| geneRecommender 1.52.0 | Greg Hather | OK | OK | OK | OK |  | 
| GeneRegionScan 1.36.0 | Lasse Folkersen | OK | OK | OK | OK |  | 
| geneRxCluster 1.16.0 | Charles Berry | OK | OK | OK | OK |  | 
| GeneSelectMMD 2.24.0 | Weiliang Qiu | OK | OK | WARNINGS | OK |  | 
| GeneSelector 2.30.0 | Martin Slawski | OK | OK | OK | OK |  | 
| GENESIS 2.10.1 | Stephanie M. Gogarten | OK | OK | OK | OK |  | 
| GeneStructureTools 1.0.0 | Beth Signal | OK | OK | OK | OK |  | 
| geNetClassifier 1.20.0 | Sara Aibar | OK | OK | OK | OK |  | 
| GeneticsDesign 1.48.0 | The R Genetics Project | OK | OK | OK | OK |  | 
| GeneticsPed 1.42.0 | David Henderson | OK | OK | OK | OK |  | 
| geneXtendeR 1.6.0 | Bohdan Khomtchouk | OK | OK | OK | OK |  | 
| GENIE3 1.2.1 | Van Anh Huynh-Thu | OK | OK | OK | OK |  | 
| genoCN 1.32.0 | Wei Sun | OK | OK | OK | OK |  | 
| GenoGAM 1.8.0 | Georg Stricker | OK | OK | WARNINGS | OK |  | 
| genomation 1.12.0 | Altuna Akalin , Vedran Franke | OK | OK | OK | OK |  | 
| GenomeGraphs 1.40.0 | Steffen Durinck | OK | OK | OK | OK |  | 
| GenomeInfoDb 1.16.0 | Bioconductor Package Maintainer | OK | OK | OK | OK |  | 
| genomeIntervals 1.36.0 | Julien Gagneur | OK | OK | OK | OK |  | 
| genomes 3.10.0 | Chris Stubben | OK | OK | OK | OK |  | 
| GenomicAlignments 1.16.0 | Bioconductor Package Maintainer | OK | OK | WARNINGS | OK |  | 
| GenomicDataCommons 1.4.3 | Sean Davis | OK | OK | WARNINGS | OK |  | 
| GenomicFeatures 1.32.3 | Bioconductor Package Maintainer | OK | OK | WARNINGS | OK |  | 
| GenomicFiles 1.16.0 | Bioconductor Package Maintainer | OK | OK | OK | OK |  | 
| GenomicInteractions 1.14.0 | Liz Ing-Simmons | OK | OK | OK | OK |  | 
| GenomicRanges 1.32.7 | Bioconductor Package Maintainer | OK | OK | WARNINGS | OK |  | 
| GenomicScores 1.4.1 | Robert Castelo | OK | OK | WARNINGS | OK |  | 
| GenomicTuples 1.14.1 | Peter Hickey | OK | OK | OK | OK |  | 
| Genominator 1.34.0 | James Bullard | OK | OK | OK | OK |  | 
| genoset 1.36.0 | Peter M. Haverty | OK | OK | WARNINGS | OK |  | 
| genotypeeval 1.12.0 | Jennifer Tom | OK | OK | WARNINGS | OK |  | 
| genphen 1.8.0 | Simo Kitanovski | OK | OK | OK | OK |  | 
| GenRank 1.8.0 | Chakravarthi Kanduri | OK | OK | OK | OK |  | 
| GenVisR 1.12.1 | Zachary Skidmore | OK | OK | ERROR | OK |  | 
| GEOmetadb 1.42.0 | Jack Zhu | OK | OK | OK | OK |  | 
| GEOquery 2.48.0 | Sean Davis | OK | OK | OK | OK |  | 
| GEOsubmission 1.32.0 | Alexandre Kuhn | OK | OK | OK | OK |  | 
| gep2pep 1.0.0 | Francesco Napolitano | OK | OK | OK | OK |  | 
| gespeR 1.12.0 | Fabian Schmich | OK | OK | WARNINGS | OK |  | 
| GEWIST 1.24.0 | Wei Q. Deng | OK | OK | OK | OK |  | 
| GGBase 3.42.0 | VJ Carey | OK | OK | OK | OK |  | 
| ggbio 1.28.5 | Michael Lawrence | OK | OK | OK | OK |  | 
| ggcyto 1.8.2 | Mike Jiang | OK | OK | OK | OK |  | 
| GGtools 5.16.0 | VJ Carey | OK | OK | OK | OK |  | 
| ggtree 1.12.7 | Guangchuang Yu | OK | OK | OK | OK |  | 
| girafe 1.32.0 | J. Toedling | OK | OK | OK | OK |  | 
| GISPA 1.4.0 | Bhakti Dwivedi | OK | OK | OK | OK |  | 
| GLAD 2.44.0 | Philippe Hupe | OK | OK | OK | OK |  | 
| Glimma 1.8.2 | Shian Su | OK | OK | OK | OK |  | 
| GlobalAncova 3.48.0 | Manuela Hummel | OK | OK | OK | OK |  | 
| globalSeq 1.8.0 | Armin Rauschenberger | OK | OK | OK | OK |  | 
| globaltest 5.34.1 | Jelle Goeman | OK | OK | OK | OK |  | 
| gmapR 1.22.0 | Michael Lawrence | OK | OK | WARNINGS | OK |  | 
| GMRP 1.8.1 | Yuan-De Tan | OK | OK | OK | OK |  | 
| GOexpress 1.14.0 | Kevin Rue-Albrecht | OK | OK | OK | OK |  | 
| GOfuncR 1.0.0 | Steffi Grote | OK | OK | OK | OK |  | 
| GOFunction 1.28.0 | Jing Wang | OK | OK | OK | OK |  | 
| GoogleGenomics 2.2.0 | Siddhartha Bagaria | OK | OK | OK | OK |  | 
| GOpro 1.6.0 | Lidia Chrabaszcz | OK | OK | WARNINGS | OK |  | 
| goProfiles 1.42.0 | Alex Sanchez | OK | OK | OK | OK |  | 
| GOSemSim 2.6.2 | Guangchuang Yu | OK | OK | OK | OK |  | 
| goseq 1.32.0 | Nadia Davidson , Anthony Hawkins | OK | OK | OK | OK |  | 
| GOSim 1.18.0 | Holger Froehlich | OK | OK | OK | OK |  | 
| goSTAG 1.4.0 | Brian D. Bennett | OK | OK | OK | OK |  | 
| GOstats 2.46.0 | Bioconductor Package Maintainer | OK | OK | OK | OK |  | 
| GOsummaries 2.16.1 | Raivo Kolde | OK | OK | OK | OK |  | 
| GOTHiC 1.16.0 | Borbala Mifsud | OK | OK | OK | OK |  | 
| goTools 1.54.0 | Agnes Paquet | OK | OK | OK | OK |  | 
| gpls 1.52.0 | Bioconductor Package Maintainer | OK | OK | WARNINGS | OK |  | 
| gprege 1.24.0 | Alfredo Kalaitzis | OK | OK | OK | OK |  | 
| gQTLBase 1.12.0 | VJ Carey | OK | OK | OK | OK |  | 
| gQTLstats 1.12.0 | VJ Carey | OK | OK | OK | OK |  | 
| graph 1.58.2 | Bioconductor Package Maintainer | OK | OK | OK | OK |  | 
| GraphAlignment 1.44.0 | Joern P. Meier | OK | OK | OK | OK |  | 
| GraphAT 1.52.0 | Thomas LaFramboise | OK | OK | OK | OK |  | 
| graphite 1.26.3 | Gabriele Sales | OK | OK | OK | OK |  | 
| GraphPAC 1.22.1 | Gregory Ryslik | OK | OK | OK | OK |  | 
| GRENITS 1.32.0 | Edward Morrissey | OK | OK | OK | OK |  | 
| GreyListChIP 1.12.0 | Gordon Brown | OK | OK | OK | OK |  | 
| GRmetrics 1.6.1 | Nicholas Clark , Mario Medvedovic | OK | OK | OK | OK |  | 
| groHMM 1.14.0 | Anusha Nagari , Tulip Nandu , W. Lee Kraus | OK | OK | OK | OK |  | 
| GRridge 1.4.0 | Mark A. van de Wiel | OK | OK | WARNINGS | OK |  | 
| GSALightning 1.8.0 | Billy Heung Wing Chang | OK | OK | OK | OK |  | 
| GSAR 1.14.0 | Yasir Rahmatallah , Galina Glazko | OK | OK | OK | OK |  | 
| GSCA 2.10.0 | Zhicheng Ji | OK | OK | OK | OK |  | 
| GSEABase 1.42.0 | Bioconductor Package Maintainer | OK | OK | OK | OK |  | 
| GSEABenchmarkeR 1.0.0 | Ludwig Geistlinger | OK | OK | OK | OK |  | 
| GSEAlm 1.40.0 | Assaf Oron | OK | OK | OK | OK |  | 
| gsean 1.0.0 | Dongmin Jung | OK | OK | OK | OK |  | 
| GSReg 1.14.0 | Bahman Afsari , Elana J. Fertig | OK | OK | WARNINGS | OK |  | 
| GSRI 2.28.0 | Julian Gehring | OK | OK | OK | OK |  | 
| GSVA 1.28.0 | Justin Guinney | OK | OK | OK | OK |  | 
| gtrellis 1.12.1 | Zuguang Gu | OK | OK | OK | OK |  | 
| GUIDEseq 1.10.0 | Lihua Julie Zhu | OK | OK | OK | OK |  | 
| Guitar 1.18.0 | Jia Meng | OK | OK | OK | OK |  | 
| Gviz 1.24.0 | Robert Ivanek | OK | OK | OK | OK |  | 
| gwascat 2.12.0 | VJ Carey | OK | OK | OK | OK |  | 
| GWASTools 1.26.1 | Stephanie M. Gogarten , Adrienne Stilp | OK | OK | OK | OK |  | 
|  | 
|  |  | 
| h5vc 2.14.0 | Paul Theodor Pyl | OK | OK | OK | OK |  | 
| hapFabia 1.22.0 | Sepp Hochreiter | OK | OK | OK | OK |  | 
| Harman 1.8.0 | Jason Ross | OK | OK | OK | OK |  | 
| Harshlight 1.52.0 | Maurizio Pellegrino | OK | OK | OK | OK |  | 
| HDF5Array 1.8.1 | Hervé Pagès | OK | OK | OK | OK |  | 
| HDTD 1.14.0 | Anestis Touloumis | OK | OK | OK | OK |  | 
| heatmaps 1.4.0 | Malcolm Perry | OK | OK | OK | OK |  | 
| Heatplus 2.26.0 | Alexander Ploner | OK | OK | OK | OK |  | 
| HelloRanges 1.6.0 | Michael Lawrence | OK | OK | WARNINGS | OK |  | 
| HELP 1.38.0 | Reid F. Thompson | OK | OK | OK | OK |  | 
| HEM 1.52.0 | HyungJun Cho | OK | OK | OK | OK |  | 
| hiAnnotator 1.14.0 | Nirav V Malani | OK | OK | OK | OK |  | 
| HIBAG 1.16.0 | Xiuwen Zheng | OK | OK | OK | OK |  | 
| HiCcompare 1.2.0 | John Stansfield | OK | OK | OK | OK |  | 
| hicrep 1.4.0 | Tao Yang | OK | OK | OK | OK |  | 
| hierGWAS 1.10.0 | Laura Buzdugan | OK | OK | OK | OK |  | 
| HilbertCurve 1.10.1 | Zuguang Gu | OK | OK | OK | OK |  | 
| HilbertVis 1.38.0 | Simon Anders | OK | OK | WARNINGS | OK |  | 
| HilbertVisGUI |  | ...NOT SUPPORTED... | 
| hipathia 1.0.0 | Marta R. Hidalgo | OK | OK | OK | OK |  | 
| hiReadsProcessor 1.16.0 | Nirav V Malani | OK | OK | OK | OK |  | 
| HiTC 1.24.0 | Nicolas Servant | OK | OK | OK | OK |  | 
| hmdbQuery 1.0.1 | VJ Carey | OK | OK | OK | OK |  | 
| HMMcopy 1.22.0 | Daniel Lai , Sohrab Shah | OK | OK | OK | OK |  | 
| hopach 2.40.0 | Katherine S. Pollard | OK | OK | OK | OK |  | 
| hpar 1.22.2 | Laurent Gatto | OK | OK | OK | OK |  | 
| HTqPCR 1.34.0 | Heidi Dvinge | OK | OK | OK | OK |  | 
| HTSanalyzeR 2.32.0 | Xin Wang | OK | OK | WARNINGS | OK |  | 
| HTSeqGenie |  | ...NOT SUPPORTED... | 
| htSeqTools 1.28.3 | Oscar Reina | OK | OK | WARNINGS | OK |  | 
| HTSFilter 1.20.0 | Andrea Rau | OK | OK | OK | OK |  | 
| HybridMTest 1.24.0 | Demba Fofana | OK | OK | OK | OK |  | 
| hyperdraw 1.32.0 | Paul Murrell | OK | OK | OK | OK |  | 
| hypergraph 1.52.0 | Bioconductor Package Maintainer | OK | OK | OK | OK |  | 
|  | 
|  |  | 
| iASeq 1.24.0 | Yingying Wei | OK | OK | OK | OK |  | 
| iBBiG 1.24.0 | Aedin Culhane | OK | OK | OK | OK |  | 
| ibh 1.28.0 | Kircicegi Korkmaz | OK | OK | OK | OK |  | 
| iBMQ |  | ...NOT SUPPORTED... | 
| iCARE 1.8.0 | Bill Wheeler | OK | OK | WARNINGS | OK |  | 
| Icens 1.52.0 | Bioconductor Package Maintainer | OK | OK | OK | OK |  | 
| iCheck 1.10.0 | Weiliang Qiu | OK | OK | WARNINGS | OK |  | 
| iChip 1.34.0 | Qianxing Mo | OK | OK | OK | OK |  | 
| iClusterPlus 1.16.0 | Qianxing Mo , Ronglai Shen | OK | OK | WARNINGS | OK |  | 
| iCNV 1.0.0 | Zilu Zhou | OK | OK | WARNINGS | OK |  | 
| iCOBRA 1.8.0 | Charlotte Soneson | OK | OK | OK | OK |  | 
| ideal 1.4.0 | Federico Marini | OK | OK | OK | OK |  | 
| IdeoViz 1.16.0 | Shraddha Pai | OK | OK | WARNINGS | OK |  | 
| idiogram 1.56.0 | Karl J. Dykema | OK | OK | OK | OK |  | 
| IdMappingAnalysis 1.24.0 | Alex Lisovich , Roger Day | OK | OK | OK | OK |  | 
| IdMappingRetrieval 1.28.0 | Alex Lisovich , Roger Day | OK | OK | OK | OK |  | 
| iGC 1.10.0 | Liang-Bo Wang | OK | OK | OK | OK |  | 
| igvR 1.0.1 | Paul Shannon | OK | OK | OK | OK |  | 
| IHW 1.8.0 | Nikos Ignatiadis | OK | OK | OK | OK |  | 
| illuminaio 0.22.0 | Kasper Daniel Hansen | OK | OK | OK | OK |  | 
| imageHTS 1.30.0 | Joseph Barry | OK | OK | OK | OK |  | 
| IMAS 1.4.0 | Seonggyun Han | OK | OK | OK | OK |  | 
| Imetagene 1.10.0 | Audrey Lemacon | OK | OK | OK | OK |  | 
| IMMAN 1.0.0 | Minoo Ashtiani | OK | OK | OK | OK |  | 
| ImmuneSpaceR 1.8.2 | ImmuneSpace Package Maintainer | OK | ERROR | skipped | skipped |  | 
| immunoClust 1.12.0 | Till Soerensen | OK | OK | OK | OK |  | 
| IMPCdata 1.16.0 | Jeremy Mason | OK | OK | OK | OK |  | 
| ImpulseDE 1.6.0 | Jil Sander , Nir Yosef | OK | OK | OK | OK |  | 
| ImpulseDE2 1.4.0 | David S Fischer | OK | OK | OK | OK |  | 
| impute 1.54.0 | Balasubramanian Narasimhan | OK | OK | OK | OK |  | 
| InPAS 1.12.0 | Jianhong Ou | OK | OK | OK | OK |  | 
| INPower 1.16.0 | Bill Wheeler | OK | OK | OK | OK |  | 
| INSPEcT 1.10.0 | Stefano de Pretis | OK | OK | OK | OK |  | 
| InTAD 1.0.0 | Konstantin Okonechnikov | OK | OK | OK | OK |  | 
| intansv 1.22.0 | Wen Yao | OK | OK | OK | OK |  | 
| InteractionSet 1.8.0 | Aaron Lun | OK | OK | OK | OK |  | 
| interactiveDisplay 1.18.0 | Shawn Balcome | OK | OK | WARNINGS | OK |  | 
| interactiveDisplayBase 1.18.0 | Shawn Balcome | OK | OK | OK | OK |  | 
| IntEREst 1.4.1 | Ali Oghabian , Mikko Frilander | OK | OK | OK | OK |  | 
| InterMineR 1.2.1 | InterMine Team | OK | ERROR | skipped | skipped |  | 
| IntramiRExploreR 1.2.0 | Surajit Bhattacharya | OK | OK | OK | OK |  | 
| inveRsion 1.28.0 | Alejandro Caceres | OK | OK | OK | OK |  | 
| IONiseR 2.4.0 | Mike Smith | OK | OK | OK | OK |  | 
| iPAC 1.24.2 | Gregory Ryslik | OK | OK | OK | OK |  | 
| IPO 1.6.0 | Thomas Riebenbauer | OK | OK | OK | OK |  | 
| IPPD 1.28.0 | Martin Slawski | OK | OK | OK | OK |  | 
| IRanges 2.14.12 | Bioconductor Package Maintainer | OK | OK | WARNINGS | OK |  | 
| IrisSpatialFeatures 1.4.0 | Daniel Gusenleitner | OK | ERROR | skipped | skipped |  | 
| iSEE 1.0.1 | Federico Marini | OK | OK | OK | OK |  | 
| iSeq 1.32.0 | Qianxing Mo | OK | OK | OK | OK |  | 
| isobar 1.26.0 | Florian P Breitwieser | OK | OK | WARNINGS | OK |  | 
| IsoformSwitchAnalyzeR 1.2.0 | Kristoffer Vitting-Seerup | OK | OK | OK | OK |  | 
| IsoGeneGUI 2.16.0 | Setia Pramana | OK | OK | OK | OK |  | 
| ISoLDE 1.8.0 | Christelle Reynès | OK | OK | WARNINGS | OK |  | 
| isomiRs 1.8.0 | Lorena Pantano | OK | OK | OK | OK |  | 
| ITALICS 2.40.0 | Guillem Rigaill | OK | OK | OK | OK |  | 
| iterativeBMA 1.38.0 | Ka Yee Yeung | OK | OK | OK | OK |  | 
| iterativeBMAsurv 1.38.0 | Ka Yee Yeung | OK | OK | OK | OK |  | 
| iterClust 1.2.0 | Hongxu Ding | OK | OK | OK | OK |  | 
| iteremoval 1.0.0 | Jiacheng Chuan | OK | OK | OK | OK |  | 
| IVAS 2.0.0 | Seonggyun Han | OK | OK | WARNINGS | OK |  | 
| ivygapSE 1.2.0 | VJ Carey | OK | OK | OK | OK |  | 
| IWTomics 1.4.0 | Marzia A Cremona | OK | OK | WARNINGS | OK |  | 
|  | 
|  |  | 
| joda 1.28.0 | Ewa Szczurek | OK | OK | OK | OK |  | 
| JunctionSeq 1.10.0 | Stephen Hartley | OK | OK | OK | OK |  | 
|  | 
|  |  | 
| karyoploteR 1.6.3 | Bernat Gel | OK | OK | OK | OK |  | 
| KCsmart 2.38.0 | Jorma de Ronde | OK | OK | WARNINGS | OK |  | 
| kebabs 1.14.0 | Ulrich Bodenhofer | OK | OK | OK | OK |  | 
| KEGGgraph 1.40.0 | Jitao David Zhang | OK | OK | WARNINGS | OK |  | 
| KEGGlincs 1.6.2 | Shana White , Mario Medvedovic | OK | OK | OK | OK |  | 
| keggorthology 2.32.0 | VJ Carey | OK | OK | OK | OK |  | 
| KEGGprofile 1.22.0 | Shilin Zhao | OK | OK | OK | OK |  | 
| KEGGREST 1.20.2 | Bioconductor Package Maintainer | OK | OK | OK | OK |  | 
| kimod 1.8.0 | M L Zingaretti | OK | OK | OK | OK |  | 
| kissDE 1.0.0 | Aurélie Siberchicot | OK | OK | OK | OK |  | 
|  | 
|  |  | 
| lapmix 1.46.0 | Yann Ruffieux | OK | OK | OK | OK |  | 
| LBE 1.48.0 | Cyril Dalmasso | OK | OK | OK | OK |  | 
| ldblock 1.10.0 | VJ Carey | OK | OK | OK | OK |  | 
| LEA 2.2.0 | Eric Frichot , Olivier Francois | OK | OK | WARNINGS | OK |  | 
| LedPred 1.14.1 | Aitor Gonzalez | OK | OK | OK | OK |  | 
| les 1.30.0 | Julian Gehring | OK | OK | OK | OK |  | 
| lfa 1.10.0 | Wei Hao , John D. Storey | OK | OK | WARNINGS | OK |  | 
| limma 3.36.5 | Gordon Smyth | OK | OK | OK | OK |  | 
| limmaGUI 1.56.1 | Gordon Smyth | OK | OK | OK | OK |  | 
| LINC 1.8.0 | Manuel Goepferich | OK | OK | OK | OK |  | 
| LineagePulse 1.0.0 | David S Fischer | OK | OK | WARNINGS | OK |  | 
| Linnorm 2.4.0 | Ken Shun Hang Yip | OK | OK | OK | OK |  | 
| LiquidAssociation 1.34.0 | Yen-Yi Ho | OK | OK | OK | OK |  | 
| lmdme 1.22.0 | Cristobal Fresno | OK | OK | OK | OK |  | 
| LMGene 2.36.0 | Blythe Durbin-Johnson | OK | OK | OK | OK |  | 
| LOBSTAHS 1.6.0 | James Collins | OK | OK | WARNINGS | OK |  | 
| loci2path 1.0.0 | Tianlei Xu | OK | OK | OK | OK |  | 
| logicFS 1.50.0 | Holger Schwender | OK | OK | OK | OK |  | 
| logitT 1.38.0 | Tobias Guennel | OK | OK | OK | OK |  | 
| Logolas 1.4.0 | Kushal Dey | OK | OK | OK | OK |  | 
| lol 1.28.0 | Yinyin Yuan | OK | OK | OK | OK |  | 
| LOLA 1.10.0 | Nathan Sheffield | OK | OK | OK | OK |  | 
| LowMACA 1.12.0 | Stefano de Pretis , Giorgio Melloni | OK | OK | OK | OK |  | 
| LPE 1.54.0 | Nitin Jain | OK | OK | OK | OK |  | 
| LPEadj 1.40.0 | Carl Murie | OK | OK | OK | OK |  | 
| lpNet 2.12.0 | Lars Kaderali | OK | OK | OK | OK |  | 
| lpsymphony 1.8.0 | Vladislav Kim | OK | OK | WARNINGS | OK |  | 
| lumi 2.32.0 | Pan Du , Lei Huang , Gang Feng | OK | OK | WARNINGS | OK |  | 
| LVSmiRNA 1.30.0 | Stefano Calza | OK | OK | WARNINGS | OK |  | 
| LymphoSeq 1.8.0 | David Coffey | OK | OK | OK | OK |  | 
|  | 
|  |  | 
| M3C 1.2.0 | Christopher John | OK | OK | OK | OK |  | 
| M3D 1.14.0 | Tom Mayo | OK | OK | OK | OK |  | 
| M3Drop 1.6.0 | Tallulah Andrews | OK | OK | OK | OK |  | 
| maanova 1.50.0 | Keith Sheppard | OK | OK | WARNINGS | OK |  | 
| macat 1.54.0 | Joern Toedling | OK | OK | OK | OK |  | 
| maCorrPlot 1.50.0 | Alexander Ploner | OK | OK | OK | OK |  | 
| MACPET 1.0.0 | Ioannis Vardaxis | OK | OK | OK | OK |  | 
| made4 1.54.0 | Aedin Culhane | OK | OK | WARNINGS | OK |  | 
| MADSEQ 1.6.1 | Yu Kong | OK | OK | OK | OK |  | 
| maftools 1.6.15 | Anand Mayakonda | OK | OK | OK | OK |  | 
| MAGeCKFlute 1.0.1 | Wubing Zhang | OK | OK | OK | OK |  | 
| maigesPack 1.44.0 | Gustavo H. Esteves | OK | OK | OK | OK |  | 
| MAIT 1.14.0 | Pol Sola-Santos | OK | OK | OK | OK |  | 
| makecdfenv 1.56.0 | James W. MacDonald | OK | OK | OK | OK |  | 
| MANOR 1.52.1 | Pierre Neuvial | OK | OK | OK | OK |  | 
| manta 1.26.0 | Chris Berthiaume , Adrian Marchetti | OK | OK | OK | OK |  | 
| MantelCorr 1.50.0 | Brian Steinmeyer | OK | OK | OK | OK |  | 
| mAPKL 1.10.0 | Argiris Sakellariou | OK | OK | WARNINGS | OK |  | 
| maPredictDSC 1.18.0 | Adi Laurentiu Tarca | OK | OK | OK | OK |  | 
| mapscape 1.4.0 | Maia Smith | OK | OK | WARNINGS | OK |  | 
| marray 1.58.0 | Yee Hwa (Jean) Yang | OK | OK | OK | OK |  | 
| martini 1.0.0 | Hector Climente-Gonzalez | OK | OK | OK | OK |  | 
| maSigPro 1.52.0 | Maria Jose Nueda | OK | OK | OK | OK |  | 
| maskBAD 1.24.0 | Michael Dannemann | OK | OK | OK | OK |  | 
| MassArray 1.32.0 | Reid F. Thompson | OK | OK | OK | OK |  | 
| massiR 1.16.0 | Sam Buckberry | OK | OK | OK | OK |  | 
| MassSpecWavelet 1.46.0 | Pan Du | OK | OK | OK | OK |  | 
| MAST 1.6.1 | Andrew McDavid | OK | OK | OK | OK |  | 
| matchBox 1.22.0 | Luigi Marchionni , Anuj Gupta | OK | OK | OK | OK |  | 
| MatrixRider 1.12.0 | Elena Grassi | OK | OK | OK | OK |  | 
| matter 1.6.0 | Kylie A. Bemis | OK | OK | OK | OK |  | 
| MaxContrastProjection 1.4.0 | Jan Sauer | OK | OK | OK | OK |  | 
| MBAmethyl 1.14.0 | Tao Wang | OK | OK | OK | OK |  | 
| MBASED 1.14.0 | Oleg Mayba | OK | OK | OK | OK |  | 
| MBCB 1.34.0 | Jeff Allen | OK | OK | OK | OK |  | 
| mBPCR 1.34.0 | P.M.V. Rancoita | OK | OK | OK | OK |  | 
| MBttest 1.8.1 | Yuan-De Tan | OK | OK | OK | OK |  | 
| mcaGUI 1.28.1 | Wade K. Copeland | OK | OK | WARNINGS | OK |  | 
| MCbiclust 1.4.0 | Robert Bentham | OK | OK | OK | OK |  | 
| MCRestimate 2.36.0 | Marc Johannes | OK | OK | OK | OK |  | 
| mCSEA 1.0.1 | Jordi Martorell-Marugán | OK | OK | OK | OK |  | 
| mdgsa 1.12.1 | David Montaner | OK | OK | OK | OK |  | 
| mdp 1.0.0 | Helder Nakaya | OK | OK | OK | OK |  | 
| mdqc 1.42.0 | Gabriela Cohen-Freue | OK | OK | OK | OK |  | 
| MDTS 1.0.2 | Jack M.. Fu | OK | OK | OK | OK |  | 
| MEAL 1.10.1 | Carlos Ruiz-Arenas | OK | TIMEOUT | skipped | skipped |  | 
| MeasurementError.cor 1.52.0 | Beiying Ding | OK | OK | OK | OK |  | 
| MEDIPS 1.32.0 | Lukas Chavez | OK | OK | OK | OK |  | 
| MEDME 1.40.0 | Mattia Pelizzola | OK | OK | WARNINGS | OK |  | 
| MEIGOR 1.14.0 | Jose Egea | OK | OK | WARNINGS | OK |  | 
| MergeMaid 2.52.0 | Xiaogang Zhong | OK | OK | WARNINGS | OK |  | 
| Mergeomics 1.8.0 | Zeyneb Kurt | OK | OK | OK | OK |  | 
| MeSHDbi 1.16.0 | Koki Tsuyuzaki | OK | OK | OK | OK |  | 
| meshes 1.6.1 | Guangchuang Yu | OK | OK | OK | OK |  | 
| meshr 1.16.0 | Koki Tsuyuzaki | OK | OK | OK | OK |  | 
| messina 1.16.0 | Mark Pinese | OK | OK | OK | OK |  | 
| metaArray 1.58.0 | Hyungwon Choi | OK | OK | OK | OK |  | 
| Metab 1.14.0 | Raphael Aggio | OK | OK | OK | OK |  | 
| metabomxtr 1.14.0 | Michael Nodzenski | OK | OK | OK | OK |  | 
| MetaboSignal 1.10.0 | Andrea Rodriguez-Martinez | OK | OK | OK | OK |  | 
| metaCCA 1.8.0 | Anna Cichonska | OK | OK | OK | OK |  | 
| MetaCyto 1.2.1 | Zicheng Hu | OK | OK | OK | OK |  | 
| metagene 2.12.2 | Charles Joly Beauparlant | OK | OK | OK | OK |  | 
| metagenomeFeatures 2.0.0 | Nathan D. Olson | OK | OK | WARNINGS | OK |  | 
| metagenomeSeq 1.22.0 | Joseph N. Paulson | OK | OK | OK | OK |  | 
| metahdep 1.38.0 | John R. Stevens | OK | OK | WARNINGS | OK |  | 
| metaMS 1.16.0 | Ron Wehrens | OK | OK | WARNINGS | OK |  | 
| MetaNeighbor 1.0.0 | Manthan Shah | OK | OK | OK | OK |  | 
| metaSeq 1.20.0 | Koki Tsuyuzaki | OK | OK | OK | OK |  | 
| metaseqR 1.20.0 | Panagiotis Moulos | OK | OK | OK | OK |  | 
| metavizr 1.4.1 | Hector Corrada Bravo | OK | OK | OK | OK |  | 
| MetCirc 1.10.0 | Thomas Naake | OK | OK | OK | OK |  | 
| methimpute 1.2.0 | Aaron Taudt | OK | OK | OK | OK |  | 
| methInheritSim 1.2.0 | Pascal Belleau | OK | OK | OK | OK |  | 
| MethPed 1.8.0 | Helena Carén | OK | OK | OK | OK |  | 
| MethTargetedNGS 1.12.0 | Muhammad Ahmer Jamil | OK | OK | OK | OK |  | 
| methVisual 1.32.0 | Arie Zackay | OK | OK | WARNINGS | OK |  | 
| methyAnalysis 1.22.0 | Pan Du , Lei Huang , Gang Feng | OK | OK | WARNINGS | OK |  | 
| MethylAid 1.14.0 | M. van Iterson | OK | OK | OK | OK |  | 
| methylInheritance 1.4.0 | Astrid Deschenes | OK | OK | OK | OK |  | 
| methylKit 1.6.3 | Altuna Akalin , Alexander Gosdschan | OK | OK | OK | OK |  | 
| MethylMix 2.10.2 | Olivier Gevaert | OK | OK | OK | OK |  | 
| methylMnM 1.18.0 | Yan Zhou | OK | OK | OK | OK |  | 
| methylPipe 1.14.0 | Kamal Kishore | OK | OK | WARNINGS | OK |  | 
| MethylSeekR 1.20.0 | Lukas Burger | OK | OK | OK | OK |  | 
| methylumi 2.26.0 | Sean Davis | OK | OK | WARNINGS | OK |  | 
| methyvim 1.2.0 | Nima Hejazi | OK | OK | OK | OK |  | 
| mfa 1.2.0 | Kieran Campbell | OK | OK | OK | OK |  | 
| Mfuzz 2.40.0 | Matthias Futschik | OK | OK | OK | OK |  | 
| MGFM 1.14.0 | Khadija El Amrani | OK | OK | OK | OK |  | 
| MGFR 1.6.0 | Khadija El Amrani | OK | OK | OK | OK |  | 
| mgsa 1.28.0 | Sebastian Bauer | OK | OK | OK | OK |  | 
| MiChip 1.34.0 | Jonathon Blake | OK | OK | OK | OK |  | 
| microbiome 1.2.1 | Leo Lahti | OK | OK | OK | OK |  | 
| microRNA 1.38.0 | "James F. Reid" | OK | OK | OK | OK |  | 
| MIGSA 1.4.0 | Juan C. Rodriguez | OK | OK | OK | OK |  | 
| mimager 1.4.0 | Aaron Wolen | OK | OK | OK | OK |  | 
| MIMOSA 1.18.0 | Greg Finak | OK | OK | OK | OK |  | 
| MineICA 1.20.0 | Anne Biton | OK | OK | OK | OK |  | 
| minet 3.38.0 | Patrick E. Meyer | OK | OK | OK | OK |  | 
| minfi 1.26.2 | Kasper Daniel Hansen | OK | OK | WARNINGS | OK |  | 
| MinimumDistance 1.24.1 | Robert B Scharpf | OK | OK | WARNINGS | OK |  | 
| MiPP 1.52.0 | Sukwoo Kim | OK | OK | OK | OK |  | 
| MIRA 1.2.0 | John Lawson | OK | OK | OK | OK |  | 
| MiRaGE 1.22.0 | Y-h. Taguchi | OK | OK | OK | OK |  | 
| miRBaseConverter 1.4.3 | Taosheng Xu | OK | OK | OK | OK |  | 
| miRcomp 1.10.0 | Matthew N. McCall | OK | OK | WARNINGS | OK |  | 
| mirIntegrator 1.10.0 | Diana Diaz | OK | OK | OK | OK |  | 
| miRLAB 1.10.0 | Thuc Duy Le | OK | OK | OK | OK |  | 
| miRmine 1.2.0 | Dusan Randjelovic | OK | OK | OK | OK |  | 
| miRNAmeConverter 1.8.0 | Stefan J. Haunsberger | OK | OK | WARNINGS | OK |  | 
| miRNApath 1.40.0 | James M. Ward | OK | OK | OK | OK |  | 
| miRNAtap 1.14.0 | Maciej Pajak | OK | OK | OK | OK |  | 
| miRsponge 1.6.1 | Junpeng Zhang | OK | OK | OK | OK |  | 
| Mirsynergy 1.16.0 | Yue Li | OK | OK | OK | OK |  | 
| missMethyl 1.14.0 | Belinda Phipson | OK | OK | OK | OK |  | 
| missRows 1.0.0 | Gonzalez Ignacio | OK | OK | OK | OK |  | 
| mitoODE 1.18.0 | Gregoire Pau | OK | OK | OK | OK |  | 
| MLInterfaces 1.60.1 | V. Carey | OK | OK | WARNINGS | OK |  | 
| MLP 1.28.0 | Tobias Verbeke | OK | OK | OK | OK |  | 
| MLSeq 1.20.3 | Gokmen Zararsiz | OK | OK | OK | OK |  | 
| MMDiff2 1.8.0 | Gabriele Schweikert | OK | OK | OK | OK |  | 
| MmPalateMiRNA 1.30.0 | Guy Brock | OK | OK | OK | OK |  | 
| MODA 1.6.0 | Dong Li | OK | OK | OK | OK |  | 
| mogsa 1.14.0 | Chen Meng | OK | OK | OK | OK |  | 
| monocle 2.8.0 | Cole Trapnell | OK | OK | OK | OK |  | 
| MoonlightR 1.6.1 | Antonio Colaprico | OK | OK | WARNINGS | OK |  | 
| MoPS 1.14.0 | Philipp Eser | OK | OK | OK | OK |  | 
| mosaics 2.18.0 | Dongjun Chung | OK | OK | OK | OK |  | 
| motifbreakR 1.10.0 | Simon Gert Coetzee | OK | OK | OK | OK |  | 
| motifcounter 1.4.0 | Wolfgang Kopp | OK | OK | OK | OK |  | 
| MotifDb 1.22.0 | Paul Shannon | OK | OK | OK | OK |  | 
| motifmatchr 1.2.0 | Alicia Schep | OK | OK | OK | OK |  | 
| motifRG 1.24.0 | Zizhen Yao | OK | OK | OK | OK |  | 
| motifStack 1.24.1 | Jianhong Ou | OK | OK | OK | OK |  | 
| MotIV 1.36.0 | Eloi Mercier , Raphael Gottardo | OK | OK | WARNINGS | OK |  | 
| MPFE 1.16.0 | Conrad Burden | OK | OK | OK | OK |  | 
| mpra 1.2.0 | Leslie Myint | OK | OK | OK | OK |  | 
| mQTL.NMR 1.14.0 | Lyamine Hedjazi | ERROR | ERROR | skipped | skipped |  | 
| msa 1.12.0 | Ulrich Bodenhofer | OK | OK | WARNINGS | OK |  | 
| msgbsR 1.4.0 | Benjamin Mayne | OK | OK | WARNINGS | OK |  | 
| MSGFgui 1.14.0 | Thomas Lin Pedersen | OK | OK | OK | OK |  | 
| MSGFplus 1.14.0 | Thomas Lin Pedersen | OK | OK | OK | OK |  | 
| msmsEDA 1.18.0 | Josep Gregori | OK | OK | OK | OK |  | 
| msmsTests 1.18.0 | Josep Gregori i Font | OK | OK | OK | OK |  | 
| MSnbase 2.6.4 | Laurent Gatto | OK | OK | OK | OK |  | 
| MSnID 1.14.0 | Vlad Petyuk | OK | OK | OK | OK |  | 
| msPurity 1.6.2 | Thomas N. Lawson | OK | OK | OK | OK |  | 
| MSstats 3.12.3 | Meena Choi | OK | OK | OK | OK |  | 
| MSstatsQC 1.2.0 | Eralp Dogu | OK | OK | OK | OK |  | 
| MSstatsQCgui 1.0.0 | Eralp Dogu | OK | OK | OK | OK |  | 
| Mulcom 1.30.0 | Claudio Isella | OK | OK | OK | OK |  | 
| MultiAssayExperiment 1.6.0 | Marcel Ramos | OK | OK | OK | OK |  | 
| multiClust 1.10.0 | Nathan Lawlor | OK | OK | OK | OK |  | 
| MultiDataSet 1.8.0 | Carlos Ruiz-Arenas | OK | OK | OK | OK |  | 
| MultiMed 2.2.0 | Simina M. Boca | OK | OK | OK | OK |  | 
| multiMiR 1.2.0 | Matt Mulvahill | OK | OK | OK | OK |  | 
| multiOmicsViz 1.4.0 | Jing Wang | OK | OK | OK | OK |  | 
| multiscan 1.40.0 | Mizanur Khondoker | OK | OK | OK | OK |  | 
| multtest 2.36.0 | Katherine S. Pollard | OK | OK | WARNINGS | OK |  | 
| muscle 3.22.0 | Alex T. Kalinka | OK | OK | WARNINGS | OK |  | 
| MutationalPatterns 1.6.1 | Roel Janssen | OK | OK | OK | OK |  | 
| MVCClass 1.54.0 | Elizabeth Whalen | OK | OK | OK | OK |  | 
| MWASTools 1.4.0 | Andrea Rodriguez-Martinez , Rafael Ayala | OK | OK | OK | OK |  | 
| mygene 1.16.2 | Adam Mark, Cyrus Afrasiabi, Chunlei Wu | OK | OK | OK | OK |  | 
| myvariant 1.10.0 | Adam Mark, Chunlei Wu | OK | OK | OK | OK |  | 
| mzID 1.18.0 | Thomas Lin Pedersen | OK | OK | OK | OK |  | 
| mzR 2.14.0 | Steffen Neumann | OK | OK | WARNINGS | OK |  | 
|  | 
|  |  | 
| NADfinder 1.4.0 | Jianhong Ou | OK | OK | OK | OK |  | 
| NanoStringDiff 1.10.0 | tingting zhai ,hong wang | OK | OK | WARNINGS | OK |  | 
| NanoStringQCPro 1.12.0 | Robert Ziman | OK | OK | OK | OK |  | 
| NarrowPeaks 1.24.0 | Pedro Madrigal | OK | OK | WARNINGS | OK |  | 
| ncdfFlow 2.26.0 | Mike Jiang | OK | OK | OK | OK |  | 
| NCIgraph |  | ...NOT SUPPORTED... | 
| ndexr 1.2.0 | Florian Auer | OK | OK | OK | OK |  | 
| nem 2.54.0 | Holger Froehlich | OK | OK | WARNINGS | OK |  | 
| netbenchmark 1.12.0 | Pau Bellot | OK | OK | WARNINGS | OK |  | 
| netbiov 1.14.0 | Shailesh tripathi | OK | OK | OK | OK |  | 
| nethet 1.12.0 | Nicolas Staedler | OK | OK | OK | OK |  | 
| NetPathMiner 1.16.0 | Ahmed Mohamed | OK | OK | WARNINGS | OK |  | 
| netprioR 1.6.0 | Fabian Schmich | OK | OK | OK | OK |  | 
| netReg 1.4.0 | Simon Dirmeier | OK | OK | OK | OK |  | 
| netresponse 1.40.0 | Leo Lahti | OK | OK | WARNINGS | OK |  | 
| NetSAM 1.20.0 | Bing Zhang | OK | OK | OK | OK |  | 
| netSmooth 1.0.2 | Jonathan Ronen | OK | OK | OK | OK |  | 
| networkBMA 2.20.0 | Ka Yee Yeung | OK | OK | WARNINGS | OK |  | 
| NGScopy 1.14.0 | Xiaobei Zhao | OK | OK | OK | OK |  | 
| nnNorm 2.44.0 | Adi Laurentiu Tarca | OK | OK | OK | OK |  | 
| NOISeq 2.24.0 | Sonia Tarazona | OK | OK | WARNINGS | OK |  | 
| nondetects 2.10.0 | Valeriia Sherina | OK | OK | OK | OK |  | 
| normalize450K 1.8.0 | Jonathan Alexander Heiss | OK | OK | OK | OK |  | 
| NormqPCR 1.26.0 | James Perkins | OK | OK | WARNINGS | OK |  | 
| normr 1.6.0 | Johannes Helmuth | OK | OK | OK | OK |  | 
| npGSEA 1.16.0 | Jessica Larson | OK | OK | OK | OK |  | 
| NTW 1.30.0 | Yuanhua Liu | OK | OK | WARNINGS | OK |  | 
| nucleoSim 1.8.0 | Astrid Deschenes | OK | OK | OK | OK |  | 
| nucleR 2.12.1 | Ricard Illa | OK | OK | OK | OK |  | 
| nudge 1.46.0 | N. Dean | OK | ERROR | skipped | skipped |  | 
| NuPoP 1.30.0 | Ji-Ping Wang | OK | OK | OK | OK |  | 
|  | 
|  |  | 
| occugene 1.40.0 | Oliver Will | OK | OK | OK | OK |  | 
| OCplus 1.54.0 | Alexander Ploner | OK | OK | OK | OK |  | 
| odseq 1.8.0 | José Jiménez | OK | OK | OK | OK |  | 
| OGSA 1.10.0 | Michael F. Ochs | OK | OK | OK | OK |  | 
| oligo 1.44.0 | Benilton Carvalho | OK | OK | WARNINGS | OK |  | 
| oligoClasses 1.42.0 | Benilton Carvalho  and Robert Scharpf | OK | OK | WARNINGS | OK |  | 
| OLIN 1.58.0 | Matthias Futschik | OK | OK | OK | OK |  | 
| OLINgui 1.54.0 | Matthias Futschik | OK | OK | OK | OK |  | 
| OmaDB 1.0.1 | Klara Kaleb , Adrian Altenhoff | OK | OK | OK | OK |  | 
| omicade4 1.20.0 | Chen Meng | OK | OK | OK | OK |  | 
| OmicCircos 1.18.0 | Ying Hu | OK | OK | OK | OK |  | 
| omicplotR 1.0.1 | Daniel Giguere | OK | OK | OK | OK |  | 
| omicRexposome 1.2.0 | Carles Hernandez-Ferrer | OK | OK | OK | OK |  | 
| OmicsMarkeR 1.12.0 | Charles E. Determan Jr. | OK | OK | OK | OK |  | 
| omicsPrint 1.0.0 | Davy Cats | OK | OK | OK | OK |  | 
| Onassis 1.2.7 | Eugenia Galeota | OK | OK | OK | OK |  | 
| oncomix 1.2.0 | Daniel Pique | OK | OK | OK | OK |  | 
| OncoScore 1.8.0 | Daniele Ramazzotti | OK | OK | OK | OK |  | 
| OncoSimulR 2.10.0 | Ramon Diaz-Uriarte | OK | OK | OK | OK |  | 
| oneSENSE 1.2.0 | Yong Kee Tan | OK | OK | WARNINGS | OK |  | 
| ontoCAT1.32.0 | Natalja Kurbatova | OK | OK | ERROR | OK |  | 
| ontoProc 1.2.1 | VJ Carey | OK | OK | OK | OK |  | 
| openCyto 1.18.0 | Mike Jiang | OK | OK | OK | OK |  | 
| openPrimeR 1.2.0 | Matthias Döring | OK | OK | OK | OK |  | 
| openPrimeRui 1.2.0 | Matthias Döring | OK | OK | OK | OK |  | 
| OperaMate1.12.0 | Chenglin Liu | OK | ERROR | skipped | skipped |  | 
| oposSOM 1.18.0 | Henry Loeffler-Wirth | OK | OK | OK | OK |  | 
| oppar 1.8.0 | Soroor Hediyeh zadeh | OK | OK | OK | OK |  | 
| OPWeight 1.2.0 | Mohamad Hasan | OK | OK | OK | OK |  | 
| OrderedList 1.52.0 | Claudio Lottaz | OK | OK | OK | OK |  | 
| ORFik 1.0.0 | Kornel Labun | OK | OK | OK | OK |  | 
| Organism.dplyr 1.8.1 | Martin Morgan | OK | OK | OK | OK |  | 
| OrganismDbi 1.22.0 | Biocore Data Team | OK | OK | OK | OK |  | 
| OSAT 1.28.0 | Li Yan | OK | OK | OK | OK |  | 
| Oscope 1.10.0 | Ning Leng | OK | OK | OK | OK |  | 
| OTUbase 1.30.0 | Daniel Beck | OK | OK | OK | OK |  | 
| OutlierD 1.44.0 | Sukwoo Kim | OK | OK | OK | OK |  | 
|  | 
|  |  | 
| PAA 1.14.0 | Michael Turewicz , Martin Eisenacher | OK | OK | OK | OK |  | 
| PADOG 1.22.0 | Adi Laurentiu Tarca | OK | OK | OK | OK |  | 
| paircompviz 1.18.0 | Michal Burda | OK | OK | OK | OK |  | 
| pandaR 1.12.0 | Joseph N. Paulson , Dan Schlauch | OK | OK | OK | OK |  | 
| panelcn.mops 1.2.0 | Gundula Povysil | OK | OK | OK | OK |  | 
| PAnnBuilder1.44.0 | Li Hong | OK | ERROR | skipped | skipped |  | 
| panp 1.50.0 | Peter Warren | OK | OK | OK | OK |  | 
| PANR 1.26.0 | Xin Wang | OK | OK | OK | OK |  | 
| PanVizGenerator 1.8.0 | Thomas Lin Pedersen | OK | OK | OK | OK |  | 
| PAPi 1.20.0 | Raphael Aggio | OK | OK | OK | OK |  | 
| parglms 1.12.0 | VJ Carey | OK | OK | WARNINGS | OK |  | 
| parody 1.38.0 | VJ Carey | OK | OK | OK | OK |  | 
| Path2PPI 1.10.0 | Oliver Philipp | OK | OK | OK | OK |  | 
| pathifier 1.20.0 | Assif Yitzhaky | OK | OK | OK | OK |  | 
| PathNet 1.20.0 | Jason B. Smith | OK | OK | OK | OK |  | 
| PathoStat 1.6.1 | Solaiappan Manimaran | OK | OK | OK | OK |  | 
| pathprint 1.10.4 | Sokratis Kariotis | OK | OK | OK | OK |  | 
| pathRender 1.48.0 | Vince Carey | OK | OK | OK | OK |  | 
| pathVar 1.10.0 | Samuel Zimmerman | OK | OK | OK | OK |  | 
| pathview 1.20.0 | Weijun Luo | OK | OK | OK | OK |  | 
| PathwaySplice 1.4.0 | Aimin Yan | OK | OK | OK | OK |  | 
| paxtoolsr 1.14.0 | Augustin Luna | OK | ERROR | skipped | skipped |  | 
| Pbase 0.20.0 | Sebastian Gibb | OK | OK | OK | OK |  | 
| pbcmc 1.8.0 | Cristobal Fresno | OK | OK | ERROR | OK |  | 
| pcaExplorer 2.6.0 | Federico Marini | OK | OK | OK | OK |  | 
| pcaGoPromoter 1.24.0 | Morten Hansen | OK | OK | OK | OK |  | 
| pcaMethods 1.72.0 | Henning Redestig | OK | OK | OK | OK |  | 
| PCAN 1.8.0 | Matthew Page  and Patrice Godard | OK | OK | OK | OK |  | 
| pcot2 1.48.0 | Sarah Song | OK | OK | OK | OK |  | 
| PCpheno 1.42.0 | Nolwenn Le Meur | OK | OK | OK | OK |  | 
| pcxn 2.2.0 | Sokratis Kariotis | OK | OK | OK | OK |  | 
| pdInfoBuilder 1.44.0 | Benilton Carvalho | OK | OK | OK | OK |  | 
| PECA 1.16.0 | Tomi Suomi | OK | OK | OK | OK |  | 
| pepStat 1.14.0 | Gregory C Imholte | OK | OK | OK | OK |  | 
| pepXMLTab 1.14.0 | Xiaojing Wang | OK | OK | OK | OK |  | 
| perturbatr 1.0.0 | Simon Dirmeier | OK | OK | OK | OK |  | 
| PGA 1.10.1 | Bo Wen , Shaohang Xu | OK | OK | OK | OK |  | 
| pgca 1.4.0 | Gabriela Cohen-Freue | OK | OK | OK | OK |  | 
| PGSEA 1.54.0 | Karl Dykema | OK | OK | OK | OK |  | 
| phantasus 1.0.2 | Alexey Sergushichev | OK | OK | OK | OK |  | 
| PharmacoGx 1.10.3 | Benjamin Haibe-Kains | OK | OK | OK | OK |  | 
| phenoDist1.28.0 | Xian Zhang | OK | ERROR | skipped | skipped |  | 
| phenopath 1.4.0 | Kieran Campbell | OK | OK | OK | OK |  | 
| phenoTest 1.28.0 | Evarist Planet | OK | OK | OK | OK |  | 
| PhenStat 2.17.0 | Hamed Haselimashhadi | OK | OK | OK | OK |  | 
| philr 1.6.0 | Justin Silverman | OK | OK | OK | OK |  | 
| phosphonormalizer 1.4.0 | Sohrab Saraei | OK | OK | OK | OK |  | 
| phyloseq 1.24.2 | Paul J. McMurdie | OK | OK | OK | OK |  | 
| Pi 1.8.0 | Hai Fang | OK | OK | OK | OK |  | 
| piano 1.20.1 | Leif Varemo | OK | OK | OK | OK |  | 
| pickgene 1.52.0 | Brian S. Yandell | OK | OK | WARNINGS | OK |  | 
| PICS 2.24.0 | Renan Sauteraud | OK | OK | WARNINGS | OK |  | 
| Pigengene 1.6.0 | Habil Zare | OK | OK | WARNINGS | OK |  | 
| PING 2.24.0 | Renan Sauteraud | OK | OK | WARNINGS | OK |  | 
| pint 1.30.0 | Olli-Pekka Huovilainen | OK | OK | OK | OK |  | 
| pkgDepTools 1.46.0 | Bioconductor Core Team | OK | OK | OK | OK |  | 
| plateCore 1.38.0 | Errol Strain | OK | OK | WARNINGS | OK |  | 
| plethy 1.18.0 | Daniel Bottomly | OK | OK | OK | OK |  | 
| plgem 1.52.0 | Norman Pavelka | OK | OK | OK | OK |  | 
| plier 1.50.0 | Crispin Miller | OK | OK | WARNINGS | OK |  | 
| PLPE 1.40.0 | Soo-heang Eo | OK | OK | OK | OK |  | 
| plrs 1.20.0 | Gwenael G.R. Leday to | OK | OK | OK | OK |  | 
| plw 1.40.0 | Magnus Astrand | OK | OK | OK | OK |  | 
| plyranges 1.0.3 | Stuart Lee | OK | OK | OK | OK |  | 
| pmm 1.12.0 | Anna Drewek | OK | OK | OK | OK |  | 
| podkat 1.12.0 | Ulrich Bodenhofer | OK | OK | OK | OK |  | 
| pogos 1.0.0 | VJ Carey | OK | OK | OK | OK |  | 
| polyester 1.16.0 | Jack Fu , Jeff Leek | OK | OK | OK | OK |  | 
| Polyfit 1.14.0 | Conrad Burden | OK | OK | OK | OK |  | 
| POST 1.4.0 | Xueyuan Cao | OK | OK | WARNINGS | OK |  | 
| PowerExplorer 1.0.1 | Xu Qiao | OK | OK | OK | OK |  | 
| powerTCR 1.0.0 | Hillary Koch | OK | OK | OK | OK |  | 
| PPInfer 1.6.0 | Dongmin Jung | OK | OK | OK | OK |  | 
| ppiStats 1.46.0 | Bioconductor Package Maintainer | OK | OK | OK | OK |  | 
| pqsfinder 1.8.0 | Jiri Hon | OK | OK | OK | OK |  | 
| prada 1.56.0 | Florian Hahne | OK | OK | OK | OK |  | 
| prebs 1.20.0 | Karolis Uziela | OK | OK | OK | OK |  | 
| PREDA 1.26.1 | Francesco Ferrari | OK | OK | OK | OK |  | 
| predictionet 1.26.0 | Benjamin Haibe-Kains | OK | OK | OK | OK |  | 
| preprocessCore 1.42.0 | Ben Bolstad | OK | OK | OK | OK |  | 
| Prize 1.10.0 | Daryanaz Dargahi | OK | OK | OK | OK |  | 
| proBAMr 1.14.0 | Xiaojing Wang | OK | OK | OK | OK |  | 
| PROcess 1.56.0 | Xiaochun Li | OK | OK | OK | OK |  | 
| procoil 2.8.0 | Ulrich Bodenhofer | OK | OK | OK | OK |  | 
| ProCoNA 1.18.0 | David L Gibbs | OK | ERROR | skipped | skipped |  | 
| proFIA 1.6.0 | Alexis Delabriere | OK | OK | OK | OK |  | 
| profileScoreDist 1.8.0 | Paal O. Westermark | OK | OK | OK | OK |  | 
| progeny 1.2.0 | Michael Schubert | OK | OK | OK | OK |  | 
| pRoloc 1.20.2 | Laurent Gatto | OK | OK | OK | OK |  | 
| pRolocGUI 1.14.0 | Laurent Gatto | OK | OK | OK | OK |  | 
| PROMISE 1.32.0 | Stan Pounds , Xueyuan Cao | OK | OK | OK | OK |  | 
| PROPER 1.12.0 | Hao Wu | OK | OK | WARNINGS | OK |  | 
| PROPS 1.2.0 | Lichy Han | OK | OK | OK | OK |  | 
| Prostar 1.12.18 | Samuel Wieczorek | OK | OK | OK | OK |  | 
| prot2D 1.18.0 | Sebastien Artigaud | OK | OK | OK | OK |  | 
| proteinProfiles 1.20.0 | Julian Gehring | OK | OK | OK | OK |  | 
| ProteomicsAnnotationHubData 1.10.0 | Laurent Gatto | OK | OK | OK | OK |  | 
| proteoQC 1.16.0 | Bo Wen | OK | OK | OK | OK |  | 
| ProtGenerics 1.12.0 | Laurent Gatto | OK | OK | OK | OK |  | 
| PSEA 1.14.0 | Alexandre Kuhn | OK | OK | OK | OK |  | 
| psichomics 1.6.2 | Nuno Saraiva-Agostinho | OK | OK | OK | OK |  | 
| PSICQUIC 1.18.1 | Paul Shannon | OK | OK | WARNINGS | OK |  | 
| psygenet2r 1.12.0 | Alba Gutierrez-Sacristan | OK | OK | WARNINGS | OK |  | 
| puma 3.22.0 | Xuejun Liu | OK | OK | WARNINGS | OK |  | 
| PureCN 1.10.0 | Markus Riester | OK | OK | OK | OK |  | 
| pvac 1.28.0 | Jun Lu , Pierre R. Bushel | OK | OK | OK | OK |  | 
| pvca 1.20.0 | Jianying LI | OK | OK | OK | OK |  | 
| Pviz 1.14.0 | Renan Sauteraud | OK | OK | OK | OK |  | 
| PWMEnrich 4.16.0 | Robert Stojnic | OK | OK | OK | OK |  | 
| pwOmics 1.12.0 | Maren Sitte | OK | OK | OK | OK |  | 
|  | 
|  |  | 
| qcmetrics 1.18.0 | Laurent Gatto | OK | OK | OK | OK |  | 
| QDNAseq 1.16.0 | Daoud Sie | OK | OK | WARNINGS | OK |  | 
| qpcrNorm 1.38.0 | Jessica Mar | OK | OK | OK | OK |  | 
| qpgraph 2.14.0 | Robert Castelo | OK | OK | OK | OK |  | 
| qrqc 1.34.0 | Vince Buffalo | OK | OK | OK | OK |  | 
| qsea 1.6.0 | Matthias Lienhard | OK | OK | OK | OK |  | 
| QUALIFIER 1.24.1 | Mike Jiang | OK | OK | OK | OK |  | 
| quantro 1.14.0 | Stephanie Hicks | OK | OK | OK | OK |  | 
| quantsmooth 1.46.0 | Jan Oosting | OK | OK | OK | OK |  | 
| QuartPAC 1.12.1 | Gregory Ryslik | OK | OK | OK | OK |  | 
| QuasR 1.20.0 | Michael Stadler | OK | OK | OK | OK |  | 
| QuaternaryProd 1.14.0 | Carl Tony Fakhry | OK | OK | OK | OK |  | 
| QUBIC 1.8.0 | Yu Zhang | OK | OK | OK | OK |  | 
| qusage 2.14.0 | Christopher Bolen | OK | OK | OK | OK |  | 
| qvalue 2.12.0 | John D. Storey , Andrew J. Bass | OK | OK | OK | OK |  | 
|  | 
|  |  | 
| R3CPET 1.12.0 | Mohamed Nadhir Djekidel | OK | OK | OK | OK |  | 
| r3Cseq 1.26.0 | Supat Thongjuea | OK | OK | OK | OK |  | 
| R453Plus1Toolbox 1.30.0 | Hans-Ulrich Klein | OK | OK | OK | OK |  | 
| R4RNA 1.8.0 | Daniel Lai | OK | OK | OK | OK |  | 
| RaggedExperiment 1.4.0 | Martin Morgan | OK | OK | OK | OK |  | 
| rain 1.14.0 | Paul F. Thaben | OK | OK | OK | OK |  | 
| rama 1.54.0 | Raphael Gottardo | OK | OK | OK | OK |  | 
| RamiGO |  | ...NOT SUPPORTED... | 
| ramwas 1.4.0 | Andrey A Shabalin | OK | OK | OK | OK |  | 
| RandomWalkRestartMH 1.0.0 | Alberto Valdeolivas Urbelz | OK | OK | OK | OK |  | 
| randPack 1.26.0 | Robert Gentleman | OK | OK | OK | OK |  | 
| RankProd 3.6.0 | Francesco Del Carratore | OK | OK | OK | OK |  | 
| RareVariantVis 2.8.0 | Tomasz Stokowy | OK | OK | OK | OK |  | 
| Rariant 1.16.0 | Julian Gehring | OK | OK | WARNINGS | OK |  | 
| RbcBook1 1.48.0 | Vince Carey | OK | OK | OK | OK |  | 
| RBGL 1.56.0 | Bioconductor Package Maintainer | OK | OK | OK | OK |  | 
| RBioinf 1.40.0 | Robert Gentleman | OK | OK | OK | OK |  | 
| rBiopaxParser 2.20.0 | Frank Kramer | OK | OK | OK | OK |  | 
| RBM 1.12.0 | Dongmei Li | OK | OK | OK | OK |  | 
| Rbowtie 1.20.0 | Michael Stadler | OK | OK | OK | OK |  | 
| Rbowtie2 1.2.0 | Zheng Wei | OK | OK | OK | OK |  | 
| rbsurv 2.38.0 | Soo-heang Eo | OK | OK | OK | OK |  | 
| Rcade 1.22.0 | Jonathan Cairns | OK | OK | WARNINGS | OK |  | 
| RCAS 1.6.0 | Bora Uyar | OK | OK | OK | OK |  | 
| RCASPAR 1.26.0 | Douaa Mugahid , Lars Kaderali | OK | OK | OK | OK |  | 
| rcellminer 2.2.0 | Augustin Luna , Vinodh Rajapakse | OK | OK | OK | OK |  | 
| rCGH 1.10.0 | Frederic Commo | OK | OK | OK | OK |  | 
| Rchemcpp 2.18.0 | Guenter Klambauer | OK | OK | OK | OK |  | 
| RchyOptimyx 2.20.0 | Adrin Jalali , Nima Aghaeepour | OK | OK | WARNINGS | OK |  | 
| RcisTarget 1.0.2 | Sara Aibar | OK | OK | OK | OK |  | 
| Rcpi 1.16.2 | Nan Xiao | OK | OK | OK | OK |  | 
| RCy3 2.0.88 | Alexander Pico , Tanja Muetze , Paul Shannon | OK | OK | OK | OK |  | 
| RCyjs 2.2.2 | Paul Shannon | OK | OK | OK | OK |  | 
| RDAVIDWebService 1.18.0 | Cristobal Fresno | OK | OK | WARNINGS | OK |  | 
| rDGIdb 1.6.0 | Thomas Thurnherr | OK | OK | OK | OK |  | 
| Rdisop 1.40.0 | Steffen Neumann | OK | OK | OK | OK |  | 
| RDRToolbox 1.30.0 | Christoph Bartenhagen | OK | OK | WARNINGS | OK |  | 
| ReactomePA 1.24.0 | Guangchuang Yu | OK | OK | OK | OK |  | 
| readat 1.6.0 | Richard Cotton | OK | OK | OK | OK |  | 
| ReadqPCR 1.26.0 | James Perkins | OK | OK | OK | OK |  | 
| reb 1.58.0 | Karl J. Dykema | OK | OK | OK | OK |  | 
| recount 1.6.3 | Leonardo Collado-Torres | OK | OK | OK | OK |  | 
| recoup 1.8.0 | Panagiotis Moulos | OK | OK | OK | OK |  | 
| RedeR 1.28.0 | Mauro Castro | OK | OK | OK | OK |  | 
| REDseq 1.26.0 | Lihua Julie Zhu | OK | OK | OK | OK |  | 
| RefNet 1.16.0 | Paul Shannon | OK | OK | ERROR | OK |  | 
| RefPlus 1.50.0 | Kai-Ming Chang | OK | OK | OK | OK |  | 
| regioneR 1.12.0 | Bernat Gel | OK | OK | OK | OK |  | 
| regionReport 1.14.3 | Leonardo Collado-Torres | OK | OK | OK | OK |  | 
| regsplice 1.6.0 | Lukas M. Weber | OK | OK | OK | OK |  | 
| REMP 1.4.1 | Yinan Zheng | OK | OK | OK | OK |  | 
| Repitools 1.26.0 | Mark Robinson | OK | OK | OK | OK |  | 
| ReportingTools 2.20.0 | Jason A. Hackney , Gabriel Becker | OK | OK | OK | OK |  | 
| ReQON 1.26.0 | Christopher Cabanski | OK | OK | OK | OK |  | 
| restfulSE 1.2.3 | Shweta Gopaulakrishnan | OK | OK | OK | OK |  | 
| rexposome 1.2.0 | Carles Hernandez-Ferrer | OK | ERROR | skipped | skipped |  | 
| rfPred 1.18.0 | Hugo Varet | OK | OK | OK | OK |  | 
| rGADEM 2.28.0 | Arnaud Droit | OK | OK | OK | OK |  | 
| RGalaxy 1.24.0 | Bioconductor Package Maintainer | OK | OK | OK | OK |  | 
| Rgin 1.0.0 | Hector Climente | OK | OK | OK | OK |  | 
| RGMQL 1.0.2 | Simone Pallotta | OK | OK | OK | OK |  | 
| RGraph2js 1.8.0 | Stephane Cano | OK | OK | OK | OK |  | 
| Rgraphviz 2.24.0 | Kasper Daniel Hansen | OK | OK | WARNINGS | OK |  | 
| rGREAT 1.12.1 | Zuguang Gu | OK | OK | WARNINGS | OK |  | 
| RGSEA 1.14.0 | Chengcheng Ma | OK | OK | OK | OK |  | 
| rgsepd 1.12.0 | Karl Stamm | OK | OK | OK | OK |  | 
| rhdf5 2.24.0 | Mike Smith | OK | OK | OK | OK |  | 
| rhdf5client 1.2.3 | Samuela Pollack | OK | OK | WARNINGS | OK |  | 
| Rhdf5lib 1.2.1 | Mike Smith | OK | OK | OK | OK |  | 
| Rhtslib 1.12.1 | Bioconductor Package Maintainer | OK | OK | WARNINGS | OK |  | 
| rHVDM 1.46.0 | Martino Barenco | OK | OK | WARNINGS | OK |  | 
| RiboProfiling 1.10.0 | A. Popa | OK | OK | WARNINGS | OK |  | 
| riboSeqR 1.14.0 | Thomas J. Hardcastle | OK | OK | OK | OK |  | 
| RImmPort 1.8.0 | Zicheng Hu , Ravi Shankar | OK | OK | OK | OK |  | 
| Ringo 1.44.0 | J. Toedling | OK | OK | OK | OK |  | 
| RIPSeeker 1.20.0 | Yue Li | OK | OK | OK | OK |  | 
| Risa 1.22.0 | Alejandra Gonzalez-Beltran | OK | OK | OK | OK |  | 
| RITAN 1.4.2 | Michael Zimmermann | OK | OK | WARNINGS | OK |  | 
| RIVER 1.4.0 | Yungil Kim | OK | OK | OK | OK |  | 
| RJMCMCNucleosomes 1.4.0 | Astrid Deschênes | OK | OK | OK | OK |  | 
| RLMM 1.42.0 | Nusrat Rabbee | OK | OK | OK | OK |  | 
| Rmagpie 1.36.0 | Camille Maumet | OK | OK | OK | OK |  | 
| RMassBank 2.8.0 | RMassBank at Eawag | OK | ERROR | skipped | skipped |  | 
| rMAT 3.30.0 | Arnaud Droit  and Raphael Gottardo | OK | OK | OK | OK |  | 
| RmiR 1.36.0 | Francesco Favero | OK | OK | OK | OK |  | 
| RNAdecay 1.0.2 | Reed Sorenson | OK | OK | OK | OK |  | 
| RNAinteract 1.28.0 | Bernd Fischer | OK | OK | OK | OK |  | 
| RNAither 2.28.0 | Lars Kaderali | OK | OK | OK | OK |  | 
| RNAprobR 1.12.0 | Nikos Sidiropoulos | OK | OK | OK | OK |  | 
| rnaseqcomp 1.10.0 | Mingxiang Teng | OK | OK | OK | OK |  | 
| rnaSeqMap 2.38.0 | Michal Okoniewski | OK | OK | OK | OK |  | 
| RNASeqPower 1.20.0 | Terry M Therneau | OK | OK | OK | OK |  | 
| RnaSeqSampleSize 1.12.0 | Shilin Zhao | OK | OK | OK | OK |  | 
| RnBeads 1.12.1 | Fabian Mueller | OK | OK | OK | OK |  | 
| Rnits 1.14.0 | Dipen P. Sangurdekar | OK | OK | OK | OK |  | 
| roar 1.16.0 | Elena Grassi | OK | OK | OK | OK |  | 
| ROC 1.56.0 | Vince Carey | OK | OK | OK | OK |  | 
| Roleswitch 1.18.0 | Yue Li | OK | OK | OK | OK |  | 
| rols 2.8.2 | Laurent Gatto | OK | OK | OK | OK |  | 
| ROntoTools 2.8.0 | Calin Voichita | OK | OK | OK | OK |  | 
| ropls 1.12.0 | Etienne A. Thevenot | OK | OK | OK | OK |  | 
| ROTS 1.8.0 | Fatemeh Seyednasrollah | OK | OK | OK | OK |  | 
| RPA 1.36.0 | Leo Lahti | OK | OK | OK | OK |  | 
| RProtoBufLib 1.2.0 | Mike Jiang | OK | OK | WARNINGS | OK |  | 
| RpsiXML 2.22.0 | Jitao David Zhang | OK | OK | OK | OK |  | 
| rpx 1.16.0 | Laurent Gatto | OK | OK | OK | OK |  | 
| Rqc 1.14.0 | Welliton Souza | OK | OK | OK | OK |  | 
| rqt 1.6.0 | Ilya Y. Zhbannikov | OK | OK | OK | OK |  | 
| rqubic 1.26.0 | Jitao David Zhang | OK | OK | OK | OK |  | 
| rRDP 1.14.0 | Michael Hahsler | OK | OK | OK | OK |  | 
| RRHO 1.20.0 | Jonathan Rosenblatt | OK | OK | OK | OK |  | 
| Rsamtools 1.32.3 | Bioconductor Package Maintainer | OK | OK | WARNINGS | OK |  | 
| rsbml 2.38.0 | Michael Lawrence | OK | OK | WARNINGS | OK |  | 
| RSeqAn 1.0.0 | August Guang | OK | OK | OK | OK |  | 
| rSFFreader 0.28.0 | Matt Settles | OK | OK | WARNINGS | OK |  | 
| Rsubread 1.30.9 | Wei Shi , Yang Liao  and Gordon K Smyth | OK | OK | OK | OK |  | 
| RSVSim 1.20.0 | Christoph Bartenhagen | OK | OK | OK | OK |  | 
| rTANDEM 1.20.0 | Frederic Fournier | OK | OK | WARNINGS | OK |  | 
| RTCA 1.32.0 | Jitao David Zhang | OK | OK | OK | OK |  | 
| RTCGA 1.10.0 | Marcin Kosinski | OK | OK | OK | OK |  | 
| RTCGAToolbox 2.10.0 | Marcel Ramos | OK | OK | OK | OK |  | 
| RTN 2.4.6 | Mauro Castro | OK | OK | OK | OK |  | 
| RTNduals 1.4.4 | Mauro Castro , Clarice Groeneveld | OK | OK | OK | OK |  | 
| RTNsurvival 1.4.5 | Clarice Groeneveld , Mauro A. A. Castro | OK | OK | OK | OK |  | 
| RTopper 1.26.0 | Luigi Marchionni | OK | OK | OK | OK |  | 
| rtracklayer 1.40.6 | Michael Lawrence | OK | OK | WARNINGS | OK |  | 
| Rtreemix 1.42.0 | Jasmina Bogojeska | OK | OK | OK | OK |  | 
| rTRM 1.18.0 | Diego Diez | OK | OK | OK | OK |  | 
| rTRMui 1.18.0 | Diego Diez | OK | OK | OK | OK |  | 
| runibic 1.2.5 | Patryk Orzechowski | OK | OK | OK | OK |  | 
| RUVcorr 1.12.0 | Saskia Freytag | OK | OK | OK | OK |  | 
| RUVnormalize 1.14.0 | Laurent Jacob | OK | OK | OK | OK |  | 
| RUVSeq 1.14.0 | Davide Risso | OK | OK | OK | OK |  | 
| RVS 1.2.1 | Thomas Sherman | OK | OK | OK | OK |  | 
| rWikiPathways 1.0.5 | Egon Willighagen , Alexander Pico | OK | OK | OK | OK |  | 
|  | 
|  |  | 
| S4Vectors 0.18.3 | Bioconductor Package Maintainer | OK | OK | WARNINGS | OK |  | 
| safe 3.20.0 | William T. Barry | OK | OK | OK | OK |  | 
| sagenhaft 1.50.0 | Tim Beissbarth | OK | OK | OK | OK |  | 
| SAGx 1.54.0 | Per Broberg, | OK | OK | OK | OK |  | 
| samExploreR 1.4.0 | shailesh tripathi | OK | OK | OK | OK |  | 
| sampleClassifier 1.4.0 | Khadija El Amrani | OK | OK | OK | OK |  | 
| SamSPECTRAL 1.34.0 | Habil Zare | OK | OK | WARNINGS | OK |  | 
| sangerseqR 1.16.0 | Jonathon Hill | OK | OK | OK | OK |  | 
| SANTA 2.18.0 | Alex J. Cornish | OK | OK | WARNINGS | OK |  | 
| sapFinder 1.18.0 | Shaohang Xu , Bo Wen | OK | OK | OK | OK |  | 
| savR 1.18.0 | R. Brent Calder | OK | OK | OK | OK |  | 
| SBMLR 1.76.0 | Tomas Radivoyevitch | OK | OK | OK | OK |  | 
| SC3 1.8.0 | Vladimir Kiselev | OK | OK | OK | OK |  | 
| Scale4C 1.2.0 | Carolin Walter | OK | OK | OK | OK |  | 
| SCAN.UPC 2.22.0 | Stephen R. Piccolo | OK | OK | OK | OK |  | 
| scater 1.8.4 | Davis McCarthy | OK | OK | WARNINGS | OK |  | 
| scDD 1.4.0 | Keegan Korthauer | OK | OK | OK | OK |  | 
| scde 2.8.0 | Jean Fan | OK | OK | WARNINGS | OK |  | 
| scFeatureFilter 1.0.0 | Guillaume Devailly | OK | OK | OK | OK |  | 
| scfind 1.2.0 | Vladimir Kiselev | OK | OK | OK | OK |  | 
| ScISI 1.52.0 | Tony Chiang | OK | OK | OK | OK |  | 
| scmap 1.2.0 | Vladimir Kiselev | OK | OK | OK | OK |  | 
| scmeth 1.0.1 | Divy Kangeyan | OK | OK | OK | OK |  | 
| SCnorm 1.2.1 | Rhonda Bacher | OK | OK | OK | OK |  | 
| scone 1.4.0 | Michael Cole | OK | OK | OK | OK |  | 
| Sconify 1.0.4 | Tyler J Burns | OK | OK | OK | OK |  | 
| scoreInvHap 1.2.1 | Carlos Ruiz | OK | OK | WARNINGS | OK |  | 
| scPipe 1.2.1 | Luyi Tian | OK | OK | WARNINGS | OK |  | 
| scran 1.8.4 | Aaron Lun | OK | OK | WARNINGS | OK |  | 
| scsR 1.16.0 | Andrea Franceschini , Roger Meier , Christian von Mering | OK | OK | OK | OK |  | 
| SDAMS 1.0.0 | Yuntong Li | OK | OK | OK | OK |  | 
| segmentSeq 2.14.0 | Thomas J. Hardcastle | OK | OK | OK | OK |  | 
| SELEX 1.12.0 | Harmen Bussemaker | OK | OK | OK | OK |  | 
| SemDist 1.14.0 | Ian Gonzalez | OK | OK | OK | OK |  | 
| semisup 1.4.0 | Armin Rauschenberger | OK | OK | OK | OK |  | 
| SEPA 1.10.0 | Zhicheng Ji | OK | OK | OK | OK |  | 
| SEPIRA 1.0.2 | Yuting Chen | OK | OK | OK | OK |  | 
| seq2pathway 1.12.0 | Xinan Yang  with contribution from Lorenzo Pesce  and Ana Marija Sokovic | OK | OK | OK | OK |  | 
| SeqArray 1.20.2 | Xiuwen Zheng | OK | OK | OK | OK |  | 
| seqbias 1.28.0 | Daniel Jones | OK | OK | OK | OK |  | 
| seqCAT 1.2.1 | Erik Fasterius | OK | OK | OK | OK |  | 
| seqCNA 1.26.0 | David Mosen-Ansorena | OK | OK | WARNINGS | OK |  | 
| seqcombo 1.2.0 | Guangchuang Yu | OK | OK | OK | OK |  | 
| SeqGSEA 1.20.0 | Xi Wang | OK | OK | WARNINGS | OK |  | 
| seqLogo 1.46.0 | Oliver Bembom | OK | OK | OK | OK |  | 
| seqPattern 1.12.0 | Vanja Haberle | OK | OK | OK | OK |  | 
| seqplots 1.18.0 | Przemyslaw Stempor | OK | OK | OK | OK |  | 
| seqsetvis 1.0.2 | Joseph R Boyd | OK | OK | OK | OK |  | 
| SeqSQC 1.2.0 | Qian Liu | OK | OK | OK | OK |  | 
| seqTools 1.14.0 | Wolfgang Kaisers | OK | OK | WARNINGS | OK |  | 
| SeqVarTools 1.18.0 | Stephanie M. Gogarten | OK | OK | OK | OK |  | 
| sevenbridges 1.10.5 | Nan Xiao | OK | OK | OK | OK |  | 
| sevenC 1.0.0 | Jonas Ibn-Salem | OK | OK | OK | OK |  | 
| SGSeq 1.14.0 | Leonard Goldstein | OK | OK | OK | OK |  | 
| shinyMethyl 1.16.0 | Jean-Philippe Fortin | OK | OK | OK | OK |  | 
| shinyTANDEM 1.18.0 | Frederic Fournier | OK | OK | OK | OK |  | 
| ShortRead 1.38.0 | Bioconductor Package Maintainer | OK | OK | OK | OK |  | 
| SIAMCAT 1.0.0 | Konrad Zych | OK | OK | OK | OK |  | 
| SICtools 1.10.0 | Xiaobin Xing | OK | OK | WARNINGS | OK |  | 
| sigaR 1.28.0 | Wessel N. van Wieringen | OK | OK | OK | OK |  | 
| SigCheck 2.12.0 | Rory Stark | OK | OK | OK | OK |  | 
| SigFuge 1.18.0 | Patrick Kimes | OK | OK | OK | OK |  | 
| siggenes 1.54.0 | Holger Schwender | OK | OK | OK | OK |  | 
| sights 1.6.0 | Elika Garg | OK | OK | OK | OK |  | 
| signeR 1.6.1 | Renan Valieris | OK | OK | OK | OK |  | 
| signet 1.0.2 | Alexandre Gouy | OK | OK | OK | OK |  | 
| sigPathway 1.48.0 | Weil Lai | OK | OK | OK | OK |  | 
| sigsquared 1.12.0 | UnJin Lee | OK | OK | OK | OK |  | 
| SIM 1.50.0 | Renee X. de Menezes | OK | OK | OK | OK |  | 
| SIMAT 1.12.1 | M. R. Nezami Ranjbar | OK | OK | OK | OK |  | 
| SimBindProfiles 1.18.0 | Bettina Fischer | OK | OK | OK | OK |  | 
| similaRpeak 1.12.0 | Astrid Deschenes | OK | OK | OK | OK |  | 
| SIMLR 1.6.0 | Daniele Ramazzotti | OK | OK | OK | OK |  | 
| simpleaffy 2.56.0 | Crispin Miller | OK | OK | WARNINGS | OK |  | 
| simulatorZ 1.14.0 | Yuqing Zhang | OK | OK | OK | OK |  | 
| sincell 1.12.0 | Miguel Julia , Antonio Rausell | OK | OK | OK | OK |  | 
| SingleCellExperiment 1.2.0 | Davide Risso | OK | OK | OK | OK |  | 
| singleCellTK 1.0.3 | David Jenkins | OK | OK | OK | OK |  | 
| singscore 1.0.0 | Ruqian Lyu | OK | OK | OK | OK |  | 
| SISPA 1.10.0 | Bhakti Dwivedi | OK | OK | WARNINGS | OK |  | 
| sizepower 1.50.0 | Weiliang Qiu | OK | OK | OK | OK |  | 
| skewr 1.12.1 | Ryan Putney | OK | OK | OK | OK |  | 
| slalom 1.2.0 | Davis McCarthy | OK | OK | OK | OK |  | 
| SLGI 1.40.0 | Nolwenn Le Meur | OK | OK | OK | OK |  | 
| SLqPCR 1.46.0 | Matthias Kohl | OK | OK | OK | OK |  | 
| SMAP 1.44.0 | Robin Andersson | OK | OK | OK | OK |  | 
| SMITE 1.8.0 | Neil Ari Wijetunga | OK | OK | OK | OK |  | 
| SNAGEE 1.20.0 | David Venet | OK | OK | OK | OK |  | 
| snapCGH 1.50.0 | John Marioni | OK | OK | OK | OK |  | 
| snm 1.28.0 | John D. Storey | OK | OK | OK | OK |  | 
| SNPchip 2.26.0 | Robert Scharpf | OK | OK | OK | OK |  | 
| SNPediaR 1.6.0 | David Montaner | OK | OK | OK | OK |  | 
| SNPhood 1.10.0 | Christian Arnold | OK | OK | OK | OK |  | 
| SNPRelate 1.14.0 | Xiuwen Zheng | OK | OK | OK | OK |  | 
| snpStats 1.30.0 | David Clayton | OK | OK | OK | OK |  | 
| soGGi 1.12.0 | Tom Carroll | OK | OK | WARNINGS | OK |  | 
| SomaticSignatures 2.16.0 | Julian Gehring | OK | OK | OK | OK |  | 
| SpacePAC 1.18.3 | Gregory Ryslik | OK | OK | OK | OK |  | 
| sparseDOSSA 1.4.0 | Boyu Ren, Emma Schwager | OK | OK | OK | OK |  | 
| SparseSignatures 1.0.3 | Luca De Sano | OK | OK | OK | OK |  | 
| specL 1.14.0 | Christian Panse , Witold E. Wolski | OK | OK | OK | OK |  | 
| SpeCond 1.34.0 | Florence Cavalli | OK | OK | OK | OK |  | 
| SPEM 1.20.0 | Xinyi YANG | OK | OK | OK | OK |  | 
| SPIA 2.32.0 | Adi Laurentiu Tarca | OK | OK | OK | OK |  | 
| SpidermiR 1.10.0 | Claudia Cava | OK | OK | WARNINGS | OK |  | 
| spikeLI 2.40.0 | Enrico Carlon | OK | OK | OK | OK |  | 
| spkTools 1.36.0 | Matthew N McCall | OK | OK | OK | OK |  | 
| splatter 1.4.3 | Luke Zappia | OK | OK | OK | OK |  | 
| splicegear 1.52.0 | Laurent Gautier | OK | OK | OK | OK |  | 
| spliceR1.22.0 | Johannes Waage | OK | OK | WARNINGS | OK |  | 
| spliceSites 1.28.0 | Wolfgang Kaisers | OK | OK | OK | OK |  | 
| SplicingGraphs 1.20.0 | H. Pagès | OK | OK | WARNINGS | OK |  | 
| splineTimeR 1.8.0 | Herbert Braselmann | OK | OK | OK | OK |  | 
| SPLINTER 1.6.0 | Diana Low | OK | OK | OK | OK |  | 
| splots 1.46.0 | Wolfgang Huber | OK | OK | OK | OK |  | 
| SPONGE 1.2.0 | Markus List | OK | OK | OK | OK |  | 
| spotSegmentation 1.54.0 | Chris Fraley | OK | OK | WARNINGS | OK |  | 
| SQUADD 1.30.0 | Martial Sankar | OK | OK | OK | OK |  | 
| SRAdb 1.42.2 | Jack Zhu | OK | OK | OK | OK |  | 
| sRAP 1.20.0 | Charles Warden | OK | OK | WARNINGS | OK |  | 
| SRGnet 1.6.0 | Isar Nassiri | OK | OK | OK | OK |  | 
| srnadiff 1.0.0 | Matthias Zytnicki | OK | OK | OK | OK |  | 
| sscore 1.52.0 | Richard Kennedy | OK | OK | OK | OK |  | 
| sscu 2.10.0 | Yu Sun | OK | OK | WARNINGS | OK |  | 
| sSeq 1.18.0 | Danni Yu | OK | OK | OK | OK |  | 
| ssize 1.54.0 | Gregory R. Warnes | OK | OK | OK | OK |  | 
| SSPA 2.20.0 | Maarten van Iterson | OK | OK | OK | OK |  | 
| ssviz 1.14.0 | Diana Low | OK | OK | OK | OK |  | 
| stageR 1.2.22 | Koen Van den Berge | OK | OK | WARNINGS | OK |  | 
| STAN 2.8.0 | Rafael Campos-Martin | OK | OK | OK | OK |  | 
| staRank 1.22.0 | Juliane Siebourg | OK | OK | OK | OK |  | 
| StarBioTrek 1.6.0 | Claudia Cava | OK | OK | OK | OK |  | 
| Starr 1.36.0 | Benedikt Zacher | OK | OK | OK | OK |  | 
| STATegRa 1.16.1 | David Gomez-Cabrero , Núria Planell | OK | OK | OK | OK |  | 
| statTarget 1.10.0 | Hemi Luan | OK | OK | OK | OK |  | 
| stepNorm 1.52.0 | Yuanyuan Xiao | OK | OK | OK | OK |  | 
| Streamer 1.26.0 | Martin Morgan | OK | OK | OK | OK |  | 
| STRINGdb 1.20.0 | Damian Szklarczyk | OK | OK | WARNINGS | OK |  | 
| STROMA4 1.4.0 | Sadiq Saleh | OK | OK | OK | OK |  | 
| subSeq 1.10.0 | Andrew J. Bass , John D. Storey | OK | OK | OK | OK |  | 
| SummarizedBenchmark 1.0.4 | Alejandro Reyes , Patrick Kimes | OK | OK | OK | OK |  | 
| SummarizedExperiment 1.10.1 | Bioconductor Package Maintainer | OK | OK | WARNINGS | OK |  | 
| supraHex 1.18.0 | Hai Fang | OK | OK | OK | OK |  | 
| survcomp 1.30.0 | Benjamin Haibe-Kains , Markus Schroeder , Catharina Olsen | OK | OK | OK | OK |  | 
| Sushi 1.18.0 | Douglas H Phanstiel | OK | OK | WARNINGS | OK |  | 
| sva 3.28.0 | Jeffrey T. Leek , John D. Storey | OK | OK | OK | OK |  | 
| SVAPLSseq 1.6.0 | Sutirtha Chakraborty | OK | OK | OK | OK |  | 
| SVM2CRM 1.12.0 | Guidantonio Malagoli Tagliazucchi | OK | OK | WARNINGS | OK |  | 
| SWATH2stats 1.10.2 | Peter Blattmann | OK | OK | OK | OK |  | 
| SwathXtend 2.2.0 | Jemma Wu | OK | OK | WARNINGS | OK |  | 
| swfdr 1.6.0 | Simina M. Boca , Jeffrey T. Leek | OK | OK | OK | OK |  | 
| SwimR 1.18.0 | Randy Blakely | OK | OK | OK | OK |  | 
| switchBox 1.16.0 | Bahman Afsari , Luigi Marchionni | OK | OK | WARNINGS | OK |  | 
| switchde 1.6.0 | Kieran Campbell | OK | OK | OK | OK |  | 
| synapter 2.4.1 | Laurent Gatto | OK | OK | OK | OK |  | 
| synergyfinder 1.6.1 | Liye He | OK | OK | OK | OK |  | 
| synlet 1.10.0 | Chunxuan Shao | OK | OK | OK | OK |  | 
| systemPipeR 1.14.0 | Thomas Girke | OK | OK | OK | OK |  | 
|  | 
|  |  | 
| TargetScore 1.18.0 | Yue Li | OK | OK | OK | OK |  | 
| TargetSearch 1.36.1 | Alvaro Cuadros-Inostroza | OK | OK | OK | OK |  | 
| TarSeqQC 1.10.0 | Gabriela Merino | OK | OK | OK | OK |  | 
| TCC 1.20.1 | Jianqiang Sun | OK | OK | OK | OK |  | 
| TCGAbiolinks 2.8.4 | Antonio Colaprico | OK | OK | WARNINGS | OK |  | 
| TCGAbiolinksGUI 1.6.1 | Tiago C. Silva | OK | OK | OK | OK |  | 
| TCGAutils 1.0.1 | Marcel Ramos | OK | OK | OK | OK |  | 
| TCseq 1.4.0 | Mengjun Wu | OK | OK | OK | OK |  | 
| TDARACNE 1.30.0 | Zoppoli Pietro | OK | OK | OK | OK |  | 
| tenXplore 1.2.0 | VJ Carey | OK | OK | OK | OK |  | 
| TEQC 4.2.0 | Manuela Hummel | OK | OK | OK | OK |  | 
| ternarynet 1.24.0 | Matthew N. McCall | OK | OK | OK | OK |  | 
| TFARM 1.2.0 | Liuba Nausicaa Martino | OK | OK | OK | OK |  | 
| TFBSTools 1.18.0 | Ge Tan | OK | OK | OK | OK |  | 
| TFEA.ChIP 1.0.0 | Laura Puente Santamaría | OK | OK | OK | OK |  | 
| TFHAZ 1.2.0 | Alberto Marchesi | OK | OK | OK | OK |  | 
| TFutils 1.0.0 | Shweta Gopaulakrishnan | OK | OK | OK | OK |  | 
| tigre 1.34.0 | Antti Honkela | OK | OK | OK | OK |  | 
| tilingArray 1.58.0 | Zhenyu Xu | OK | OK | OK | OK |  | 
| timecourse 1.52.0 | Yu Chuan Tai | OK | OK | OK | OK |  | 
| timescape 1.4.0 | Maia Smith | OK | OK | WARNINGS | OK |  | 
| TIN 1.12.0 | Bjarne Johannessen | OK | OK | OK | OK |  | 
| TissueEnrich 1.0.7 | Ashish Jain | OK | OK | OK | OK |  | 
| TitanCNA 1.18.0 | Gavin Ha , Sohrab P Shah | OK | OK | WARNINGS | OK |  | 
| tkWidgets 1.58.0 | J. Zhang | OK | OK | OK | OK |  | 
| TMixClust 1.2.0 | Monica Golumbeanu | OK | OK | OK | OK |  | 
| TnT 1.2.0 | Jialin Ma | OK | OK | OK | OK |  | 
| tofsims 1.8.0 | Lorenz Gerber | OK | OK | OK | OK |  | 
| ToPASeq 1.14.1 | Ludwig Geistlinger | OK | OK | OK | OK |  | 
| topdownr 1.2.0 | Sebastian Gibb | OK | OK | OK | OK |  | 
| topGO 2.32.0 | Adrian Alexa | OK | OK | OK | OK |  | 
| TPP 3.8.5 | Dorothee Childs | OK | OK | OK | OK |  | 
| tracktables 1.14.0 | Tom Carroll | OK | OK | WARNINGS | OK |  | 
| trackViewer 1.16.1 | Jianhong Ou | OK | OK | OK | OK |  | 
| transcriptogramer 1.2.1 | Diego Morais | OK | OK | OK | OK |  | 
| transcriptR 1.8.0 | Armen R. Karapetyan | OK | OK | OK | OK |  | 
| tRanslatome 1.18.5 | Toma Tebaldi , Erik Dassi | OK | OK | OK | OK |  | 
| TransView 1.24.0 | Julius Muller | OK | OK | OK | OK |  | 
| traseR 1.10.0 | li chen | OK | OK | OK | OK |  | 
| treeio 1.4.3 | Guangchuang Yu | OK | OK | OK | OK |  | 
| trena 1.2.0 | Paul Shannon | OK | OK | OK | OK |  | 
| Trendy 1.2.11 | Rhonda Bacher | OK | OK | OK | OK |  | 
| triform 1.22.0 | Thomas Carroll | OK | OK | OK | OK |  | 
| trigger 1.26.0 | John D. Storey | OK | OK | OK | OK |  | 
| trio 3.18.0 | Holger Schwender | OK | OK | OK | OK |  | 
| triplex 1.20.0 | Jiri Hon | OK | OK | OK | OK |  | 
| tRNAscanImport 1.0.1 | Felix GM Ernst | OK | OK | OK | OK |  | 
| TRONCO 2.12.0 | BIMIB Group | OK | OK | OK | OK |  | 
| TSCAN 1.18.0 | Zhicheng Ji | OK | OK | OK | OK |  | 
| tspair 1.38.0 | Jeffrey T. Leek | OK | OK | OK | OK |  | 
| TSRchitect 1.8.9 | R. Taylor Raborn | OK | OK | WARNINGS | OK |  | 
| TSSi 1.26.0 | Julian Gehring | OK | OK | OK | OK |  | 
| TTMap 1.2.0 | Rachel Jeitziner | OK | OK | WARNINGS | OK |  | 
| TurboNorm 1.28.0 | Maarten van Iterson | OK | OK | OK | OK |  | 
| TVTB 1.6.0 | Kevin Rue-Albrecht | OK | OK | OK | OK |  | 
| tweeDEseq 1.26.0 | Juan R Gonzalez | OK | OK | OK | OK |  | 
| twilight 1.56.0 | Stefanie Scheid | OK | OK | WARNINGS | OK |  | 
| twoddpcr 1.4.1 | Anthony Chiu | OK | OK | OK | OK |  | 
| tximport 1.8.0 | Michael Love | OK | OK | OK | OK |  | 
| TxRegInfra 1.0.1 | VJ Carey | OK | OK | OK | OK |  | 
| TypeInfo 1.46.0 | Duncan Temple Lang | OK | OK | OK | OK |  | 
|  | 
|  |  | 
| UNDO 1.22.0 | Niya Wang | OK | OK | OK | OK |  | 
| unifiedWMWqPCR 1.16.0 | Joris Meys | OK | OK | OK | OK |  | 
| UniProt.ws 2.20.4 | Marc Carlson | OK | OK | OK | OK |  | 
| Uniquorn 2.0.0 | 'Raik Otto' | OK | OK | WARNINGS | OK |  | 
| uSORT 1.6.0 | Hao Chen | OK | OK | WARNINGS | OK |  | 
|  | 
|  |  | 
| VanillaICE 1.42.4 | Robert Scharpf | OK | OK | OK | OK |  | 
| variancePartition 1.10.4 | Gabriel E. Hoffman | OK | OK | OK | OK |  | 
| VariantAnnotation 1.26.1 | Valerie Obenchain | OK | OK | OK | OK |  | 
| VariantFiltering 1.16.0 | Robert Castelo | OK | OK | OK | OK |  | 
| VariantTools 1.22.0 | Michael Lawrence | OK | OK | WARNINGS | OK |  | 
| vbmp 1.48.0 | Nicola Lama | OK | OK | OK | OK |  | 
| Vega 1.28.0 | Sandro Morganella | OK | OK | WARNINGS | OK |  | 
| VegaMC 3.18.0 | Sandro Morganella | OK | OK | WARNINGS | OK |  | 
| vidger 1.0.0 | Brandon Monier | OK | OK | OK | OK |  | 
| viper 1.14.0 | Mariano J Alvarez | OK | OK | WARNINGS | OK |  | 
| vsn 3.48.1 | Wolfgang Huber | OK | OK | OK | OK |  | 
| vtpnet 0.20.0 | VJ Carey | OK | OK | OK | OK |  | 
| vulcan 1.2.0 | Federico M. Giorgi | OK | OK | OK | OK |  | 
|  | 
|  |  | 
| wateRmelon 1.24.0 | Leo | OK | OK | WARNINGS | OK |  | 
| wavClusteR 2.14.0 | Federico Comoglio | OK | OK | OK | OK |  | 
| waveTiling 1.22.0 | Kristof De Beuf | OK | OK | OK | OK |  | 
| weaver 1.46.0 | Seth Falcon | OK | OK | WARNINGS | OK |  | 
| webbioc 1.52.0 | Colin A. Smith | OK | OK | OK | OK |  | 
| widgetTools 1.58.0 | Jianhua Zhang | OK | OK | OK | OK |  | 
| wiggleplotr 1.4.0 | Kaur Alasoo | OK | OK | WARNINGS | OK |  | 
|  | 
|  |  | 
| XBSeq 1.12.0 | Yuanhang Liu | OK | OK | OK | OK |  | 
| xcms 3.2.0 | Steffen Neumann | OK | OK | OK | OK |  | 
| XDE 2.26.0 | Robert Scharpf | OK | OK | OK | OK |  | 
| xmapbridge 1.38.0 | Chris Wirth | OK | OK | OK | OK |  | 
| xps 1.40.0 | Christian Stratowa | OK | OK | OK | OK |  | 
| XVector 0.20.0 | Hervé Pagès | OK | OK | WARNINGS | OK |  | 
|  | 
|  |  | 
| yamss 1.6.0 | Leslie Myint | OK | OK | OK | OK |  | 
| YAPSA 1.6.0 | Daniel Huebschmann | OK | OK | OK | OK |  | 
| yaqcaffy 1.40.0 | Laurent Gatto | OK | OK | OK | OK |  | 
| yarn 1.6.0 | Joseph N Paulson | OK | OK | OK | OK |  | 
|  | 
|  |  | 
| zFPKM 1.2.0 | Ron Ammar | OK | OK | OK | OK |  | 
| zinbwave 1.2.0 | Davide Risso | OK | OK | OK | OK |  | 
| zlibbioc 1.26.0 | Bioconductor Package Maintainer | OK | OK | OK | OK |  |