ELMER 2.0.4 Tiago Chedraoui Silva
Snapshot Date: 2017-08-15 17:18:21 -0400 (Tue, 15 Aug 2017) | URL: https://hedgehog.fhcrc.org/bioconductor/trunk/madman/Rpacks/ELMER | Last Changed Rev: 131794 / Revision: 131943 | Last Changed Date: 2017-08-07 18:39:41 -0400 (Mon, 07 Aug 2017) |
| malbec1 | Linux (Ubuntu 16.04.1 LTS) / x86_64 | OK | OK | OK | | ![UNNEEDED, same version exists in internal repository UNNEEDED, same version exists in internal repository](../120px-Blue_Light_Icon.svg.png) |
tokay1 | Windows Server 2012 R2 Standard / x64 | OK | OK | OK | OK | ![UNNEEDED, same version exists in internal repository UNNEEDED, same version exists in internal repository](../120px-Blue_Light_Icon.svg.png) |
veracruz1 | OS X 10.11.6 El Capitan / x86_64 | OK | OK | [ OK ] | OK | ![UNNEEDED, same version exists in internal repository UNNEEDED, same version exists in internal repository](../120px-Blue_Light_Icon.svg.png) |
##############################################################################
##############################################################################
###
### Running command:
###
### /Library/Frameworks/R.framework/Versions/Current/Resources/bin/R CMD check --no-vignettes --timings ELMER_2.0.4.tar.gz
###
##############################################################################
##############################################################################
* using log directory ‘/Users/biocbuild/bbs-3.6-bioc/meat/ELMER.Rcheck’
* using R version 3.4.1 (2017-06-30)
* using platform: x86_64-apple-darwin15.6.0 (64-bit)
* using session charset: UTF-8
* using option ‘--no-vignettes’
* checking for file ‘ELMER/DESCRIPTION’ ... OK
* this is package ‘ELMER’ version ‘2.0.4’
* checking package namespace information ... OK
* checking package dependencies ... OK
* checking if this is a source package ... OK
* checking if there is a namespace ... OK
* checking for hidden files and directories ... OK
* checking for portable file names ... OK
* checking for sufficient/correct file permissions ... OK
* checking whether package ‘ELMER’ can be installed ... OK
* checking installed package size ... NOTE
installed size is 36.5Mb
sub-directories of 1Mb or more:
doc 36.3Mb
* checking package directory ... OK
* checking ‘build’ directory ... OK
* checking DESCRIPTION meta-information ... OK
* checking top-level files ... OK
* checking for left-over files ... OK
* checking index information ... OK
* checking package subdirectories ... OK
* checking R files for non-ASCII characters ... OK
* checking R files for syntax errors ... OK
* checking whether the package can be loaded ... OK
* checking whether the package can be loaded with stated dependencies ... OK
* checking whether the package can be unloaded cleanly ... OK
* checking whether the namespace can be loaded with stated dependencies ... OK
* checking whether the namespace can be unloaded cleanly ... OK
* checking dependencies in R code ... NOTE
Unexported objects imported by ':::' calls:
'TCGAbiolinks:::colDataPrepare' 'TCGAbiolinks:::get.GRCh.bioMart'
See the note in ?`:::` about the use of this operator.
* checking S3 generic/method consistency ... OK
* checking replacement functions ... OK
* checking foreign function calls ... OK
* checking R code for possible problems ... NOTE
TF.rank.plot: no visible binding for global variable 'pvalue'
TF.rank.plot: no visible binding for global variable 'label'
TF.rank.plot: no visible binding for global variable 'Gene'
addMutCol: no visible binding for global variable 'Hugo_Symbol'
motif.enrichment.plot: no visible binding for global variable 'upperOR'
motif.enrichment.plot: no visible binding for global variable 'lowerOR'
motif.enrichment.plot: no visible binding for global variable 'motif'
motif.enrichment.plot: no visible binding for global variable 'OR'
scatter: no visible binding for global variable 'value'
schematic: no visible global function definition for 'pdf'
schematic: no visible global function definition for 'dev.off'
Undefined global functions or variables:
Gene Hugo_Symbol OR dev.off label lowerOR motif pdf pvalue upperOR
value
Consider adding
importFrom("grDevices", "dev.off", "pdf")
to your NAMESPACE file.
* checking Rd files ... OK
* checking Rd metadata ... OK
* checking Rd cross-references ... OK
* checking for missing documentation entries ... OK
* checking for code/documentation mismatches ... OK
* checking Rd \usage sections ... OK
* checking Rd contents ... OK
* checking for unstated dependencies in examples ... OK
* checking installed files from ‘inst/doc’ ... OK
* checking files in ‘vignettes’ ... OK
* checking examples ... OK
Examples with CPU or elapsed time > 5s
user system elapsed
createMAE 105.365 1.229 117.822
preAssociationProbeFiltering 52.936 0.702 57.252
get.enriched.motif 8.690 0.723 9.740
schematic.plot 9.261 0.132 28.621
scatter.plot 7.940 0.133 8.303
GetNearGenes 7.258 0.259 21.942
get.feature.probe 5.366 0.700 9.051
get.TFs 2.687 0.097 10.866
getTCGA 2.108 0.147 10.119
* checking for unstated dependencies in ‘tests’ ... OK
* checking tests ...
Running ‘testthat.R’
OK
* checking for unstated dependencies in vignettes ... NOTE
'::' or ':::' import not declared from: ‘devtools’
* checking package vignettes in ‘inst/doc’ ... OK
* checking running R code from vignettes ... SKIPPED
* checking re-building of vignette outputs ... SKIPPED
* checking PDF version of manual ... OK
* DONE
Status: 4 NOTEs
See
‘/Users/biocbuild/bbs-3.6-bioc/meat/ELMER.Rcheck/00check.log’
for details.