ELMER 2.0.4 Tiago Chedraoui Silva
Snapshot Date: 2017-08-15 17:18:21 -0400 (Tue, 15 Aug 2017) | URL: https://hedgehog.fhcrc.org/bioconductor/trunk/madman/Rpacks/ELMER | Last Changed Rev: 131794 / Revision: 131943 | Last Changed Date: 2017-08-07 18:39:41 -0400 (Mon, 07 Aug 2017) |
| malbec1 | Linux (Ubuntu 16.04.1 LTS) / x86_64 | OK | OK | OK | | |
tokay1 | Windows Server 2012 R2 Standard / x64 | OK | OK | OK | [ OK ] | |
veracruz1 | OS X 10.11.6 El Capitan / x86_64 | OK | OK | OK | OK | |
##############################################################################
##############################################################################
###
### Running command:
###
### cd ELMER.buildbin-libdir/ELMER && zip -r ../../ELMER_2.0.4.zip . & cd ../..
###
##############################################################################
##############################################################################
adding: DESCRIPTION (332 bytes security) (deflated 47%)
adding: doc/ (372 bytes security) (stored 0%)
adding: doc/analysis_data_input.html (332 bytes security) (deflated 65%)
adding: doc/analysis_data_input.R (332 bytes security) (deflated 64%)
adding: doc/analysis_data_input.Rmd (332 bytes security) (deflated 54%)
adding: doc/analysis_diff_meth.html (332 bytes security) (deflated 56%)
adding: doc/analysis_diff_meth.R (332 bytes security) (deflated 58%)
adding: doc/analysis_diff_meth.Rmd (332 bytes security) (deflated 61%)
adding: doc/analysis_get_pair.html (332 bytes security) (deflated 41%)
adding: doc/analysis_get_pair.R (332 bytes security) (deflated 61%)
adding: doc/analysis_get_pair.Rmd (332 bytes security) (deflated 72%)
adding: doc/analysis_gui.html (332 bytes security) (deflated 43%)
adding: doc/analysis_gui.R (332 bytes security) (deflated 50%)
adding: doc/analysis_gui.Rmd (332 bytes security) (deflated 74%)
adding: doc/analysis_motif_enrichment.html (332 bytes security) (deflated 64%)
adding: doc/analysis_motif_enrichment.R (332 bytes security) (deflated 62%)
adding: doc/analysis_motif_enrichment.Rmd (332 bytes security) (deflated 62%)
adding: doc/analysis_regulatory_tf.html (332 bytes security) (deflated 54%)
adding: doc/analysis_regulatory_tf.R (332 bytes security) (deflated 57%)
adding: doc/analysis_regulatory_tf.Rmd (332 bytes security) (deflated 58%)
adding: doc/index.html (332 bytes security) (deflated 51%)
adding: doc/index.R (332 bytes security) (deflated 59%)
adding: doc/index.Rmd (332 bytes security) (deflated 56%)
adding: doc/input.html (332 bytes security) (deflated 68%)
adding: doc/input.R (332 bytes security) (deflated 76%)
adding: doc/input.Rmd (332 bytes security) (deflated 69%)
adding: doc/pipe.html (332 bytes security) (deflated 64%)
adding: doc/pipe.R (332 bytes security) (deflated 70%)
adding: doc/pipe.Rmd (332 bytes security) (deflated 64%)
adding: doc/plots_motif_enrichment.html (332 bytes security) (deflated 62%)
adding: doc/plots_motif_enrichment.R (332 bytes security) (deflated 45%)
adding: doc/plots_motif_enrichment.Rmd (332 bytes security) (deflated 55%)
adding: doc/plots_scatter.html (332 bytes security) (deflated 62%)
adding: doc/plots_scatter.R (332 bytes security) (deflated 62%)
adding: doc/plots_scatter.Rmd (332 bytes security) (deflated 66%)
adding: doc/plots_schematic.html (332 bytes security) (deflated 63%)
adding: doc/plots_schematic.R (332 bytes security) (deflated 57%)
adding: doc/plots_schematic.Rmd (332 bytes security) (deflated 56%)
adding: doc/plots_TF.html (332 bytes security) (deflated 63%)
adding: doc/plots_TF.R (332 bytes security) (deflated 66%)
adding: doc/plots_TF.Rmd (332 bytes security) (deflated 71%)
adding: help/ (372 bytes security) (stored 0%)
adding: help/aliases.rds (332 bytes security) (stored 0%)
adding: help/AnIndex (332 bytes security) (deflated 62%)
adding: help/ELMER.rdb (332 bytes security) (deflated 1%)
adding: help/ELMER.rdx (332 bytes security) (stored 0%)
adding: help/paths.rds (332 bytes security) (stored 0%)
adding: html/ (372 bytes security) (stored 0%)
adding: html/00Index.html (332 bytes security) (deflated 73%)
adding: html/R.css (332 bytes security) (deflated 75%)
adding: INDEX (332 bytes security) (deflated 70%)
adding: MD5 (332 bytes security) (deflated 51%)
adding: Meta/ (372 bytes security) (stored 0%)
adding: Meta/features.rds (332 bytes security) (stored 0%)
adding: Meta/hsearch.rds (332 bytes security) (stored 0%)
adding: Meta/links.rds (332 bytes security) (stored 0%)
adding: Meta/nsInfo.rds (332 bytes security) (stored 0%)
adding: Meta/package.rds (332 bytes security) (stored 0%)
adding: Meta/Rd.rds (332 bytes security) (stored 0%)
adding: Meta/vignette.rds (332 bytes security) (stored 0%)
adding: NAMESPACE (332 bytes security) (deflated 72%)
adding: R/ (372 bytes security) (stored 0%)
adding: R/ELMER (332 bytes security) (deflated 41%)
adding: R/ELMER.rdb (332 bytes security) (deflated 1%)
adding: R/ELMER.rdx (332 bytes security) (stored 0%)