Back to Multiple platform build/check report for BioC 3.19: simplified long |
|
This page was generated on 2024-04-16 11:38:23 -0400 (Tue, 16 Apr 2024).
Hostname | OS | Arch (*) | R version | Installed pkgs |
---|---|---|---|---|
nebbiolo1 | Linux (Ubuntu 22.04.3 LTS) | x86_64 | R Under development (unstable) (2024-03-18 r86148) -- "Unsuffered Consequences" | 4739 |
palomino3 | Windows Server 2022 Datacenter | x64 | R Under development (unstable) (2024-03-16 r86144 ucrt) -- "Unsuffered Consequences" | 4472 |
lconway | macOS 12.7.1 Monterey | x86_64 | R Under development (unstable) (2024-03-18 r86148) -- "Unsuffered Consequences" | 4500 |
kunpeng2 | Linux (openEuler 22.03 LTS-SP1) | aarch64 | R Under development (unstable) (2024-03-19 r86153) -- "Unsuffered Consequences" | 4458 |
Click on any hostname to see more info about the system (e.g. compilers) (*) as reported by 'uname -p', except on Windows and Mac OS X |
Package 1391/2280 | Hostname | OS / Arch | INSTALL | BUILD | CHECK | BUILD BIN | ||||||||
nanotatoR 1.19.0 (landing page) Surajit Bhattacharya
| nebbiolo1 | Linux (Ubuntu 22.04.3 LTS) / x86_64 | OK | OK | OK | |||||||||
palomino3 | Windows Server 2022 Datacenter / x64 | OK | OK | OK | OK | |||||||||
lconway | macOS 12.7.1 Monterey / x86_64 | OK | OK | OK | OK | |||||||||
kunpeng2 | Linux (openEuler 22.03 LTS-SP1) / aarch64 | OK | OK | OK | ||||||||||
kjohnson3 | macOS 13.6.5 Ventura / arm64 | see weekly results here | ||||||||||||
To the developers/maintainers of the nanotatoR package: - Allow up to 24 hours (and sometimes 48 hours) for your latest push to git@git.bioconductor.org:packages/nanotatoR.git to reflect on this report. See Troubleshooting Build Report for more information. - Use the following Renviron settings to reproduce errors and warnings. - If 'R CMD check' started to fail recently on the Linux builder(s) over a missing dependency, add the missing dependency to 'Suggests:' in your DESCRIPTION file. See Renviron.bioc for more information. |
Package: nanotatoR |
Version: 1.19.0 |
Command: F:\biocbuild\bbs-3.19-bioc\R\bin\R.exe CMD check --no-multiarch --install=check:nanotatoR.install-out.txt --library=F:\biocbuild\bbs-3.19-bioc\R\library --no-vignettes --timings nanotatoR_1.19.0.tar.gz |
StartedAt: 2024-04-16 04:21:13 -0400 (Tue, 16 Apr 2024) |
EndedAt: 2024-04-16 04:24:18 -0400 (Tue, 16 Apr 2024) |
EllapsedTime: 184.3 seconds |
RetCode: 0 |
Status: OK |
CheckDir: nanotatoR.Rcheck |
Warnings: 0 |
############################################################################## ############################################################################## ### ### Running command: ### ### F:\biocbuild\bbs-3.19-bioc\R\bin\R.exe CMD check --no-multiarch --install=check:nanotatoR.install-out.txt --library=F:\biocbuild\bbs-3.19-bioc\R\library --no-vignettes --timings nanotatoR_1.19.0.tar.gz ### ############################################################################## ############################################################################## * using log directory 'F:/biocbuild/bbs-3.19-bioc/meat/nanotatoR.Rcheck' * using R Under development (unstable) (2024-03-16 r86144 ucrt) * using platform: x86_64-w64-mingw32 * R was compiled by gcc.exe (GCC) 13.2.0 GNU Fortran (GCC) 13.2.0 * running under: Windows Server 2022 x64 (build 20348) * using session charset: UTF-8 * using option '--no-vignettes' * checking for file 'nanotatoR/DESCRIPTION' ... OK * this is package 'nanotatoR' version '1.19.0' * package encoding: UTF-8 * checking package namespace information ... OK * checking package dependencies ... OK * checking if this is a source package ... OK * checking if there is a namespace ... OK * checking for hidden files and directories ... NOTE Found the following hidden files and directories: .travis.yml These were most likely included in error. See section 'Package structure' in the 'Writing R Extensions' manual. * checking for portable file names ... OK * checking whether package 'nanotatoR' can be installed ... OK * checking installed package size ... OK * checking package directory ... OK * checking 'build' directory ... OK * checking DESCRIPTION meta-information ... OK * checking top-level files ... OK * checking for left-over files ... OK * checking index information ... OK * checking package subdirectories ... OK * checking code files for non-ASCII characters ... OK * checking R files for syntax errors ... OK * checking whether the package can be loaded ... OK * checking whether the package can be loaded with stated dependencies ... OK * checking whether the package can be unloaded cleanly ... OK * checking whether the namespace can be loaded with stated dependencies ... OK * checking whether the namespace can be unloaded cleanly ... OK * checking dependencies in R code ... NOTE Namespace in Imports field not imported from: 'GenomicRanges' All declared Imports should be used. * checking S3 generic/method consistency ... OK * checking replacement functions ... OK * checking foreign function calls ... OK * checking R code for possible problems ... OK * checking Rd files ... NOTE checkRd: (-1) overlapnearestgeneSearch.Rd:29-34: Lost braces 29 | awk '{ | ^ * checking Rd metadata ... OK * checking Rd cross-references ... OK * checking for missing documentation entries ... OK * checking for code/documentation mismatches ... OK * checking Rd \usage sections ... OK * checking Rd contents ... OK * checking for unstated dependencies in examples ... OK * checking files in 'vignettes' ... OK * checking examples ... OK * checking for unstated dependencies in 'tests' ... OK * checking tests ... Running 'testthat.R' OK * checking for unstated dependencies in vignettes ... OK * checking package vignettes ... OK * checking running R code from vignettes ... SKIPPED * checking re-building of vignette outputs ... SKIPPED * checking PDF version of manual ... OK * DONE Status: 3 NOTEs See 'F:/biocbuild/bbs-3.19-bioc/meat/nanotatoR.Rcheck/00check.log' for details.
nanotatoR.Rcheck/00install.out
############################################################################## ############################################################################## ### ### Running command: ### ### F:\biocbuild\bbs-3.19-bioc\R\bin\R.exe CMD INSTALL nanotatoR ### ############################################################################## ############################################################################## * installing to library 'F:/biocbuild/bbs-3.19-bioc/R/library' * installing *source* package 'nanotatoR' ... ** using staged installation ** R ** inst ** byte-compile and prepare package for lazy loading ** help *** installing help indices ** building package indices ** installing vignettes ** testing if installed package can be loaded from temporary location ** testing if installed package can be loaded from final location ** testing if installed package keeps a record of temporary installation path * DONE (nanotatoR)
nanotatoR.Rcheck/tests/testthat.Rout
R Under development (unstable) (2024-03-16 r86144 ucrt) -- "Unsuffered Consequences" Copyright (C) 2024 The R Foundation for Statistical Computing Platform: x86_64-w64-mingw32/x64 R is free software and comes with ABSOLUTELY NO WARRANTY. You are welcome to redistribute it under certain conditions. Type 'license()' or 'licence()' for distribution details. R is a collaborative project with many contributors. Type 'contributors()' for more information and 'citation()' on how to cite R or R packages in publications. Type 'demo()' for some demos, 'help()' for on-line help, or 'help.start()' for an HTML browser interface to help. Type 'q()' to quit R. > library(testthat) > library(nanotatoR) > > test_check("nanotatoR") [ FAIL 0 | WARN 0 | SKIP 0 | PASS 0 ] > > proc.time() user system elapsed 5.90 0.56 6.42
nanotatoR.Rcheck/nanotatoR-Ex.timings
name | user | system | elapsed | |
BNDBfrequency | 0.03 | 0.02 | 0.06 | |
DGVfrequency | 0.00 | 0.03 | 0.03 | |
Decipherfrequency | 0.03 | 0.00 | 0.03 | |
FamilyInfoPrep | 0.01 | 0.02 | 0.03 | |
OverlapRNAseq | 0.17 | 0.03 | 0.20 | |
OverlapRNAseq_solo | 0.13 | 0.00 | 0.13 | |
RNAseqcombine | 0 | 0 | 0 | |
RNAseqcombine_solo | 0.12 | 0.00 | 0.12 | |
SVexpression_duo_trio | 0 | 0 | 0 | |
SVexpression_solo | 0.16 | 0.01 | 0.17 | |
buildrunBNBedFiles | 0.01 | 0.00 | 0.02 | |
clinvar_gene | 0.02 | 0.00 | 0.01 | |
extract_clinvar_mod | 0.03 | 0.00 | 0.03 | |
gene_extraction | 1.05 | 0.10 | 1.67 | |
gene_list_generation | 0.59 | 0.03 | 1.57 | |
gtr_gene | 0 | 0 | 0 | |
internalFrequencyTrio_Duo | 0.08 | 0.01 | 0.09 | |
internalFrequency_solo | 0.19 | 0.00 | 0.19 | |
makeInternalBNDatabase | 0 | 0 | 0 | |
mergingSMAP_SE | 0.01 | 0.02 | 0.03 | |
mergingSMAP_SVMerge | 0.00 | 0.00 | 0.01 | |
merging_SE_SVMerge | 0.03 | 0.02 | 0.05 | |
nanotatoR | 0 | 0 | 0 | |
nanotatoR_Duo_SVmerge | 0 | 0 | 0 | |
nanotatoR_SVmerge_Trio | 0 | 0 | 0 | |
nanotatoR_main_Duo_SE | 0 | 0 | 0 | |
nanotatoR_main_Solo_SE | 0.72 | 0.12 | 0.97 | |
nanotatoR_main_Solo_SVmerge | 0.16 | 0.03 | 0.18 | |
nanotatoR_main_Trio_SE | 0.11 | 0.00 | 0.13 | |
nonOverlapGenes | 0.02 | 0.00 | 0.01 | |
nonOverlapRNAseq | 0.18 | 0.00 | 0.17 | |
nonOverlapRNAseq_solo | 0.15 | 0.02 | 0.17 | |
nonOverlappingDNGenes | 0.03 | 0.00 | 0.03 | |
nonOverlappingUPGenes | 0.03 | 0.01 | 0.05 | |
omim_gene | 0.02 | 0.00 | 0.45 | |
overlapGenes | 0.02 | 0.00 | 0.02 | |
overlapnearestgeneSearch | 0.04 | 0.00 | 0.04 | |
overlappingGenes | 0.05 | 0.00 | 0.05 | |
phenoextractHPO_mod | 0.01 | 0.00 | 0.02 | |
readBNBedFiles | 0 | 0 | 0 | |
readSMap | 0.02 | 0.02 | 0.03 | |
readSMap_DLE | 0.03 | 0.00 | 0.03 | |
reading_GTR | 0 | 0 | 0 | |
reading_mim2gene | 0.00 | 0.01 | 0.01 | |
run_bionano_filter_SE_Trio | 0.33 | 0.00 | 0.33 | |
run_bionano_filter_SE_duo | 0 | 0 | 0 | |
run_bionano_filter_SE_solo | 0.45 | 0.02 | 0.49 | |
run_bionano_filter_SVMerge_Trio | 0 | 0 | 0 | |
run_bionano_filter_SVMerge_duo | 0 | 0 | 0 | |
run_bionano_filter_SVMerge_solo | 0.32 | 0.03 | 0.36 | |