Back to Multiple platform build/check report for BioC 3.19: simplified long |
|
This page was generated on 2024-04-16 11:39:53 -0400 (Tue, 16 Apr 2024).
Hostname | OS | Arch (*) | R version | Installed pkgs |
---|---|---|---|---|
nebbiolo1 | Linux (Ubuntu 22.04.3 LTS) | x86_64 | R Under development (unstable) (2024-03-18 r86148) -- "Unsuffered Consequences" | 4739 |
palomino3 | Windows Server 2022 Datacenter | x64 | R Under development (unstable) (2024-03-16 r86144 ucrt) -- "Unsuffered Consequences" | 4472 |
lconway | macOS 12.7.1 Monterey | x86_64 | R Under development (unstable) (2024-03-18 r86148) -- "Unsuffered Consequences" | 4500 |
kunpeng2 | Linux (openEuler 22.03 LTS-SP1) | aarch64 | R Under development (unstable) (2024-03-19 r86153) -- "Unsuffered Consequences" | 4458 |
Click on any hostname to see more info about the system (e.g. compilers) (*) as reported by 'uname -p', except on Windows and Mac OS X |
Package 1391/2280 | Hostname | OS / Arch | INSTALL | BUILD | CHECK | BUILD BIN | ||||||||
nanotatoR 1.19.0 (landing page) Surajit Bhattacharya
| nebbiolo1 | Linux (Ubuntu 22.04.3 LTS) / x86_64 | OK | OK | OK | |||||||||
palomino3 | Windows Server 2022 Datacenter / x64 | OK | OK | OK | OK | |||||||||
lconway | macOS 12.7.1 Monterey / x86_64 | OK | OK | OK | OK | |||||||||
kunpeng2 | Linux (openEuler 22.03 LTS-SP1) / aarch64 | OK | OK | OK | ||||||||||
kjohnson3 | macOS 13.6.5 Ventura / arm64 | see weekly results here | ||||||||||||
To the developers/maintainers of the nanotatoR package: - Allow up to 24 hours (and sometimes 48 hours) for your latest push to git@git.bioconductor.org:packages/nanotatoR.git to reflect on this report. See Troubleshooting Build Report for more information. - Use the following Renviron settings to reproduce errors and warnings. - If 'R CMD check' started to fail recently on the Linux builder(s) over a missing dependency, add the missing dependency to 'Suggests:' in your DESCRIPTION file. See Renviron.bioc for more information. |
Package: nanotatoR |
Version: 1.19.0 |
Command: /Library/Frameworks/R.framework/Resources/bin/R CMD check --install=check:nanotatoR.install-out.txt --library=/Library/Frameworks/R.framework/Resources/library --no-vignettes --timings nanotatoR_1.19.0.tar.gz |
StartedAt: 2024-04-15 22:28:17 -0400 (Mon, 15 Apr 2024) |
EndedAt: 2024-04-15 22:31:20 -0400 (Mon, 15 Apr 2024) |
EllapsedTime: 183.5 seconds |
RetCode: 0 |
Status: OK |
CheckDir: nanotatoR.Rcheck |
Warnings: 0 |
############################################################################## ############################################################################## ### ### Running command: ### ### /Library/Frameworks/R.framework/Resources/bin/R CMD check --install=check:nanotatoR.install-out.txt --library=/Library/Frameworks/R.framework/Resources/library --no-vignettes --timings nanotatoR_1.19.0.tar.gz ### ############################################################################## ############################################################################## * using log directory ‘/Users/biocbuild/bbs-3.19-bioc/meat/nanotatoR.Rcheck’ * using R Under development (unstable) (2024-03-18 r86148) * using platform: x86_64-apple-darwin20 * R was compiled by Apple clang version 14.0.0 (clang-1400.0.29.202) GNU Fortran (GCC) 12.2.0 * running under: macOS Monterey 12.7.1 * using session charset: UTF-8 * using option ‘--no-vignettes’ * checking for file ‘nanotatoR/DESCRIPTION’ ... OK * this is package ‘nanotatoR’ version ‘1.19.0’ * package encoding: UTF-8 * checking package namespace information ... OK * checking package dependencies ... OK * checking if this is a source package ... OK * checking if there is a namespace ... OK * checking for hidden files and directories ... NOTE Found the following hidden files and directories: .travis.yml These were most likely included in error. See section ‘Package structure’ in the ‘Writing R Extensions’ manual. * checking for portable file names ... OK * checking for sufficient/correct file permissions ... OK * checking whether package ‘nanotatoR’ can be installed ... OK * checking installed package size ... OK * checking package directory ... OK * checking ‘build’ directory ... OK * checking DESCRIPTION meta-information ... OK * checking top-level files ... OK * checking for left-over files ... OK * checking index information ... OK * checking package subdirectories ... OK * checking code files for non-ASCII characters ... OK * checking R files for syntax errors ... OK * checking whether the package can be loaded ... OK * checking whether the package can be loaded with stated dependencies ... OK * checking whether the package can be unloaded cleanly ... OK * checking whether the namespace can be loaded with stated dependencies ... OK * checking whether the namespace can be unloaded cleanly ... OK * checking dependencies in R code ... NOTE Namespace in Imports field not imported from: ‘GenomicRanges’ All declared Imports should be used. * checking S3 generic/method consistency ... OK * checking replacement functions ... OK * checking foreign function calls ... OK * checking R code for possible problems ... OK * checking Rd files ... NOTE checkRd: (-1) overlapnearestgeneSearch.Rd:29-34: Lost braces 29 | awk '{ | ^ * checking Rd metadata ... OK * checking Rd cross-references ... OK * checking for missing documentation entries ... OK * checking for code/documentation mismatches ... OK * checking Rd \usage sections ... OK * checking Rd contents ... OK * checking for unstated dependencies in examples ... OK * checking files in ‘vignettes’ ... OK * checking examples ... OK * checking for unstated dependencies in ‘tests’ ... OK * checking tests ... Running ‘testthat.R’ OK * checking for unstated dependencies in vignettes ... OK * checking package vignettes ... OK * checking running R code from vignettes ... SKIPPED * checking re-building of vignette outputs ... SKIPPED * checking PDF version of manual ... OK * DONE Status: 3 NOTEs See ‘/Users/biocbuild/bbs-3.19-bioc/meat/nanotatoR.Rcheck/00check.log’ for details.
nanotatoR.Rcheck/00install.out
############################################################################## ############################################################################## ### ### Running command: ### ### /Library/Frameworks/R.framework/Resources/bin/R CMD INSTALL nanotatoR ### ############################################################################## ############################################################################## * installing to library ‘/Library/Frameworks/R.framework/Versions/4.4-x86_64/Resources/library’ * installing *source* package ‘nanotatoR’ ... ** using staged installation ** R ** inst ** byte-compile and prepare package for lazy loading ** help *** installing help indices ** building package indices ** installing vignettes ** testing if installed package can be loaded from temporary location ** testing if installed package can be loaded from final location ** testing if installed package keeps a record of temporary installation path * DONE (nanotatoR)
nanotatoR.Rcheck/tests/testthat.Rout
R Under development (unstable) (2024-03-18 r86148) -- "Unsuffered Consequences" Copyright (C) 2024 The R Foundation for Statistical Computing Platform: x86_64-apple-darwin20 R is free software and comes with ABSOLUTELY NO WARRANTY. You are welcome to redistribute it under certain conditions. Type 'license()' or 'licence()' for distribution details. R is a collaborative project with many contributors. Type 'contributors()' for more information and 'citation()' on how to cite R or R packages in publications. Type 'demo()' for some demos, 'help()' for on-line help, or 'help.start()' for an HTML browser interface to help. Type 'q()' to quit R. > library(testthat) > library(nanotatoR) > > test_check("nanotatoR") [ FAIL 0 | WARN 0 | SKIP 0 | PASS 0 ] > > proc.time() user system elapsed 6.512 0.419 6.958
nanotatoR.Rcheck/nanotatoR-Ex.timings
name | user | system | elapsed | |
BNDBfrequency | 0.062 | 0.014 | 0.080 | |
DGVfrequency | 0.028 | 0.005 | 0.034 | |
Decipherfrequency | 0.031 | 0.006 | 0.039 | |
FamilyInfoPrep | 0.019 | 0.005 | 0.024 | |
OverlapRNAseq | 0.235 | 0.016 | 0.253 | |
OverlapRNAseq_solo | 0.193 | 0.007 | 0.201 | |
RNAseqcombine | 0 | 0 | 0 | |
RNAseqcombine_solo | 0.154 | 0.004 | 0.159 | |
SVexpression_duo_trio | 0.001 | 0.000 | 0.000 | |
SVexpression_solo | 0.228 | 0.009 | 0.240 | |
buildrunBNBedFiles | 0.004 | 0.001 | 0.006 | |
clinvar_gene | 0.017 | 0.002 | 0.019 | |
extract_clinvar_mod | 0.018 | 0.001 | 0.021 | |
gene_extraction | 0.785 | 0.038 | 1.653 | |
gene_list_generation | 1.02 | 0.03 | 2.18 | |
gtr_gene | 0.004 | 0.001 | 0.004 | |
internalFrequencyTrio_Duo | 0.125 | 0.005 | 0.131 | |
internalFrequency_solo | 0.216 | 0.005 | 0.221 | |
makeInternalBNDatabase | 0.002 | 0.001 | 0.002 | |
mergingSMAP_SE | 0.027 | 0.004 | 0.032 | |
mergingSMAP_SVMerge | 0.009 | 0.002 | 0.011 | |
merging_SE_SVMerge | 0.066 | 0.009 | 0.077 | |
nanotatoR | 0.001 | 0.000 | 0.002 | |
nanotatoR_Duo_SVmerge | 0.000 | 0.001 | 0.001 | |
nanotatoR_SVmerge_Trio | 0.000 | 0.001 | 0.000 | |
nanotatoR_main_Duo_SE | 0.000 | 0.000 | 0.001 | |
nanotatoR_main_Solo_SE | 0.544 | 0.054 | 0.610 | |
nanotatoR_main_Solo_SVmerge | 0.127 | 0.020 | 0.150 | |
nanotatoR_main_Trio_SE | 0.086 | 0.013 | 0.099 | |
nonOverlapGenes | 0.021 | 0.004 | 0.024 | |
nonOverlapRNAseq | 0.194 | 0.009 | 0.204 | |
nonOverlapRNAseq_solo | 0.158 | 0.005 | 0.164 | |
nonOverlappingDNGenes | 0.028 | 0.003 | 0.030 | |
nonOverlappingUPGenes | 0.030 | 0.003 | 0.033 | |
omim_gene | 0.015 | 0.002 | 0.576 | |
overlapGenes | 0.017 | 0.002 | 0.019 | |
overlapnearestgeneSearch | 0.034 | 0.003 | 0.037 | |
overlappingGenes | 0.027 | 0.002 | 0.029 | |
phenoextractHPO_mod | 0.004 | 0.001 | 0.006 | |
readBNBedFiles | 0.003 | 0.001 | 0.005 | |
readSMap | 0.015 | 0.006 | 0.022 | |
readSMap_DLE | 0.011 | 0.002 | 0.014 | |
reading_GTR | 0.003 | 0.001 | 0.003 | |
reading_mim2gene | 0.003 | 0.001 | 0.004 | |
run_bionano_filter_SE_Trio | 0.288 | 0.017 | 0.307 | |
run_bionano_filter_SE_duo | 0 | 0 | 0 | |
run_bionano_filter_SE_solo | 0.424 | 0.020 | 0.448 | |
run_bionano_filter_SVMerge_Trio | 0 | 0 | 0 | |
run_bionano_filter_SVMerge_duo | 0.000 | 0.000 | 0.001 | |
run_bionano_filter_SVMerge_solo | 0.326 | 0.015 | 0.343 | |