Back to Multiple platform build/check report for BioC 3.19:   simplified   long
ABCDEFGHIJKLMNOPQ[R]STUVWXYZ

This page was generated on 2024-10-18 20:38 -0400 (Fri, 18 Oct 2024).

HostnameOSArch (*)R versionInstalled pkgs
nebbiolo1Linux (Ubuntu 22.04.3 LTS)x86_644.4.1 (2024-06-14) -- "Race for Your Life" 4763
palomino7Windows Server 2022 Datacenterx644.4.1 (2024-06-14 ucrt) -- "Race for Your Life" 4500
merida1macOS 12.7.5 Montereyx86_644.4.1 (2024-06-14) -- "Race for Your Life" 4530
kjohnson1macOS 13.6.6 Venturaarm644.4.1 (2024-06-14) -- "Race for Your Life" 4480
Click on any hostname to see more info about the system (e.g. compilers)      (*) as reported by 'uname -p', except on Windows and Mac OS X

Package 1701/2300HostnameOS / ArchINSTALLBUILDCHECKBUILD BIN
Rcpi 1.40.3  (landing page)
Nan Xiao
Snapshot Date: 2024-10-16 14:00 -0400 (Wed, 16 Oct 2024)
git_url: https://git.bioconductor.org/packages/Rcpi
git_branch: RELEASE_3_19
git_last_commit: e93f6a2
git_last_commit_date: 2024-09-09 23:48:11 -0400 (Mon, 09 Sep 2024)
nebbiolo1Linux (Ubuntu 22.04.3 LTS) / x86_64  OK    OK    OK  UNNEEDED, same version is already published
palomino7Windows Server 2022 Datacenter / x64  OK    OK    OK    OK  UNNEEDED, same version is already published
merida1macOS 12.7.5 Monterey / x86_64  OK    OK    OK    OK  UNNEEDED, same version is already published
kjohnson1macOS 13.6.6 Ventura / arm64  OK    OK    OK    OK  UNNEEDED, same version is already published


CHECK results for Rcpi on nebbiolo1

To the developers/maintainers of the Rcpi package:
- Allow up to 24 hours (and sometimes 48 hours) for your latest push to git@git.bioconductor.org:packages/Rcpi.git to reflect on this report. See Troubleshooting Build Report for more information.
- Use the following Renviron settings to reproduce errors and warnings.
- If 'R CMD check' started to fail recently on the Linux builder(s) over a missing dependency, add the missing dependency to 'Suggests:' in your DESCRIPTION file. See Renviron.bioc for more information.

raw results


Summary

Package: Rcpi
Version: 1.40.3
Command: /home/biocbuild/bbs-3.19-bioc/R/bin/R CMD check --install=check:Rcpi.install-out.txt --library=/home/biocbuild/bbs-3.19-bioc/R/site-library --timings Rcpi_1.40.3.tar.gz
StartedAt: 2024-10-17 04:10:55 -0400 (Thu, 17 Oct 2024)
EndedAt: 2024-10-17 04:12:49 -0400 (Thu, 17 Oct 2024)
EllapsedTime: 113.3 seconds
RetCode: 0
Status:   OK  
CheckDir: Rcpi.Rcheck
Warnings: 0

Command output

##############################################################################
##############################################################################
###
### Running command:
###
###   /home/biocbuild/bbs-3.19-bioc/R/bin/R CMD check --install=check:Rcpi.install-out.txt --library=/home/biocbuild/bbs-3.19-bioc/R/site-library --timings Rcpi_1.40.3.tar.gz
###
##############################################################################
##############################################################################


* using log directory ‘/home/biocbuild/bbs-3.19-bioc/meat/Rcpi.Rcheck’
* using R version 4.4.1 (2024-06-14)
* using platform: x86_64-pc-linux-gnu
* R was compiled by
    gcc (Ubuntu 11.4.0-1ubuntu1~22.04) 11.4.0
    GNU Fortran (Ubuntu 11.4.0-1ubuntu1~22.04) 11.4.0
* running under: Ubuntu 22.04.5 LTS
* using session charset: UTF-8
* checking for file ‘Rcpi/DESCRIPTION’ ... OK
* checking extension type ... Package
* this is package ‘Rcpi’ version ‘1.40.3’
* package encoding: UTF-8
* checking package namespace information ... OK
* checking package dependencies ... OK
* checking if this is a source package ... OK
* checking if there is a namespace ... OK
* checking for hidden files and directories ... OK
* checking for portable file names ... OK
* checking for sufficient/correct file permissions ... OK
* checking whether package ‘Rcpi’ can be installed ... OK
* checking installed package size ... OK
* checking package directory ... OK
* checking ‘build’ directory ... OK
* checking DESCRIPTION meta-information ... OK
* checking top-level files ... OK
* checking for left-over files ... OK
* checking index information ... OK
* checking package subdirectories ... OK
* checking code files for non-ASCII characters ... OK
* checking R files for syntax errors ... OK
* checking whether the package can be loaded ... OK
* checking whether the package can be loaded with stated dependencies ... OK
* checking whether the package can be unloaded cleanly ... OK
* checking whether the namespace can be loaded with stated dependencies ... OK
* checking whether the namespace can be unloaded cleanly ... OK
* checking loading without being on the library search path ... OK
* checking dependencies in R code ... OK
* checking S3 generic/method consistency ... OK
* checking replacement functions ... OK
* checking foreign function calls ... OK
* checking R code for possible problems ... OK
* checking Rd files ... OK
* checking Rd metadata ... OK
* checking Rd cross-references ... OK
* checking for missing documentation entries ... OK
* checking for code/documentation mismatches ... OK
* checking Rd \usage sections ... OK
* checking Rd contents ... OK
* checking for unstated dependencies in examples ... OK
* checking contents of ‘data’ directory ... OK
* checking data for non-ASCII characters ... OK
* checking LazyData ... OK
* checking data for ASCII and uncompressed saves ... OK
* checking files in ‘vignettes’ ... OK
* checking examples ... OK
* checking for unstated dependencies in ‘tests’ ... OK
* checking tests ...
  Running ‘testthat.R’
 OK
* checking for unstated dependencies in vignettes ... OK
* checking package vignettes ... OK
* checking re-building of vignette outputs ... OK
* checking PDF version of manual ... OK
* DONE

Status: OK


Installation output

Rcpi.Rcheck/00install.out

##############################################################################
##############################################################################
###
### Running command:
###
###   /home/biocbuild/bbs-3.19-bioc/R/bin/R CMD INSTALL Rcpi
###
##############################################################################
##############################################################################


* installing to library ‘/home/biocbuild/bbs-3.19-bioc/R/site-library’
* installing *source* package ‘Rcpi’ ...
** using staged installation
** R
** data
*** moving datasets to lazyload DB
** inst
** byte-compile and prepare package for lazy loading
** help
*** installing help indices
*** copying figures
** building package indices
** installing vignettes
** testing if installed package can be loaded from temporary location
** testing if installed package can be loaded from final location
** testing if installed package keeps a record of temporary installation path
* DONE (Rcpi)

Tests output

Rcpi.Rcheck/tests/testthat.Rout


R version 4.4.1 (2024-06-14) -- "Race for Your Life"
Copyright (C) 2024 The R Foundation for Statistical Computing
Platform: x86_64-pc-linux-gnu

R is free software and comes with ABSOLUTELY NO WARRANTY.
You are welcome to redistribute it under certain conditions.
Type 'license()' or 'licence()' for distribution details.

R is a collaborative project with many contributors.
Type 'contributors()' for more information and
'citation()' on how to cite R or R packages in publications.

Type 'demo()' for some demos, 'help()' for on-line help, or
'help.start()' for an HTML browser interface to help.
Type 'q()' to quit R.

> library(testthat)
> library(Rcpi)

> 
> test_check("Rcpi")
[ FAIL 0 | WARN 0 | SKIP 5 | PASS 17 ]

══ Skipped tests (5) ═══════════════════════════════════════════════════════════
• rcdk cannot be loaded (5): 'test_extractDrugALOGP.R:2:5',
  'test_extractDrugECI.R:2:5', 'test_extractDrugRuleOfFive.R:2:5',
  'test_extractDrugTPSA.R:2:5', 'test_extractDrugXLogP.R:2:5'

[ FAIL 0 | WARN 0 | SKIP 5 | PASS 17 ]
> 
> proc.time()
   user  system elapsed 
  4.235   0.262   4.486 

Example timings

Rcpi.Rcheck/Rcpi-Ex.timings

nameusersystemelapsed
AA2DACOR0.0020.0000.002
AA3DMoRSE0.0010.0000.001
AAACF0.0010.0000.001
AABLOSUM1000.0000.0000.001
AABLOSUM450.0010.0000.001
AABLOSUM500.0010.0000.001
AABLOSUM620.0010.0000.001
AABLOSUM800.0000.0000.001
AABurden0.0010.0000.001
AACPSA0.0010.0000.001
AAConn0.0010.0000.001
AAConst0.0000.0000.001
AADescAll000
AAEdgeAdj0.0000.0010.001
AAEigIdx0.0000.0010.001
AAFGC0.0000.0010.001
AAGETAWAY000
AAGeom0.0000.0010.001
AAInfo0.0000.0000.001
AAMOE2D0.0000.0000.001
AAMOE3D0.0010.0000.000
AAMetaInfo0.0010.0000.001
AAMolProp0.0010.0000.001
AAPAM1200.0010.0000.001
AAPAM250000
AAPAM300.0010.0000.001
AAPAM400.0010.0000.001
AAPAM700.0010.0000.001
AARDF000
AARandic0.0010.0000.001
AATopo0.0010.0000.001
AATopoChg0.0000.0000.001
AAWHIM0.0000.0010.001
AAWalk0.0000.0010.001
AAindex0.0000.0010.001
OptAA3d000
acc0.0020.0100.012
calcDrugFPSim0.0000.0000.001
calcDrugMCSSim0.0010.0080.009
calcParProtGOSim000
calcParProtSeqSim0.0030.0040.007
calcTwoProtGOSim0.0010.0000.000
calcTwoProtSeqSim0.0020.0000.001
checkProt0.0010.0000.001
convMolFormat000
extractDrugAIO0.0000.0010.001
extractDrugALOGP0.0000.0010.001
extractDrugAminoAcidCount0.0010.0040.006
extractDrugApol0.0010.0010.001
extractDrugAromaticAtomsCount0.0010.0000.001
extractDrugAromaticBondsCount0.0000.0000.001
extractDrugAtomCount0.0010.0000.000
extractDrugAutocorrelationCharge0.0010.0000.001
extractDrugAutocorrelationMass0.0000.0010.001
extractDrugAutocorrelationPolarizability0.0000.0010.001
extractDrugBCUT000
extractDrugBPol0.0010.0000.001
extractDrugBondCount0.0010.0000.001
extractDrugCPSA0.0000.0000.001
extractDrugCarbonTypes0.0010.0000.000
extractDrugChiChain0.0010.0000.001
extractDrugChiCluster0.0010.0000.001
extractDrugChiPath0.0000.0000.001
extractDrugChiPathCluster0.0000.0010.001
extractDrugDescOB0.0080.0210.030
extractDrugECI0.0010.0000.001
extractDrugEstate0.0010.0010.001
extractDrugEstateComplete0.0010.0000.001
extractDrugExtended000
extractDrugExtendedComplete0.0010.0000.001
extractDrugFMF0.0010.0000.001
extractDrugFragmentComplexity0.0010.0000.002
extractDrugGraph0.0010.0000.001
extractDrugGraphComplete0.0020.0000.002
extractDrugGravitationalIndex0.0010.0010.002
extractDrugHBondAcceptorCount0.0000.0010.001
extractDrugHBondDonorCount0.0000.0000.001
extractDrugHybridization0.0010.0000.001
extractDrugHybridizationComplete0.0010.0000.001
extractDrugHybridizationRatio0.0000.0000.001
extractDrugIPMolecularLearning0.0010.0000.001
extractDrugKR0.0010.0000.001
extractDrugKRComplete0.0000.0000.001
extractDrugKappaShapeIndices0.0010.0000.001
extractDrugKierHallSmarts0.0010.0000.001
extractDrugLargestChain000
extractDrugLargestPiSystem0.0010.0000.001
extractDrugLengthOverBreadth0.0010.0000.001
extractDrugLongestAliphaticChain0.0010.0000.000
extractDrugMACCS0.0000.0000.001
extractDrugMACCSComplete0.0010.0000.001
extractDrugMDE0.0010.0000.001
extractDrugMannholdLogP000
extractDrugMomentOfInertia0.0010.0000.001
extractDrugOBFP20.0070.0070.015
extractDrugOBFP30.0020.0090.010
extractDrugOBFP40.0890.0120.101
extractDrugOBMACCS0.0070.0070.015
extractDrugPetitjeanNumber0.0010.0010.001
extractDrugPetitjeanShapeIndex0.0010.0000.001
extractDrugPubChem0.0010.0000.000
extractDrugPubChemComplete0.0000.0000.001
extractDrugRotatableBondsCount0.0010.0000.001
extractDrugRuleOfFive0.0010.0000.001
extractDrugShortestPath0.0010.0000.001
extractDrugShortestPathComplete0.0010.0000.000
extractDrugStandard0.0000.0000.001
extractDrugStandardComplete0.0010.0000.001
extractDrugTPSA0.0010.0000.001
extractDrugVABC0.0010.0000.001
extractDrugVAdjMa0.0010.0000.000
extractDrugWHIM000
extractDrugWeight0.0000.0000.001
extractDrugWeightedPath0.0010.0000.001
extractDrugWienerNumbers0.0010.0000.001
extractDrugXLogP0.0010.0000.000
extractDrugZagrebIndex0.0000.0000.001
extractPCMBLOSUM0.0090.0000.010
extractPCMDescScales0.0070.0030.011
extractPCMFAScales0.0160.0000.017
extractPCMMDSScales0.0090.0000.009
extractPCMPropScales0.0190.0000.018
extractPCMScales0.0140.0000.014
extractProtAAC0.0030.0000.003
extractProtAPAAC0.6670.0270.696
extractProtCTDC0.0030.0010.003
extractProtCTDD0.0050.0000.005
extractProtCTDT0.0010.0030.005
extractProtCTriad0.0750.0090.083
extractProtDC0.0080.0000.009
extractProtGeary0.1180.0160.134
extractProtMoran0.0820.0110.094
extractProtMoreauBroto0.3510.0320.383
extractProtPAAC0.3060.0010.306
extractProtPSSM0.0010.0000.001
extractProtPSSMAcc0.0010.0000.001
extractProtPSSMFeature0.0000.0000.001
extractProtQSO0.5220.0020.524
extractProtSOCN0.520.000.52
extractProtTC0.0240.0960.121
getCPI0.0030.0000.003
getDrug000
getFASTAFromKEGG000
getFASTAFromUniProt000
getMolFromCAS0.0000.0010.001
getMolFromChEMBL000
getMolFromDrugBank000
getMolFromKEGG000
getMolFromPubChem000
getPDBFromRCSBPDB0.0000.0010.000
getPPI0.0070.0030.011
getProt0.0000.0010.000
getSeqFromKEGG000
getSeqFromRCSBPDB000
getSeqFromUniProt000
getSmiFromChEMBL0.0000.0000.001
getSmiFromDrugBank000
getSmiFromKEGG000
getSmiFromPubChem000
readFASTA0.0000.0010.001
readMolFromSDF0.0020.0000.002
readMolFromSmi0.0010.0000.001
readPDB0.8160.0000.817
searchDrug0.0020.0000.002
segProt0.0030.0000.003