Back to Multiple platform build/check report for BioC 3.19:   simplified   long
ABCDEFGHIJKLMNOPQ[R]STUVWXYZ

This page was generated on 2024-10-18 20:41 -0400 (Fri, 18 Oct 2024).

HostnameOSArch (*)R versionInstalled pkgs
nebbiolo1Linux (Ubuntu 22.04.3 LTS)x86_644.4.1 (2024-06-14) -- "Race for Your Life" 4763
palomino7Windows Server 2022 Datacenterx644.4.1 (2024-06-14 ucrt) -- "Race for Your Life" 4500
merida1macOS 12.7.5 Montereyx86_644.4.1 (2024-06-14) -- "Race for Your Life" 4530
kjohnson1macOS 13.6.6 Venturaarm644.4.1 (2024-06-14) -- "Race for Your Life" 4480
Click on any hostname to see more info about the system (e.g. compilers)      (*) as reported by 'uname -p', except on Windows and Mac OS X

Package 1701/2300HostnameOS / ArchINSTALLBUILDCHECKBUILD BIN
Rcpi 1.40.3  (landing page)
Nan Xiao
Snapshot Date: 2024-10-16 14:00 -0400 (Wed, 16 Oct 2024)
git_url: https://git.bioconductor.org/packages/Rcpi
git_branch: RELEASE_3_19
git_last_commit: e93f6a2
git_last_commit_date: 2024-09-09 23:48:11 -0400 (Mon, 09 Sep 2024)
nebbiolo1Linux (Ubuntu 22.04.3 LTS) / x86_64  OK    OK    OK  UNNEEDED, same version is already published
palomino7Windows Server 2022 Datacenter / x64  OK    OK    OK    OK  UNNEEDED, same version is already published
merida1macOS 12.7.5 Monterey / x86_64  OK    OK    OK    OK  UNNEEDED, same version is already published
kjohnson1macOS 13.6.6 Ventura / arm64  OK    OK    OK    OK  UNNEEDED, same version is already published


CHECK results for Rcpi on merida1

To the developers/maintainers of the Rcpi package:
- Allow up to 24 hours (and sometimes 48 hours) for your latest push to git@git.bioconductor.org:packages/Rcpi.git to reflect on this report. See Troubleshooting Build Report for more information.
- Use the following Renviron settings to reproduce errors and warnings.
- If 'R CMD check' started to fail recently on the Linux builder(s) over a missing dependency, add the missing dependency to 'Suggests:' in your DESCRIPTION file. See Renviron.bioc for more information.

raw results


Summary

Package: Rcpi
Version: 1.40.3
Command: /Library/Frameworks/R.framework/Resources/bin/R CMD check --install=check:Rcpi.install-out.txt --library=/Library/Frameworks/R.framework/Resources/library --no-vignettes --timings Rcpi_1.40.3.tar.gz
StartedAt: 2024-10-17 11:33:20 -0400 (Thu, 17 Oct 2024)
EndedAt: 2024-10-17 11:38:19 -0400 (Thu, 17 Oct 2024)
EllapsedTime: 299.1 seconds
RetCode: 0
Status:   OK  
CheckDir: Rcpi.Rcheck
Warnings: 0

Command output

##############################################################################
##############################################################################
###
### Running command:
###
###   /Library/Frameworks/R.framework/Resources/bin/R CMD check --install=check:Rcpi.install-out.txt --library=/Library/Frameworks/R.framework/Resources/library --no-vignettes --timings Rcpi_1.40.3.tar.gz
###
##############################################################################
##############################################################################


* using log directory ‘/Users/biocbuild/bbs-3.19-bioc/meat/Rcpi.Rcheck’
* using R version 4.4.1 (2024-06-14)
* using platform: x86_64-apple-darwin20
* R was compiled by
    Apple clang version 14.0.0 (clang-1400.0.29.202)
    GNU Fortran (GCC) 12.2.0
* running under: macOS Monterey 12.7.6
* using session charset: UTF-8
* using option ‘--no-vignettes’
* checking for file ‘Rcpi/DESCRIPTION’ ... OK
* checking extension type ... Package
* this is package ‘Rcpi’ version ‘1.40.3’
* package encoding: UTF-8
* checking package namespace information ... OK
* checking package dependencies ... OK
* checking if this is a source package ... OK
* checking if there is a namespace ... OK
* checking for hidden files and directories ... OK
* checking for portable file names ... OK
* checking for sufficient/correct file permissions ... OK
* checking whether package ‘Rcpi’ can be installed ... OK
* checking installed package size ... OK
* checking package directory ... OK
* checking ‘build’ directory ... OK
* checking DESCRIPTION meta-information ... OK
* checking top-level files ... OK
* checking for left-over files ... OK
* checking index information ... OK
* checking package subdirectories ... OK
* checking code files for non-ASCII characters ... OK
* checking R files for syntax errors ... OK
* checking whether the package can be loaded ... OK
* checking whether the package can be loaded with stated dependencies ... OK
* checking whether the package can be unloaded cleanly ... OK
* checking whether the namespace can be loaded with stated dependencies ... OK
* checking whether the namespace can be unloaded cleanly ... OK
* checking dependencies in R code ... OK
* checking S3 generic/method consistency ... OK
* checking replacement functions ... OK
* checking foreign function calls ... OK
* checking R code for possible problems ... OK
* checking Rd files ... OK
* checking Rd metadata ... OK
* checking Rd cross-references ... OK
* checking for missing documentation entries ... OK
* checking for code/documentation mismatches ... OK
* checking Rd \usage sections ... OK
* checking Rd contents ... OK
* checking for unstated dependencies in examples ... OK
* checking contents of ‘data’ directory ... OK
* checking data for non-ASCII characters ... OK
* checking LazyData ... OK
* checking data for ASCII and uncompressed saves ... OK
* checking files in ‘vignettes’ ... OK
* checking examples ... OK
* checking for unstated dependencies in ‘tests’ ... OK
* checking tests ...
  Running ‘testthat.R’
 OK
* checking for unstated dependencies in vignettes ... OK
* checking package vignettes ... OK
* checking running R code from vignettes ... SKIPPED
* checking re-building of vignette outputs ... SKIPPED
* checking PDF version of manual ... OK
* DONE

Status: OK


Installation output

Rcpi.Rcheck/00install.out

##############################################################################
##############################################################################
###
### Running command:
###
###   /Library/Frameworks/R.framework/Resources/bin/R CMD INSTALL Rcpi
###
##############################################################################
##############################################################################


* installing to library ‘/Library/Frameworks/R.framework/Versions/4.4-x86_64/Resources/library’
* installing *source* package ‘Rcpi’ ...
** using staged installation
** R
** data
*** moving datasets to lazyload DB
** inst
** byte-compile and prepare package for lazy loading
** help
*** installing help indices
*** copying figures
** building package indices
** installing vignettes
** testing if installed package can be loaded from temporary location
** testing if installed package can be loaded from final location
** testing if installed package keeps a record of temporary installation path
* DONE (Rcpi)

Tests output

Rcpi.Rcheck/tests/testthat.Rout


R version 4.4.1 (2024-06-14) -- "Race for Your Life"
Copyright (C) 2024 The R Foundation for Statistical Computing
Platform: x86_64-apple-darwin20

R is free software and comes with ABSOLUTELY NO WARRANTY.
You are welcome to redistribute it under certain conditions.
Type 'license()' or 'licence()' for distribution details.

R is a collaborative project with many contributors.
Type 'contributors()' for more information and
'citation()' on how to cite R or R packages in publications.

Type 'demo()' for some demos, 'help()' for on-line help, or
'help.start()' for an HTML browser interface to help.
Type 'q()' to quit R.

> library(testthat)
> library(Rcpi)

> 
> test_check("Rcpi")
[ FAIL 0 | WARN 0 | SKIP 0 | PASS 22 ]
> 
> proc.time()
   user  system elapsed 
 13.442   1.034  14.850 

Example timings

Rcpi.Rcheck/Rcpi-Ex.timings

nameusersystemelapsed
AA2DACOR0.0030.0030.007
AA3DMoRSE0.0020.0020.007
AAACF0.0010.0030.005
AABLOSUM1000.0010.0020.005
AABLOSUM450.0020.0020.005
AABLOSUM500.0020.0020.004
AABLOSUM620.0020.0020.004
AABLOSUM800.0010.0020.004
AABurden0.0020.0020.004
AACPSA0.0010.0020.003
AAConn0.0020.0020.004
AAConst0.0020.0020.004
AADescAll0.0020.0020.004
AAEdgeAdj0.0020.0020.004
AAEigIdx0.0010.0030.015
AAFGC0.0010.0020.004
AAGETAWAY0.0020.0020.008
AAGeom0.0020.0020.005
AAInfo0.0020.0020.009
AAMOE2D0.0010.0020.004
AAMOE3D0.0020.0020.004
AAMetaInfo0.0020.0020.003
AAMolProp0.0010.0020.004
AAPAM1200.0020.0020.003
AAPAM2500.0010.0020.004
AAPAM300.0020.0020.003
AAPAM400.0020.0020.004
AAPAM700.0010.0030.004
AARDF0.0020.0020.003
AARandic0.0010.0020.004
AATopo0.0020.0020.004
AATopoChg0.0020.0030.005
AAWHIM0.0020.0020.004
AAWalk0.0010.0020.004
AAindex0.0020.0020.003
OptAA3d0.0000.0010.002
acc0.0180.0200.064
calcDrugFPSim0.0000.0010.001
calcDrugMCSSim0.0060.0070.015
calcParProtGOSim0.0010.0010.001
calcParProtSeqSim0.0110.0050.019
calcTwoProtGOSim0.0000.0010.002
calcTwoProtSeqSim0.0040.0020.005
checkProt0.0020.0010.004
convMolFormat0.0020.0020.005
extractDrugAIO0.0010.0010.002
extractDrugALOGP0.0020.0010.004
extractDrugAminoAcidCount0.0010.0010.003
extractDrugApol0.0010.0010.002
extractDrugAromaticAtomsCount0.0020.0000.002
extractDrugAromaticBondsCount0.0010.0010.004
extractDrugAtomCount0.0020.0010.003
extractDrugAutocorrelationCharge0.0010.0010.004
extractDrugAutocorrelationMass0.0020.0010.003
extractDrugAutocorrelationPolarizability0.0020.0010.004
extractDrugBCUT0.0010.0010.002
extractDrugBPol0.0020.0010.002
extractDrugBondCount0.0010.0010.003
extractDrugCPSA0.0020.0010.002
extractDrugCarbonTypes0.0010.0010.003
extractDrugChiChain0.0020.0010.004
extractDrugChiCluster0.0010.0000.002
extractDrugChiPath0.0020.0010.002
extractDrugChiPathCluster0.0010.0010.002
extractDrugDescOB0.0200.0090.056
extractDrugECI0.0020.0000.003
extractDrugEstate0.0020.0010.003
extractDrugEstateComplete0.0010.0010.003
extractDrugExtended0.0020.0010.002
extractDrugExtendedComplete0.0010.0010.002
extractDrugFMF0.0020.0010.003
extractDrugFragmentComplexity0.0010.0010.002
extractDrugGraph0.0020.0000.003
extractDrugGraphComplete0.0020.0010.002
extractDrugGravitationalIndex0.0020.0010.003
extractDrugHBondAcceptorCount0.0010.0010.002
extractDrugHBondDonorCount0.0010.0010.003
extractDrugHybridization0.0010.0010.002
extractDrugHybridizationComplete0.0020.0010.002
extractDrugHybridizationRatio0.0010.0010.003
extractDrugIPMolecularLearning0.0020.0010.002
extractDrugKR0.0010.0000.002
extractDrugKRComplete0.0020.0010.003
extractDrugKappaShapeIndices0.0020.0010.003
extractDrugKierHallSmarts0.0010.0010.002
extractDrugLargestChain0.0010.0010.002
extractDrugLargestPiSystem0.0020.0010.003
extractDrugLengthOverBreadth0.0010.0000.003
extractDrugLongestAliphaticChain0.0020.0010.003
extractDrugMACCS0.0010.0010.003
extractDrugMACCSComplete0.0020.0000.002
extractDrugMDE0.0010.0010.002
extractDrugMannholdLogP0.0020.0010.002
extractDrugMomentOfInertia0.0010.0000.003
extractDrugOBFP20.0110.0070.023
extractDrugOBFP30.0110.0030.014
extractDrugOBFP40.0100.0040.024
extractDrugOBMACCS0.0110.0060.023
extractDrugPetitjeanNumber0.0020.0010.003
extractDrugPetitjeanShapeIndex0.0010.0010.010
extractDrugPubChem0.0020.0010.010
extractDrugPubChemComplete0.0010.0000.002
extractDrugRotatableBondsCount0.0020.0010.002
extractDrugRuleOfFive0.0010.0010.003
extractDrugShortestPath0.0020.0010.002
extractDrugShortestPathComplete0.0010.0010.002
extractDrugStandard0.0020.0010.002
extractDrugStandardComplete0.0010.0010.003
extractDrugTPSA0.0020.0010.002
extractDrugVABC0.0010.0000.002
extractDrugVAdjMa0.0020.0010.002
extractDrugWHIM0.0010.0010.003
extractDrugWeight0.0020.0010.003
extractDrugWeightedPath0.0010.0010.002
extractDrugWienerNumbers0.0020.0010.003
extractDrugXLogP0.0010.0010.002
extractDrugZagrebIndex0.0020.0010.003
extractPCMBLOSUM0.1200.0080.154
extractPCMDescScales0.0210.0030.026
extractPCMFAScales0.0310.0080.049
extractPCMMDSScales0.0180.0050.030
extractPCMPropScales0.0210.0030.030
extractPCMScales0.0420.0070.055
extractProtAAC0.0030.0010.008
extractProtAPAAC1.8380.0562.225
extractProtCTDC0.0040.0020.007
extractProtCTDD0.0080.0060.017
extractProtCTDT0.0100.0020.018
extractProtCTriad0.1960.0250.313
extractProtDC0.0070.0120.019
extractProtGeary0.3060.0250.386
extractProtMoran0.2970.0260.362
extractProtMoreauBroto0.3030.0240.385
extractProtPAAC1.2420.0211.453
extractProtPSSM0.0030.0010.003
extractProtPSSMAcc0.0020.0010.004
extractProtPSSMFeature0.0020.0010.004
extractProtQSO2.3270.0362.786
extractProtSOCN2.2670.0202.571
extractProtTC0.0890.2490.386
getCPI0.0050.0040.009
getDrug000
getFASTAFromKEGG000
getFASTAFromUniProt000
getMolFromCAS0.0010.0000.000
getMolFromChEMBL0.0010.0000.000
getMolFromDrugBank0.0000.0000.001
getMolFromKEGG0.0000.0000.001
getMolFromPubChem0.0000.0000.001
getPDBFromRCSBPDB000
getPPI0.0050.0060.012
getProt0.0000.0010.001
getSeqFromKEGG0.0000.0000.001
getSeqFromRCSBPDB000
getSeqFromUniProt000
getSmiFromChEMBL000
getSmiFromDrugBank000
getSmiFromKEGG000
getSmiFromPubChem0.0000.0010.001
readFASTA0.0020.0010.003
readMolFromSDF0.0040.0020.006
readMolFromSmi0.0010.0010.003
readPDB1.5380.0141.815
searchDrug0.0030.0010.004
segProt0.0040.0040.008