Back to Multiple platform build/check report for BioC 3.19: simplified long |
|
This page was generated on 2024-06-11 14:42 -0400 (Tue, 11 Jun 2024).
Hostname | OS | Arch (*) | R version | Installed pkgs |
---|---|---|---|---|
nebbiolo1 | Linux (Ubuntu 22.04.3 LTS) | x86_64 | 4.4.0 (2024-04-24) -- "Puppy Cup" | 4757 |
palomino3 | Windows Server 2022 Datacenter | x64 | 4.4.0 (2024-04-24 ucrt) -- "Puppy Cup" | 4491 |
lconway | macOS 12.7.1 Monterey | x86_64 | 4.4.0 (2024-04-24) -- "Puppy Cup" | 4522 |
kjohnson3 | macOS 13.6.5 Ventura | arm64 | 4.4.0 (2024-04-24) -- "Puppy Cup" | 4468 |
Click on any hostname to see more info about the system (e.g. compilers) (*) as reported by 'uname -p', except on Windows and Mac OS X |
Package 644/2300 | Hostname | OS / Arch | INSTALL | BUILD | CHECK | BUILD BIN | ||||||||
EMDomics 2.34.0 (landing page) Sadhika Malladi
| nebbiolo1 | Linux (Ubuntu 22.04.3 LTS) / x86_64 | OK | OK | OK | |||||||||
palomino3 | Windows Server 2022 Datacenter / x64 | OK | OK | OK | OK | |||||||||
lconway | macOS 12.7.1 Monterey / x86_64 | OK | OK | OK | OK | |||||||||
kjohnson3 | macOS 13.6.5 Ventura / arm64 | OK | OK | OK | OK | |||||||||
To the developers/maintainers of the EMDomics package: - Allow up to 24 hours (and sometimes 48 hours) for your latest push to git@git.bioconductor.org:packages/EMDomics.git to reflect on this report. See Troubleshooting Build Report for more information. - Use the following Renviron settings to reproduce errors and warnings. - If 'R CMD check' started to fail recently on the Linux builder(s) over a missing dependency, add the missing dependency to 'Suggests:' in your DESCRIPTION file. See Renviron.bioc for more information. |
Package: EMDomics |
Version: 2.34.0 |
Command: /Library/Frameworks/R.framework/Resources/bin/R CMD check --install=check:EMDomics.install-out.txt --library=/Library/Frameworks/R.framework/Resources/library --no-vignettes --timings EMDomics_2.34.0.tar.gz |
StartedAt: 2024-06-09 20:10:48 -0400 (Sun, 09 Jun 2024) |
EndedAt: 2024-06-09 20:12:15 -0400 (Sun, 09 Jun 2024) |
EllapsedTime: 86.5 seconds |
RetCode: 0 |
Status: OK |
CheckDir: EMDomics.Rcheck |
Warnings: 0 |
############################################################################## ############################################################################## ### ### Running command: ### ### /Library/Frameworks/R.framework/Resources/bin/R CMD check --install=check:EMDomics.install-out.txt --library=/Library/Frameworks/R.framework/Resources/library --no-vignettes --timings EMDomics_2.34.0.tar.gz ### ############################################################################## ############################################################################## * using log directory ‘/Users/biocbuild/bbs-3.19-bioc/meat/EMDomics.Rcheck’ * using R version 4.4.0 (2024-04-24) * using platform: x86_64-apple-darwin20 * R was compiled by Apple clang version 14.0.0 (clang-1400.0.29.202) GNU Fortran (GCC) 12.2.0 * running under: macOS Monterey 12.7.1 * using session charset: UTF-8 * using option ‘--no-vignettes’ * checking for file ‘EMDomics/DESCRIPTION’ ... OK * this is package ‘EMDomics’ version ‘2.34.0’ * checking package namespace information ... OK * checking package dependencies ... OK * checking if this is a source package ... OK * checking if there is a namespace ... OK * checking for hidden files and directories ... OK * checking for portable file names ... OK * checking for sufficient/correct file permissions ... OK * checking whether package ‘EMDomics’ can be installed ... OK * checking installed package size ... OK * checking package directory ... OK * checking ‘build’ directory ... OK * checking DESCRIPTION meta-information ... NOTE Authors@R field gives more than one person with maintainer role: Sadhika Malladi <contact@sadhikamalladi.com> [aut, cre] Daniel Schmolze <emd@schmolze.com> [aut, cre] * checking top-level files ... OK * checking for left-over files ... OK * checking index information ... OK * checking package subdirectories ... OK * checking code files for non-ASCII characters ... OK * checking R files for syntax errors ... OK * checking whether the package can be loaded ... OK * checking whether the package can be loaded with stated dependencies ... OK * checking whether the package can be unloaded cleanly ... OK * checking whether the namespace can be loaded with stated dependencies ... OK * checking whether the namespace can be unloaded cleanly ... OK * checking dependencies in R code ... OK * checking S3 generic/method consistency ... OK * checking replacement functions ... OK * checking foreign function calls ... OK * checking R code for possible problems ... NOTE .cvm_pairwise_q: no visible global function definition for ‘combn’ .cvm_pairwise_q : <anonymous>: no visible global function definition for ‘median’ .emd_gene_pairwise: no visible global function definition for ‘hist’ .emd_pairwise_q: no visible global function definition for ‘combn’ .emd_pairwise_q : <anonymous>: no visible global function definition for ‘median’ .ks_pairwise_table: no visible global function definition for ‘ks.test’ calculate_cvm: no visible global function definition for ‘combn’ calculate_cvm : <anonymous>: no visible global function definition for ‘median’ calculate_cvm_gene: no visible global function definition for ‘combn’ calculate_emd: no visible global function definition for ‘combn’ calculate_emd : <anonymous>: no visible global function definition for ‘median’ calculate_emd_gene: no visible global function definition for ‘combn’ calculate_ks: no visible global function definition for ‘combn’ calculate_ks : <anonymous>: no visible global function definition for ‘p.adjust’ calculate_ks : <anonymous>: no visible global function definition for ‘median’ calculate_ks_gene: no visible global function definition for ‘combn’ calculate_ks_gene: no visible global function definition for ‘ks.test’ Undefined global functions or variables: combn hist ks.test median p.adjust Consider adding importFrom("graphics", "hist") importFrom("stats", "ks.test", "median", "p.adjust") importFrom("utils", "combn") to your NAMESPACE file. * checking Rd files ... OK * checking Rd metadata ... NOTE Invalid package aliases in Rd file 'emdomics-package.Rd': ‘emdomics-package’ * checking Rd cross-references ... OK * checking for missing documentation entries ... OK * checking for code/documentation mismatches ... OK * checking Rd \usage sections ... OK * checking Rd contents ... OK * checking for unstated dependencies in examples ... OK * checking files in ‘vignettes’ ... OK * checking examples ... OK Examples with CPU (user + system) or elapsed time > 5s user system elapsed calculate_cvm 6.757 0.073 6.860 plot_cvmperms 6.725 0.039 6.785 plot_cvm_density 6.556 0.054 6.643 * checking for unstated dependencies in vignettes ... OK * checking package vignettes ... OK * checking running R code from vignettes ... SKIPPED * checking re-building of vignette outputs ... SKIPPED * checking PDF version of manual ... OK * DONE Status: 3 NOTEs See ‘/Users/biocbuild/bbs-3.19-bioc/meat/EMDomics.Rcheck/00check.log’ for details.
EMDomics.Rcheck/00install.out
############################################################################## ############################################################################## ### ### Running command: ### ### /Library/Frameworks/R.framework/Resources/bin/R CMD INSTALL EMDomics ### ############################################################################## ############################################################################## * installing to library ‘/Library/Frameworks/R.framework/Versions/4.4-x86_64/Resources/library’ * installing *source* package ‘EMDomics’ ... ** using staged installation ** R ** byte-compile and prepare package for lazy loading ** help *** installing help indices ** building package indices ** installing vignettes ** testing if installed package can be loaded from temporary location ** testing if installed package can be loaded from final location ** testing if installed package keeps a record of temporary installation path * DONE (EMDomics)
EMDomics.Rcheck/EMDomics-Ex.timings
name | user | system | elapsed | |
calculate_cvm | 6.757 | 0.073 | 6.860 | |
calculate_cvm_gene | 0.008 | 0.001 | 0.009 | |
calculate_emd | 3.650 | 0.049 | 3.714 | |
calculate_emd_gene | 0.004 | 0.000 | 0.004 | |
calculate_ks | 1.587 | 0.027 | 1.623 | |
calculate_ks_gene | 0.011 | 0.001 | 0.011 | |
plot_cvm_density | 6.556 | 0.054 | 6.643 | |
plot_cvmnull | 2.640 | 0.021 | 2.676 | |
plot_cvmperms | 6.725 | 0.039 | 6.785 | |
plot_emd_density | 3.971 | 0.048 | 4.032 | |
plot_emdnull | 1.760 | 0.026 | 1.791 | |
plot_emdperms | 3.711 | 0.042 | 3.762 | |
plot_ks_density | 1.743 | 0.017 | 1.765 | |
plot_ksnull | 1.019 | 0.014 | 1.041 | |
plot_ksperms | 1.765 | 0.019 | 1.794 | |