Back to Multiple platform build/check report for BioC 3.19: simplified long |
|
This page was generated on 2024-10-18 20:38 -0400 (Fri, 18 Oct 2024).
Hostname | OS | Arch (*) | R version | Installed pkgs |
---|---|---|---|---|
nebbiolo1 | Linux (Ubuntu 22.04.3 LTS) | x86_64 | 4.4.1 (2024-06-14) -- "Race for Your Life" | 4763 |
palomino7 | Windows Server 2022 Datacenter | x64 | 4.4.1 (2024-06-14 ucrt) -- "Race for Your Life" | 4500 |
merida1 | macOS 12.7.5 Monterey | x86_64 | 4.4.1 (2024-06-14) -- "Race for Your Life" | 4530 |
kjohnson1 | macOS 13.6.6 Ventura | arm64 | 4.4.1 (2024-06-14) -- "Race for Your Life" | 4480 |
Click on any hostname to see more info about the system (e.g. compilers) (*) as reported by 'uname -p', except on Windows and Mac OS X |
Package 644/2300 | Hostname | OS / Arch | INSTALL | BUILD | CHECK | BUILD BIN | ||||||||
EMDomics 2.34.0 (landing page) Sadhika Malladi
| nebbiolo1 | Linux (Ubuntu 22.04.3 LTS) / x86_64 | OK | OK | OK | ![]() | ||||||||
palomino7 | Windows Server 2022 Datacenter / x64 | OK | OK | OK | OK | ![]() | ||||||||
merida1 | macOS 12.7.5 Monterey / x86_64 | OK | OK | OK | OK | ![]() | ||||||||
kjohnson1 | macOS 13.6.6 Ventura / arm64 | OK | OK | OK | OK | ![]() | ||||||||
To the developers/maintainers of the EMDomics package: - Allow up to 24 hours (and sometimes 48 hours) for your latest push to git@git.bioconductor.org:packages/EMDomics.git to reflect on this report. See Troubleshooting Build Report for more information. - Use the following Renviron settings to reproduce errors and warnings. - If 'R CMD check' started to fail recently on the Linux builder(s) over a missing dependency, add the missing dependency to 'Suggests:' in your DESCRIPTION file. See Renviron.bioc for more information. |
Package: EMDomics |
Version: 2.34.0 |
Command: /home/biocbuild/bbs-3.19-bioc/R/bin/R CMD check --install=check:EMDomics.install-out.txt --library=/home/biocbuild/bbs-3.19-bioc/R/site-library --timings EMDomics_2.34.0.tar.gz |
StartedAt: 2024-10-17 00:04:26 -0400 (Thu, 17 Oct 2024) |
EndedAt: 2024-10-17 00:05:35 -0400 (Thu, 17 Oct 2024) |
EllapsedTime: 69.1 seconds |
RetCode: 0 |
Status: OK |
CheckDir: EMDomics.Rcheck |
Warnings: 0 |
############################################################################## ############################################################################## ### ### Running command: ### ### /home/biocbuild/bbs-3.19-bioc/R/bin/R CMD check --install=check:EMDomics.install-out.txt --library=/home/biocbuild/bbs-3.19-bioc/R/site-library --timings EMDomics_2.34.0.tar.gz ### ############################################################################## ############################################################################## * using log directory ‘/home/biocbuild/bbs-3.19-bioc/meat/EMDomics.Rcheck’ * using R version 4.4.1 (2024-06-14) * using platform: x86_64-pc-linux-gnu * R was compiled by gcc (Ubuntu 11.4.0-1ubuntu1~22.04) 11.4.0 GNU Fortran (Ubuntu 11.4.0-1ubuntu1~22.04) 11.4.0 * running under: Ubuntu 22.04.5 LTS * using session charset: UTF-8 * checking for file ‘EMDomics/DESCRIPTION’ ... OK * this is package ‘EMDomics’ version ‘2.34.0’ * checking package namespace information ... OK * checking package dependencies ... OK * checking if this is a source package ... OK * checking if there is a namespace ... OK * checking for hidden files and directories ... OK * checking for portable file names ... OK * checking for sufficient/correct file permissions ... OK * checking whether package ‘EMDomics’ can be installed ... OK * checking installed package size ... OK * checking package directory ... OK * checking ‘build’ directory ... OK * checking DESCRIPTION meta-information ... NOTE Authors@R field gives more than one person with maintainer role: Sadhika Malladi <contact@sadhikamalladi.com> [aut, cre] Daniel Schmolze <emd@schmolze.com> [aut, cre] * checking top-level files ... OK * checking for left-over files ... OK * checking index information ... OK * checking package subdirectories ... OK * checking code files for non-ASCII characters ... OK * checking R files for syntax errors ... OK * checking whether the package can be loaded ... OK * checking whether the package can be loaded with stated dependencies ... OK * checking whether the package can be unloaded cleanly ... OK * checking whether the namespace can be loaded with stated dependencies ... OK * checking whether the namespace can be unloaded cleanly ... OK * checking loading without being on the library search path ... OK * checking dependencies in R code ... OK * checking S3 generic/method consistency ... OK * checking replacement functions ... OK * checking foreign function calls ... OK * checking R code for possible problems ... NOTE .cvm_pairwise_q: no visible global function definition for ‘combn’ .cvm_pairwise_q : <anonymous>: no visible global function definition for ‘median’ .emd_gene_pairwise: no visible global function definition for ‘hist’ .emd_pairwise_q: no visible global function definition for ‘combn’ .emd_pairwise_q : <anonymous>: no visible global function definition for ‘median’ .ks_pairwise_table: no visible global function definition for ‘ks.test’ calculate_cvm: no visible global function definition for ‘combn’ calculate_cvm : <anonymous>: no visible global function definition for ‘median’ calculate_cvm_gene: no visible global function definition for ‘combn’ calculate_emd: no visible global function definition for ‘combn’ calculate_emd : <anonymous>: no visible global function definition for ‘median’ calculate_emd_gene: no visible global function definition for ‘combn’ calculate_ks: no visible global function definition for ‘combn’ calculate_ks : <anonymous>: no visible global function definition for ‘p.adjust’ calculate_ks : <anonymous>: no visible global function definition for ‘median’ calculate_ks_gene: no visible global function definition for ‘combn’ calculate_ks_gene: no visible global function definition for ‘ks.test’ Undefined global functions or variables: combn hist ks.test median p.adjust Consider adding importFrom("graphics", "hist") importFrom("stats", "ks.test", "median", "p.adjust") importFrom("utils", "combn") to your NAMESPACE file. * checking Rd files ... OK * checking Rd metadata ... NOTE Invalid package aliases in Rd file 'emdomics-package.Rd': ‘emdomics-package’ * checking Rd cross-references ... OK * checking for missing documentation entries ... OK * checking for code/documentation mismatches ... OK * checking Rd \usage sections ... OK * checking Rd contents ... OK * checking for unstated dependencies in examples ... OK * checking files in ‘vignettes’ ... OK * checking examples ... OK Examples with CPU (user + system) or elapsed time > 5s user system elapsed calculate_cvm 5.729 0.064 5.793 plot_cvm_density 5.548 0.064 5.612 plot_cvmperms 5.548 0.028 5.576 * checking for unstated dependencies in vignettes ... OK * checking package vignettes ... OK * checking re-building of vignette outputs ... OK * checking PDF version of manual ... OK * DONE Status: 3 NOTEs See ‘/home/biocbuild/bbs-3.19-bioc/meat/EMDomics.Rcheck/00check.log’ for details.
EMDomics.Rcheck/00install.out
############################################################################## ############################################################################## ### ### Running command: ### ### /home/biocbuild/bbs-3.19-bioc/R/bin/R CMD INSTALL EMDomics ### ############################################################################## ############################################################################## * installing to library ‘/home/biocbuild/bbs-3.19-bioc/R/site-library’ * installing *source* package ‘EMDomics’ ... ** using staged installation ** R ** byte-compile and prepare package for lazy loading ** help *** installing help indices ** building package indices ** installing vignettes ** testing if installed package can be loaded from temporary location ** testing if installed package can be loaded from final location ** testing if installed package keeps a record of temporary installation path * DONE (EMDomics)
EMDomics.Rcheck/EMDomics-Ex.timings
name | user | system | elapsed | |
calculate_cvm | 5.729 | 0.064 | 5.793 | |
calculate_cvm_gene | 0.006 | 0.000 | 0.006 | |
calculate_emd | 3.097 | 0.048 | 3.146 | |
calculate_emd_gene | 0.000 | 0.004 | 0.005 | |
calculate_ks | 1.206 | 0.000 | 1.207 | |
calculate_ks_gene | 0.011 | 0.000 | 0.010 | |
plot_cvm_density | 5.548 | 0.064 | 5.612 | |
plot_cvmnull | 2.191 | 0.000 | 2.192 | |
plot_cvmperms | 5.548 | 0.028 | 5.576 | |
plot_emd_density | 3.346 | 0.024 | 3.370 | |
plot_emdnull | 1.406 | 0.004 | 1.410 | |
plot_emdperms | 3.345 | 0.024 | 3.369 | |
plot_ks_density | 1.377 | 0.000 | 1.377 | |
plot_ksnull | 0.798 | 0.004 | 0.802 | |
plot_ksperms | 1.34 | 0.00 | 1.34 | |