Back to Multiple platform build/check report for BioC 3.17:   simplified   long
ABCDEFGHIJKLMNOPQ[R]STUVWXYZ

This page was generated on 2023-03-16 11:06:30 -0400 (Thu, 16 Mar 2023).

HostnameOSArch (*)R versionInstalled pkgs
nebbiolo1Linux (Ubuntu 22.04.1 LTS)x86_64R Under development (unstable) (2023-01-10 r83596) -- "Unsuffered Consequences" 4540
palomino3Windows Server 2022 Datacenterx64R Under development (unstable) (2023-01-10 r83596 ucrt) -- "Unsuffered Consequences" 4302
merida1macOS 10.14.6 Mojavex86_64R Under development (unstable) (2023-01-10 r83596) -- "Unsuffered Consequences" 4330
Click on any hostname to see more info about the system (e.g. compilers)      (*) as reported by 'uname -p', except on Windows and Mac OS X

BUILD BIN results for RNAdecay on palomino3


To the developers/maintainers of the RNAdecay package:
- Please allow up to 24 hours (and sometimes 48 hours) for your latest push to git@git.bioconductor.org:packages/RNAdecay.git to
reflect on this report. See How and When does the builder pull? When will my changes propagate? for more information.
- Make sure to use the following settings in order to reproduce any error or warning you see on this page.

raw results

Package 1709/2189HostnameOS / ArchINSTALLBUILDCHECKBUILD BIN
RNAdecay 1.19.0  (landing page)
Reed Sorenson
Snapshot Date: 2023-03-15 14:00:15 -0400 (Wed, 15 Mar 2023)
git_url: https://git.bioconductor.org/packages/RNAdecay
git_branch: master
git_last_commit: d17fd6f
git_last_commit_date: 2022-11-01 11:17:45 -0400 (Tue, 01 Nov 2022)
nebbiolo1Linux (Ubuntu 22.04.1 LTS) / x86_64  OK    OK    OK  UNNEEDED, same version is already published
palomino3Windows Server 2022 Datacenter / x64  OK    OK    OK    OK  UNNEEDED, same version is already published
merida1macOS 10.14.6 Mojave / x86_64  OK    OK    OK    OK  UNNEEDED, same version is already published

Summary

Package: RNAdecay
Version: 1.19.0
Command: rm -rf RNAdecay.buildbin-libdir && mkdir RNAdecay.buildbin-libdir && F:\biocbuild\bbs-3.17-bioc\R\bin\R.exe CMD INSTALL --build --library=RNAdecay.buildbin-libdir RNAdecay_1.19.0.tar.gz
StartedAt: 2023-03-16 08:52:41 -0400 (Thu, 16 Mar 2023)
EndedAt: 2023-03-16 08:52:58 -0400 (Thu, 16 Mar 2023)
EllapsedTime: 16.7 seconds
RetCode: 0
Status:   OK  
PackageFile: RNAdecay_1.19.0.zip
PackageFileSize: 7.177 MiB

Command output

##############################################################################
##############################################################################
###
### Running command:
###
###   rm -rf RNAdecay.buildbin-libdir && mkdir RNAdecay.buildbin-libdir && F:\biocbuild\bbs-3.17-bioc\R\bin\R.exe CMD INSTALL --build --library=RNAdecay.buildbin-libdir RNAdecay_1.19.0.tar.gz
###
##############################################################################
##############################################################################


* installing *source* package 'RNAdecay' ...
** using staged installation
** libs
  running 'src/Makefile.win' ...
make: Nothing to be done for 'all'.
installing to F:/biocbuild/bbs-3.17-bioc/meat/RNAdecay.buildbin-libdir/00LOCK-RNAdecay/00new/RNAdecay/libs/x64
** R
** data
*** moving datasets to lazyload DB
** inst
** byte-compile and prepare package for lazy loading
** help
*** installing help indices
** building package indices
** installing vignettes
** testing if installed package can be loaded from temporary location
** testing if installed package can be loaded from final location
** testing if installed package keeps a record of temporary installation path
* MD5 sums
packaged installation of 'RNAdecay' as RNAdecay_1.19.0.zip
* DONE (RNAdecay)