Back to Multiple platform build/check report for BioC 3.17:   simplified   long
ABCDEFGHIJKLMNOPQ[R]STUVWXYZ

This page was generated on 2023-03-16 11:07:24 -0400 (Thu, 16 Mar 2023).

HostnameOSArch (*)R versionInstalled pkgs
nebbiolo1Linux (Ubuntu 22.04.1 LTS)x86_64R Under development (unstable) (2023-01-10 r83596) -- "Unsuffered Consequences" 4540
palomino3Windows Server 2022 Datacenterx64R Under development (unstable) (2023-01-10 r83596 ucrt) -- "Unsuffered Consequences" 4302
merida1macOS 10.14.6 Mojavex86_64R Under development (unstable) (2023-01-10 r83596) -- "Unsuffered Consequences" 4330
Click on any hostname to see more info about the system (e.g. compilers)      (*) as reported by 'uname -p', except on Windows and Mac OS X

CHECK results for RNAdecay on merida1


To the developers/maintainers of the RNAdecay package:
- Please allow up to 24 hours (and sometimes 48 hours) for your latest push to git@git.bioconductor.org:packages/RNAdecay.git to
reflect on this report. See How and When does the builder pull? When will my changes propagate? for more information.
- Make sure to use the following settings in order to reproduce any error or warning you see on this page.

raw results

Package 1709/2189HostnameOS / ArchINSTALLBUILDCHECKBUILD BIN
RNAdecay 1.19.0  (landing page)
Reed Sorenson
Snapshot Date: 2023-03-15 14:00:15 -0400 (Wed, 15 Mar 2023)
git_url: https://git.bioconductor.org/packages/RNAdecay
git_branch: master
git_last_commit: d17fd6f
git_last_commit_date: 2022-11-01 11:17:45 -0400 (Tue, 01 Nov 2022)
nebbiolo1Linux (Ubuntu 22.04.1 LTS) / x86_64  OK    OK    OK  UNNEEDED, same version is already published
palomino3Windows Server 2022 Datacenter / x64  OK    OK    OK    OK  UNNEEDED, same version is already published
merida1macOS 10.14.6 Mojave / x86_64  OK    OK    OK    OK  UNNEEDED, same version is already published

Summary

Package: RNAdecay
Version: 1.19.0
Command: /Library/Frameworks/R.framework/Resources/bin/R CMD check --install=check:RNAdecay.install-out.txt --library=/Library/Frameworks/R.framework/Resources/library --no-vignettes --timings RNAdecay_1.19.0.tar.gz
StartedAt: 2023-03-16 06:03:43 -0400 (Thu, 16 Mar 2023)
EndedAt: 2023-03-16 06:04:39 -0400 (Thu, 16 Mar 2023)
EllapsedTime: 56.2 seconds
RetCode: 0
Status:   OK  
CheckDir: RNAdecay.Rcheck
Warnings: 0

Command output

##############################################################################
##############################################################################
###
### Running command:
###
###   /Library/Frameworks/R.framework/Resources/bin/R CMD check --install=check:RNAdecay.install-out.txt --library=/Library/Frameworks/R.framework/Resources/library --no-vignettes --timings RNAdecay_1.19.0.tar.gz
###
##############################################################################
##############################################################################


* using log directory ‘/Users/biocbuild/bbs-3.17-bioc/meat/RNAdecay.Rcheck’
* using R Under development (unstable) (2023-01-10 r83596)
* using platform: x86_64-apple-darwin17.0 (64-bit)
* R was compiled by
    Apple clang version 12.0.0 (clang-1200.0.32.29)
    GNU Fortran (GCC) 8.2.0
* running under: macOS Mojave 10.14.6
* using session charset: UTF-8
* using option ‘--no-vignettes’
* checking for file ‘RNAdecay/DESCRIPTION’ ... OK
* this is package ‘RNAdecay’ version ‘1.19.0’
* package encoding: UTF-8
* checking package namespace information ... OK
* checking package dependencies ... OK
* checking if this is a source package ... OK
* checking if there is a namespace ... OK
* checking for hidden files and directories ... OK
* checking for portable file names ... OK
* checking for sufficient/correct file permissions ... OK
* checking whether package ‘RNAdecay’ can be installed ... OK
* used C++ compiler: ‘Apple clang version 11.0.0 (clang-1100.0.33.17)’
* used SDK: ‘’
* checking installed package size ... NOTE
  installed size is 98.0Mb
  sub-directories of 1Mb or more:
    data   2.7Mb
    libs  95.1Mb
* checking package directory ... OK
* checking ‘build’ directory ... OK
* checking DESCRIPTION meta-information ... OK
* checking top-level files ... OK
* checking for left-over files ... OK
* checking index information ... OK
* checking package subdirectories ... OK
* checking R files for non-ASCII characters ... OK
* checking R files for syntax errors ... OK
* checking whether the package can be loaded ... OK
* checking whether the package can be loaded with stated dependencies ... OK
* checking whether the package can be unloaded cleanly ... OK
* checking whether the namespace can be loaded with stated dependencies ... OK
* checking whether the namespace can be unloaded cleanly ... OK
* checking dependencies in R code ... OK
* checking S3 generic/method consistency ... OK
* checking replacement functions ... OK
* checking foreign function calls ... OK
* checking R code for possible problems ... NOTE
decay_plot: no visible binding for global variable ‘text’
decay_plot: no visible binding for global variable ‘x’
decay_plot: no visible binding for global variable ‘y’
decay_plot: no visible binding for global variable ‘treatment’
decay_plot: no visible binding for global variable ‘t.decay’
decay_plot: no visible binding for global variable ‘value’
hl_plot: no visible binding for global variable ‘x’
hl_plot: no visible binding for global variable ‘y’
Undefined global functions or variables:
  t.decay text treatment value x y
Consider adding
  importFrom("graphics", "text")
to your NAMESPACE file.
* checking Rd files ... OK
* checking Rd metadata ... OK
* checking Rd cross-references ... OK
* checking for missing documentation entries ... OK
* checking for code/documentation mismatches ... OK
* checking Rd \usage sections ... OK
* checking Rd contents ... OK
* checking for unstated dependencies in examples ... OK
* checking contents of ‘data’ directory ... OK
* checking data for non-ASCII characters ... OK
* checking LazyData ... OK
* checking data for ASCII and uncompressed saves ... OK
* checking line endings in C/C++/Fortran sources/headers ... OK
* checking line endings in Makefiles ... OK
* checking for GNU extensions in Makefiles ... OK
* checking for portable use of $(BLAS_LIBS) and $(LAPACK_LIBS) ... OK
* checking use of PKG_*FLAGS in Makefiles ... OK
* checking include directives in Makefiles ... OK
* checking compiled code ... NOTE
Note: information on .o files is not available
* checking files in ‘vignettes’ ... OK
* checking examples ... OK
* checking for unstated dependencies in vignettes ... OK
* checking package vignettes in ‘inst/doc’ ... OK
* checking running R code from vignettes ... SKIPPED
* checking re-building of vignette outputs ... SKIPPED
* checking PDF version of manual ... OK
* DONE

Status: 3 NOTEs
See
  ‘/Users/biocbuild/bbs-3.17-bioc/meat/RNAdecay.Rcheck/00check.log’
for details.



Installation output

RNAdecay.Rcheck/00install.out

##############################################################################
##############################################################################
###
### Running command:
###
###   /Library/Frameworks/R.framework/Resources/bin/R CMD INSTALL RNAdecay
###
##############################################################################
##############################################################################


* installing to library ‘/Library/Frameworks/R.framework/Versions/4.3/Resources/library’
* installing *source* package ‘RNAdecay’ ...
** using staged installation
** libs
/Library/Frameworks/R.framework/Resources/bin/Rscript --vanilla -e "TMB::compile('general_dExp_1sse.cpp',safebounds=FALSE,safeunload=FALSE)"
using C++ compiler: ‘Apple clang version 11.0.0 (clang-1100.0.33.17)’
using SDK: ‘’
clang++ -mmacosx-version-min=10.13 -std=gnu++14 -I"/Library/Frameworks/R.framework/Resources/include" -DNDEBUG -I"/Library/Frameworks/R.framework/Versions/4.3/Resources/library/TMB/include" -I"/Library/Frameworks/R.framework/Versions/4.3/Resources/library/RcppEigen/include"   -DTMB_EIGEN_DISABLE_WARNINGS   -DTMB_LIB_INIT=R_init_general_dExp_1sse  -DCPPAD_FRAMEWORK  -I/usr/local/include    -fPIC  -Wall -g -O2  -c general_dExp_1sse.cpp -o general_dExp_1sse.o
clang++ -mmacosx-version-min=10.13 -std=gnu++14 -dynamiclib -Wl,-headerpad_max_install_names -undefined dynamic_lookup -single_module -multiply_defined suppress -L/Library/Frameworks/R.framework/Resources/lib -L/usr/local/lib -o general_dExp_1sse.so general_dExp_1sse.o -F/Library/Frameworks/R.framework/.. -framework R -Wl,-framework -Wl,CoreFoundation
[1] 0
/Library/Frameworks/R.framework/Resources/bin/Rscript --vanilla -e "TMB::compile('general_Exp_1sse.cpp',safebounds=FALSE,safeunload=FALSE)"
using C++ compiler: ‘Apple clang version 11.0.0 (clang-1100.0.33.17)’
using SDK: ‘’
clang++ -mmacosx-version-min=10.13 -std=gnu++14 -I"/Library/Frameworks/R.framework/Resources/include" -DNDEBUG -I"/Library/Frameworks/R.framework/Versions/4.3/Resources/library/TMB/include" -I"/Library/Frameworks/R.framework/Versions/4.3/Resources/library/RcppEigen/include"   -DTMB_EIGEN_DISABLE_WARNINGS   -DTMB_LIB_INIT=R_init_general_Exp_1sse  -DCPPAD_FRAMEWORK  -I/usr/local/include    -fPIC  -Wall -g -O2  -c general_Exp_1sse.cpp -o general_Exp_1sse.o
clang++ -mmacosx-version-min=10.13 -std=gnu++14 -dynamiclib -Wl,-headerpad_max_install_names -undefined dynamic_lookup -single_module -multiply_defined suppress -L/Library/Frameworks/R.framework/Resources/lib -L/usr/local/lib -o general_Exp_1sse.so general_Exp_1sse.o -F/Library/Frameworks/R.framework/.. -framework R -Wl,-framework -Wl,CoreFoundation
[1] 0
/Library/Frameworks/R.framework/Resources/bin/Rscript --vanilla -e "TMB::compile('general_dExp_2sse.cpp',safebounds=FALSE,safeunload=FALSE)"
using C++ compiler: ‘Apple clang version 11.0.0 (clang-1100.0.33.17)’
using SDK: ‘’
clang++ -mmacosx-version-min=10.13 -std=gnu++14 -I"/Library/Frameworks/R.framework/Resources/include" -DNDEBUG -I"/Library/Frameworks/R.framework/Versions/4.3/Resources/library/TMB/include" -I"/Library/Frameworks/R.framework/Versions/4.3/Resources/library/RcppEigen/include"   -DTMB_EIGEN_DISABLE_WARNINGS   -DTMB_LIB_INIT=R_init_general_dExp_2sse  -DCPPAD_FRAMEWORK  -I/usr/local/include    -fPIC  -Wall -g -O2  -c general_dExp_2sse.cpp -o general_dExp_2sse.o
clang++ -mmacosx-version-min=10.13 -std=gnu++14 -dynamiclib -Wl,-headerpad_max_install_names -undefined dynamic_lookup -single_module -multiply_defined suppress -L/Library/Frameworks/R.framework/Resources/lib -L/usr/local/lib -o general_dExp_2sse.so general_dExp_2sse.o -F/Library/Frameworks/R.framework/.. -framework R -Wl,-framework -Wl,CoreFoundation
[1] 0
/Library/Frameworks/R.framework/Resources/bin/Rscript --vanilla -e "TMB::compile('general_Exp_2sse.cpp',safebounds=FALSE,safeunload=FALSE)"
using C++ compiler: ‘Apple clang version 11.0.0 (clang-1100.0.33.17)’
using SDK: ‘’
clang++ -mmacosx-version-min=10.13 -std=gnu++14 -I"/Library/Frameworks/R.framework/Resources/include" -DNDEBUG -I"/Library/Frameworks/R.framework/Versions/4.3/Resources/library/TMB/include" -I"/Library/Frameworks/R.framework/Versions/4.3/Resources/library/RcppEigen/include"   -DTMB_EIGEN_DISABLE_WARNINGS   -DTMB_LIB_INIT=R_init_general_Exp_2sse  -DCPPAD_FRAMEWORK  -I/usr/local/include    -fPIC  -Wall -g -O2  -c general_Exp_2sse.cpp -o general_Exp_2sse.o
clang++ -mmacosx-version-min=10.13 -std=gnu++14 -dynamiclib -Wl,-headerpad_max_install_names -undefined dynamic_lookup -single_module -multiply_defined suppress -L/Library/Frameworks/R.framework/Resources/lib -L/usr/local/lib -o general_Exp_2sse.so general_Exp_2sse.o -F/Library/Frameworks/R.framework/.. -framework R -Wl,-framework -Wl,CoreFoundation
[1] 0
/Library/Frameworks/R.framework/Resources/bin/Rscript --vanilla -e "TMB::compile('general_dExp_3sse.cpp',safebounds=FALSE,safeunload=FALSE)"
using C++ compiler: ‘Apple clang version 11.0.0 (clang-1100.0.33.17)’
using SDK: ‘’
clang++ -mmacosx-version-min=10.13 -std=gnu++14 -I"/Library/Frameworks/R.framework/Resources/include" -DNDEBUG -I"/Library/Frameworks/R.framework/Versions/4.3/Resources/library/TMB/include" -I"/Library/Frameworks/R.framework/Versions/4.3/Resources/library/RcppEigen/include"   -DTMB_EIGEN_DISABLE_WARNINGS   -DTMB_LIB_INIT=R_init_general_dExp_3sse  -DCPPAD_FRAMEWORK  -I/usr/local/include    -fPIC  -Wall -g -O2  -c general_dExp_3sse.cpp -o general_dExp_3sse.o
clang++ -mmacosx-version-min=10.13 -std=gnu++14 -dynamiclib -Wl,-headerpad_max_install_names -undefined dynamic_lookup -single_module -multiply_defined suppress -L/Library/Frameworks/R.framework/Resources/lib -L/usr/local/lib -o general_dExp_3sse.so general_dExp_3sse.o -F/Library/Frameworks/R.framework/.. -framework R -Wl,-framework -Wl,CoreFoundation
[1] 0
/Library/Frameworks/R.framework/Resources/bin/Rscript --vanilla -e "TMB::compile('general_Exp_3sse.cpp',safebounds=FALSE,safeunload=FALSE)"
using C++ compiler: ‘Apple clang version 11.0.0 (clang-1100.0.33.17)’
using SDK: ‘’
clang++ -mmacosx-version-min=10.13 -std=gnu++14 -I"/Library/Frameworks/R.framework/Resources/include" -DNDEBUG -I"/Library/Frameworks/R.framework/Versions/4.3/Resources/library/TMB/include" -I"/Library/Frameworks/R.framework/Versions/4.3/Resources/library/RcppEigen/include"   -DTMB_EIGEN_DISABLE_WARNINGS   -DTMB_LIB_INIT=R_init_general_Exp_3sse  -DCPPAD_FRAMEWORK  -I/usr/local/include    -fPIC  -Wall -g -O2  -c general_Exp_3sse.cpp -o general_Exp_3sse.o
clang++ -mmacosx-version-min=10.13 -std=gnu++14 -dynamiclib -Wl,-headerpad_max_install_names -undefined dynamic_lookup -single_module -multiply_defined suppress -L/Library/Frameworks/R.framework/Resources/lib -L/usr/local/lib -o general_Exp_3sse.so general_Exp_3sse.o -F/Library/Frameworks/R.framework/.. -framework R -Wl,-framework -Wl,CoreFoundation
[1] 0
/Library/Frameworks/R.framework/Resources/bin/Rscript --vanilla -e "TMB::compile('general_dExp_4sse.cpp',safebounds=FALSE,safeunload=FALSE)"
using C++ compiler: ‘Apple clang version 11.0.0 (clang-1100.0.33.17)’
using SDK: ‘’
clang++ -mmacosx-version-min=10.13 -std=gnu++14 -I"/Library/Frameworks/R.framework/Resources/include" -DNDEBUG -I"/Library/Frameworks/R.framework/Versions/4.3/Resources/library/TMB/include" -I"/Library/Frameworks/R.framework/Versions/4.3/Resources/library/RcppEigen/include"   -DTMB_EIGEN_DISABLE_WARNINGS   -DTMB_LIB_INIT=R_init_general_dExp_4sse  -DCPPAD_FRAMEWORK  -I/usr/local/include    -fPIC  -Wall -g -O2  -c general_dExp_4sse.cpp -o general_dExp_4sse.o
clang++ -mmacosx-version-min=10.13 -std=gnu++14 -dynamiclib -Wl,-headerpad_max_install_names -undefined dynamic_lookup -single_module -multiply_defined suppress -L/Library/Frameworks/R.framework/Resources/lib -L/usr/local/lib -o general_dExp_4sse.so general_dExp_4sse.o -F/Library/Frameworks/R.framework/.. -framework R -Wl,-framework -Wl,CoreFoundation
[1] 0
/Library/Frameworks/R.framework/Resources/bin/Rscript --vanilla -e "TMB::compile('general_Exp_4sse.cpp',safebounds=FALSE,safeunload=FALSE)"
using C++ compiler: ‘Apple clang version 11.0.0 (clang-1100.0.33.17)’
using SDK: ‘’
clang++ -mmacosx-version-min=10.13 -std=gnu++14 -I"/Library/Frameworks/R.framework/Resources/include" -DNDEBUG -I"/Library/Frameworks/R.framework/Versions/4.3/Resources/library/TMB/include" -I"/Library/Frameworks/R.framework/Versions/4.3/Resources/library/RcppEigen/include"   -DTMB_EIGEN_DISABLE_WARNINGS   -DTMB_LIB_INIT=R_init_general_Exp_4sse  -DCPPAD_FRAMEWORK  -I/usr/local/include    -fPIC  -Wall -g -O2  -c general_Exp_4sse.cpp -o general_Exp_4sse.o
clang++ -mmacosx-version-min=10.13 -std=gnu++14 -dynamiclib -Wl,-headerpad_max_install_names -undefined dynamic_lookup -single_module -multiply_defined suppress -L/Library/Frameworks/R.framework/Resources/lib -L/usr/local/lib -o general_Exp_4sse.so general_Exp_4sse.o -F/Library/Frameworks/R.framework/.. -framework R -Wl,-framework -Wl,CoreFoundation
[1] 0
installing to /Library/Frameworks/R.framework/Versions/4.3/Resources/library/00LOCK-RNAdecay/00new/RNAdecay/libs
** R
** data
*** moving datasets to lazyload DB
** inst
** byte-compile and prepare package for lazy loading
** help
*** installing help indices
** building package indices
** installing vignettes
** testing if installed package can be loaded from temporary location
** checking absolute paths in shared objects and dynamic libraries
** testing if installed package can be loaded from final location
** testing if installed package keeps a record of temporary installation path
* DONE (RNAdecay)

Tests output


Example timings

RNAdecay.Rcheck/RNAdecay-Ex.timings

nameusersystemelapsed
a_high0.0000.0010.001
aic0.0000.0000.001
cols0.0060.0000.009
comb_cv0.0030.0010.003
const_decay0.0000.0000.001
constraint_fun_list_maker0.0040.0000.004
decay_plot2.1020.0792.699
fit_var0.0000.0010.000
group_map0.0880.0090.114
groupings0.0030.0010.003
hl_plot2.3580.0202.855
log_lik000
mod_optimization3.0860.1183.664
n_par0.0020.0000.002
plain_theme0.1540.0070.184
sse_null_decaying_decay0.0010.0000.001