Back to Multiple platform build/check report for BioC 3.17
ABCDEFG[H]IJKLMNOPQRSTUVWXYZ

This page was generated on 2022-11-29 11:09:46 -0500 (Tue, 29 Nov 2022).

HostnameOSArch (*)R versionInstalled pkgs
nebbiolo1Linux (Ubuntu 22.04.1 LTS)x86_64R Under development (unstable) (2022-10-25 r83175) -- "Unsuffered Consequences" 4462
palomino3Windows Server 2022 Datacenterx64R Under development (unstable) (2022-10-11 r83083 ucrt) -- "Unsuffered Consequences" 4201
merida1macOS 10.14.6 Mojavex86_64R Under development (unstable) (2022-11-13 r83342) -- "Unsuffered Consequences" 4231
Click on any hostname to see more info about the system (e.g. compilers)      (*) as reported by 'uname -p', except on Windows and Mac OS X

BUILD BIN results for HPAStainR on merida1


To the developers/maintainers of the HPAStainR package:
- Please allow up to 24 hours (and sometimes 48 hours) for your latest push to git@git.bioconductor.org:packages/HPAStainR.git to
reflect on this report. See How and When does the builder pull? When will my changes propagate? for more information.
- Make sure to use the following settings in order to reproduce any error or warning you see on this page.

raw results

Package 911/2154HostnameOS / ArchINSTALLBUILDCHECKBUILD BIN
HPAStainR 1.9.0  (landing page)
Tim O. Nieuwenhuis
Snapshot Date: 2022-11-28 14:00:12 -0500 (Mon, 28 Nov 2022)
git_url: https://git.bioconductor.org/packages/HPAStainR
git_branch: master
git_last_commit: fcb4d63
git_last_commit_date: 2022-11-01 11:22:33 -0500 (Tue, 01 Nov 2022)
nebbiolo1Linux (Ubuntu 22.04.1 LTS) / x86_64  OK    OK    OK  UNNEEDED, same version is already published
palomino3Windows Server 2022 Datacenter / x64  OK    OK    OK    OK  UNNEEDED, same version is already published
merida1macOS 10.14.6 Mojave / x86_64  OK    OK    OK    OK  UNNEEDED, same version is already published

Summary

Package: HPAStainR
Version: 1.9.0
Command: rm -rf HPAStainR.buildbin-libdir && mkdir HPAStainR.buildbin-libdir && /Users/biocbuild/BBS/utils/build-universal.sh HPAStainR_1.9.0.tar.gz /Library/Frameworks/R.framework/Resources/bin/R HPAStainR.buildbin-libdir
StartedAt: 2022-11-29 08:43:57 -0500 (Tue, 29 Nov 2022)
EndedAt: 2022-11-29 08:44:20 -0500 (Tue, 29 Nov 2022)
EllapsedTime: 23.0 seconds
RetCode: 0
Status:   OK  
PackageFile: HPAStainR_1.9.0.tgz
PackageFileSize: 148.8 KiB

Command output

##############################################################################
##############################################################################
###
### Running command:
###
###   rm -rf HPAStainR.buildbin-libdir && mkdir HPAStainR.buildbin-libdir && /Users/biocbuild/BBS/utils/build-universal.sh HPAStainR_1.9.0.tar.gz /Library/Frameworks/R.framework/Resources/bin/R HPAStainR.buildbin-libdir
###
##############################################################################
##############################################################################


>>>>>>> 
>>>>>>> INSTALLATION WITH 'R CMD INSTALL --preclean --no-multiarch --library=HPAStainR.buildbin-libdir HPAStainR_1.9.0.tar.gz'
>>>>>>> 

* installing *source* package ‘HPAStainR’ ...
** using staged installation
** R
** inst
** byte-compile and prepare package for lazy loading
** help
*** installing help indices
** building package indices
** installing vignettes
** testing if installed package can be loaded from temporary location
** testing if installed package can be loaded from final location
** testing if installed package keeps a record of temporary installation path
* DONE (HPAStainR)