BufferedMatrixMethods 1.6.0 B. M. Bolstad
Bioconductor Changelog | Snapshot Date: 2009-04-18 11:27:48 -0700 (Sat, 18 Apr 2009) | URL: https://hedgehog.fhcrc.org/bioconductor/branches/RELEASE_2_3/madman/Rpacks/BufferedMatrixMethods | Last Changed Rev: 34811 / Revision: 38965 | Last Changed Date: 2008-10-21 15:32:58 -0700 (Tue, 21 Oct 2008) |
| wilson2 | Linux (openSUSE 11.1) / x86_64 | OK | OK | |
liverpool | Windows Server 2003 R2 (32-bit) / x64 | OK | OK | OK |
pitt | Mac OS X Tiger (10.4.11) / i386 | OK | OK | OK |
pelham | Mac OS X Leopard (10.5.6) / i386 | OK | OK | [ OK ] |
INSTALLATION WITH 'R CMD INSTALL --library=BufferedMatrixMethods.buildbin-libdir BufferedMatrixMethods_1.6.0.tar.gz'
* Installing *source* package 'BufferedMatrixMethods' ...
** libs
** arch - i386
gcc-4.2 -arch i386 -std=gnu99 -I/Library/Frameworks/R.framework/Versions/2.8/Resources/include -I/Library/Frameworks/R.framework/Versions/2.8/Resources/include/i386 -I/usr/local/include -I"/Library/Frameworks/R.framework/Versions/2.8/Resources/library/BufferedMatrix/include" -fPIC -g -O2 -Wall -c init_package.c -o init_package.o
gcc-4.2 -arch i386 -std=gnu99 -I/Library/Frameworks/R.framework/Versions/2.8/Resources/include -I/Library/Frameworks/R.framework/Versions/2.8/Resources/include/i386 -I/usr/local/include -I"/Library/Frameworks/R.framework/Versions/2.8/Resources/library/BufferedMatrix/include" -fPIC -g -O2 -Wall -c preprocess_bm.c -o preprocess_bm.o
preprocess_bm.c: In function 'bm_rma_bg_correct':
preprocess_bm.c:343: warning: unused variable 'i'
preprocess_bm.c: In function 'R_bm_rma_bg_correct':
preprocess_bm.c:377: warning: unused variable 'current_mode'
preprocess_bm.c: In function 'R_bm_quantile_normalize':
preprocess_bm.c:592: warning: unused variable 'current_mode'
preprocess_bm.c: In function 'R_bm_rma_bg_correct_quantile_normalize':
preprocess_bm.c:1150: warning: unused variable 'current_mode'
preprocess_bm.c: At top level:
preprocess_bm.c:452: warning: 'min' defined but not used
gcc-4.2 -arch i386 -std=gnu99 -dynamiclib -Wl,-headerpad_max_install_names -undefined dynamic_lookup -single_module -multiply_defined suppress -L/usr/local/lib -o BufferedMatrixMethods.so init_package.o preprocess_bm.o -F/Library/Frameworks/R.framework/.. -framework R -Wl,-framework -Wl,CoreFoundation
** arch - ppc
gcc-4.2 -arch ppc -std=gnu99 -I/Library/Frameworks/R.framework/Versions/2.8/Resources/include -I/Library/Frameworks/R.framework/Versions/2.8/Resources/include/ppc -I/usr/local/include -I"/Library/Frameworks/R.framework/Versions/2.8/Resources/library/BufferedMatrix/include" -fPIC -g -O2 -Wall -c init_package.c -o init_package.o
gcc-4.2 -arch ppc -std=gnu99 -I/Library/Frameworks/R.framework/Versions/2.8/Resources/include -I/Library/Frameworks/R.framework/Versions/2.8/Resources/include/ppc -I/usr/local/include -I"/Library/Frameworks/R.framework/Versions/2.8/Resources/library/BufferedMatrix/include" -fPIC -g -O2 -Wall -c preprocess_bm.c -o preprocess_bm.o
preprocess_bm.c: In function 'bm_rma_bg_correct':
preprocess_bm.c:343: warning: unused variable 'i'
preprocess_bm.c: In function 'R_bm_rma_bg_correct':
preprocess_bm.c:377: warning: unused variable 'current_mode'
preprocess_bm.c: In function 'R_bm_quantile_normalize':
preprocess_bm.c:592: warning: unused variable 'current_mode'
preprocess_bm.c: In function 'R_bm_rma_bg_correct_quantile_normalize':
preprocess_bm.c:1150: warning: unused variable 'current_mode'
preprocess_bm.c: At top level:
preprocess_bm.c:452: warning: 'min' defined but not used
gcc-4.2 -arch ppc -std=gnu99 -dynamiclib -Wl,-headerpad_max_install_names -undefined dynamic_lookup -single_module -multiply_defined suppress -L/usr/local/lib -o BufferedMatrixMethods.so init_package.o preprocess_bm.o -F/Library/Frameworks/R.framework/.. -framework R -Wl,-framework -Wl,CoreFoundation
** arch - ppc64
gcc-4.2 -arch ppc64 -std=gnu99 -I/Library/Frameworks/R.framework/Versions/2.8/Resources/include -I/Library/Frameworks/R.framework/Versions/2.8/Resources/include/ppc64 -I/usr/local/include -I"/Library/Frameworks/R.framework/Versions/2.8/Resources/library/BufferedMatrix/include" -fPIC -g -O2 -Wall -c init_package.c -o init_package.o
gcc-4.2 -arch ppc64 -std=gnu99 -I/Library/Frameworks/R.framework/Versions/2.8/Resources/include -I/Library/Frameworks/R.framework/Versions/2.8/Resources/include/ppc64 -I/usr/local/include -I"/Library/Frameworks/R.framework/Versions/2.8/Resources/library/BufferedMatrix/include" -fPIC -g -O2 -Wall -c preprocess_bm.c -o preprocess_bm.o
preprocess_bm.c: In function 'bm_rma_bg_correct':
preprocess_bm.c:343: warning: unused variable 'i'
preprocess_bm.c: In function 'R_bm_rma_bg_correct':
preprocess_bm.c:377: warning: unused variable 'current_mode'
preprocess_bm.c: In function 'R_bm_quantile_normalize':
preprocess_bm.c:592: warning: unused variable 'current_mode'
preprocess_bm.c: In function 'R_bm_rma_bg_correct_quantile_normalize':
preprocess_bm.c:1150: warning: unused variable 'current_mode'
preprocess_bm.c: At top level:
preprocess_bm.c:452: warning: 'min' defined but not used
gcc-4.2 -arch ppc64 -std=gnu99 -dynamiclib -Wl,-headerpad_max_install_names -undefined dynamic_lookup -single_module -multiply_defined suppress -L/usr/local/lib -o BufferedMatrixMethods.so init_package.o preprocess_bm.o -L/Library/Frameworks/R.framework/Versions/2.8/Resources/lib/ppc64 -lR -dylib_file libRblas.dylib:/Library/Frameworks/R.framework/Versions/2.8/Resources/lib/ppc64/libRblas.dylib -Wl,-framework -Wl,CoreFoundation
** arch - x86_64
gcc-4.2 -arch x86_64 -std=gnu99 -I/Library/Frameworks/R.framework/Versions/2.8/Resources/include -I/Library/Frameworks/R.framework/Versions/2.8/Resources/include/x86_64 -I/usr/local/include -I"/Library/Frameworks/R.framework/Versions/2.8/Resources/library/BufferedMatrix/include" -fPIC -g -O2 -Wall -c init_package.c -o init_package.o
gcc-4.2 -arch x86_64 -std=gnu99 -I/Library/Frameworks/R.framework/Versions/2.8/Resources/include -I/Library/Frameworks/R.framework/Versions/2.8/Resources/include/x86_64 -I/usr/local/include -I"/Library/Frameworks/R.framework/Versions/2.8/Resources/library/BufferedMatrix/include" -fPIC -g -O2 -Wall -c preprocess_bm.c -o preprocess_bm.o
preprocess_bm.c: In function 'bm_rma_bg_correct':
preprocess_bm.c:343: warning: unused variable 'i'
preprocess_bm.c: In function 'R_bm_rma_bg_correct':
preprocess_bm.c:377: warning: unused variable 'current_mode'
preprocess_bm.c: In function 'R_bm_quantile_normalize':
preprocess_bm.c:592: warning: unused variable 'current_mode'
preprocess_bm.c: In function 'R_bm_rma_bg_correct_quantile_normalize':
preprocess_bm.c:1150: warning: unused variable 'current_mode'
preprocess_bm.c: At top level:
preprocess_bm.c:452: warning: 'min' defined but not used
gcc-4.2 -arch x86_64 -std=gnu99 -dynamiclib -Wl,-headerpad_max_install_names -undefined dynamic_lookup -single_module -multiply_defined suppress -L/usr/local/lib -o BufferedMatrixMethods.so init_package.o preprocess_bm.o -F/Library/Frameworks/R.framework/.. -framework R -Wl,-framework -Wl,CoreFoundation
** R
** preparing package for lazy loading
Loading required package: BufferedMatrix
** help
>>> Building/Updating help pages for package 'BufferedMatrixMethods'
Formats: text html latex example
BM_affyDataInput text html latex
BM_justRMA text html latex
BM_readcelfiles text html latex
rmapreprocess.bufferedmatrix text html latex
** building package indices ...
* DONE (BufferedMatrixMethods)