Back to the "Multiple platform build/check report"
Package 101/214 | Hostname | OS | Arch | BUILD | CHECK | BUILD BIN |
iSNetwork1.6.0Elizabeth WhalenLast Changed Date: 2007-04-24 11:21:48 -0700 Last Changed Rev: 24214 | lamb1 | Linux (SUSE 10.1) | x86_64 | OK | WARNINGS | |
wellington | Linux (SUSE 9.2) | i686 | OK | OK | ||
churchill | Solaris 2.9 | sparc | OK | OK | ||
lemming | Windows Server 2003 (32-bit) | x64 | N O T S U P P O R T E D | |||
liverpool | Windows Server 2003 R2 (32-bit) | x64 | N O T S U P P O R T E D | |||
derby | Mac OS X (10.4.9) | i686 | [ ERROR ] | skipped |
Package: iSNetwork |
Version: 1.6.0 |
Command: /Library/Frameworks/R.framework/Resources/bin/R CMD build iSNetwork |
RetCode: 1 |
Time: 5.2 seconds |
Status: ERROR |
PackageFile: None |
* checking for file 'iSNetwork/DESCRIPTION' ... OK * preparing 'iSNetwork': * checking DESCRIPTION meta-information ... OK * installing the package to re-build vignettes * Installing *source* package 'iSNetwork' ... ** R ** inst ** save image Loading required package: graph Loading required package: Rgraphviz Error: package 'Rgraphviz' could not be loaded In addition: Warning message: there is no package called 'Rgraphviz' in: library(pkg, character.only = TRUE, logical = TRUE, lib.loc = lib.loc) Execution halted ERROR: execution of package source for 'iSNetwork' failed ** Removing '/private/tmp/Rinst1323593459/iSNetwork' ERROR Installation failed. Removing '/tmp/Rinst1323593459'