Welcome to mirrors.dotsrc.org

All our mirrors of open source software are available via http, https, ftp and an onion service. More information about our mirrors including statistics and contact information is available on our mirror info pages.

For information about dotsrc.org and our other services please go to our website.

Index of /bioconductor/checkResults/release/data-experiment-LATEST/

File Name  ↓ File Size  ↓ Date  ↓ 
Parent directory/--
zebrafishRNASeq/-2025-01-30 20:42:30
yeastRNASeq/-2025-01-30 20:42:30
yeastNagalakshmi/-2025-01-30 20:42:30
yeastGSData/-2025-01-30 20:42:30
yeastExpData/-2025-01-30 20:42:30
yeastCC/-2025-01-30 20:42:30
xcoredata/-2025-01-30 20:42:30
vulcandata/-2025-01-30 20:42:30
tximportData/-2025-01-30 20:42:30
tweeDEseqCountData/-2025-01-30 20:42:30
tuberculosis/-2025-01-30 20:42:30
topdownrdata/-2025-01-30 20:42:30
tofsimsData/-2025-01-30 20:42:30
tissueTreg/-2025-01-30 20:42:30
tinesath1probe/-2025-01-30 20:42:30
tinesath1cdf/-2025-01-30 20:42:30
timecoursedata/-2025-01-30 20:42:30
tartare/-2025-01-30 20:42:30
systemPipeRdata/-2025-01-30 20:42:30
synapterdata/-2025-01-30 20:42:30
stemHypoxia/-2025-01-30 20:42:30
spqnData/-2025-01-30 20:42:30
spatialLIBD/-2025-01-30 20:42:30
spatialDmelxsim/-2025-01-30 20:42:30
smokingMouse/-2025-01-30 20:42:30
simpIntLists/-2025-01-30 20:42:30
signatureSearchData/-2025-01-30 20:42:30
shinyMethylData/-2025-01-30 20:42:30
seventyGeneData/-2025-01-30 20:42:30
sesameData/-2025-01-30 20:42:30
serumStimulation/-2025-01-30 20:42:30
seqc/-2025-01-30 20:42:30
seq2pathway.data/-2025-01-30 20:42:30
scpdata/-2025-01-30 20:42:30
scanMiRData/-2025-01-30 20:42:30
scaeData/-2025-01-30 20:42:30
scTHI.data/-2025-01-30 20:42:30
scRNAseq/-2025-01-30 20:42:30
scMultiome/-2025-01-30 20:42:30
scATAC.Explorer/-2025-01-30 20:42:30
sampleClassifierData/-2025-01-30 20:42:30
rheumaticConditionWOLLBOLD/-2025-01-30 20:42:30
rcellminerData/-2025-01-30 20:42:30
raerdata/-2025-01-30 20:42:30
rRDPData/-2025-01-30 20:42:30
qPLEXdata/-2025-01-30 20:42:30
pumadata/-2025-01-30 20:42:30
ptairData/-2025-01-30 20:42:30
prostateCancerVarambally/-2025-01-30 20:42:30
prostateCancerTaylor/-2025-01-30 20:42:30
prostateCancerStockholm/-2025-01-30 20:42:30
prostateCancerGrasso/-2025-01-30 20:42:30
prostateCancerCamcap/-2025-01-30 20:42:30
preciseTADhub/-2025-01-30 20:42:30
prebsdata/-2025-01-30 20:42:30
plotgardenerData/-2025-01-30 20:42:30
pepDat/-2025-01-30 20:42:30
pd.atdschip.tiling/-2025-01-30 20:42:30
pasillaBamSubset/-2025-01-30 20:42:30
pasilla/-2025-01-30 20:42:30
parathyroidSE/-2025-01-30 20:42:30
pRolocdata/-2025-01-30 20:42:30
orthosData/-2025-01-30 20:42:30
optimalFlowData/-2025-01-30 20:42:30
octad.db/-2025-01-30 20:42:30
oct4/-2025-01-30 20:42:30
nullrangesData/-2025-01-30 20:42:30
nanotubes/-2025-01-30 20:42:30
mvoutData/-2025-01-30 20:42:30
muscData/-2025-01-30 20:42:30
multiWGCNAdata/-2025-01-30 20:42:30
muleaData/-2025-01-30 20:42:30
mtbls2/-2025-01-30 20:42:30
msqc1/-2025-01-30 20:42:30
msigdb/-2025-01-30 20:42:30
msdata/-2025-01-30 20:42:30
msd16s/-2025-01-30 20:42:30
msPurityData/-2025-01-30 20:42:30
mouse4302barcodevecs/-2025-01-30 20:42:30
mosaicsExample/-2025-01-30 20:42:30
minionSummaryData/-2025-01-30 20:42:30
minfiDataEPIC/-2025-01-30 20:42:30
minfiData/-2025-01-30 20:42:30
microbiomeDataSets/-2025-01-30 20:42:30
microRNAome/-2025-01-30 20:42:30
miRcompData/-2025-01-30 20:42:30
miRNATarget/-2025-01-30 20:42:30
methylclockData/-2025-01-30 20:42:30
metaMSdata/-2025-01-30 20:42:30
mcsurvdata/-2025-01-30 20:42:30
marinerData/-2025-01-30 20:42:29
maqcExpression4plex/-2025-01-30 20:42:29
mammaPrintData/-2025-01-30 20:42:29
macrophage/-2025-01-30 20:42:29
mCSEAdata/-2025-01-30 20:42:30
lydata/-2025-01-30 20:42:29
lungExpression/-2025-01-30 20:42:29
lumiBarnes/-2025-01-30 20:42:29
leukemiasEset/-2025-01-30 20:42:29
leeBamViews/-2025-01-30 20:42:29
kidpack/-2025-01-30 20:42:29
imcdatasets/-2025-01-30 20:42:29
humanStemCell/-2025-01-30 20:42:29
homosapienDEE2CellScore/-2025-01-30 20:42:29
hgu2beta7/-2025-01-30 20:42:29
hgu133plus2barcodevecs/-2025-01-30 20:42:29
hgu133plus2CellScore/-2025-01-30 20:42:29
hgu133abarcodevecs/-2025-01-30 20:42:29
healthyFlowData/-2025-01-30 20:42:29
healthyControlsPresenceChecker/-2025-01-30 20:42:29
harbChIP/-2025-01-30 20:42:29
hapmapsnp6/-2025-01-30 20:42:29
hapmapsnp5/-2025-01-30 20:42:29
hapmap500ksty/-2025-01-30 20:42:29
hapmap500knsp/-2025-01-30 20:42:29
hapmap100kxba/-2025-01-30 20:42:29
hapmap100khind/-2025-01-30 20:42:29
h5vcData/-2025-01-30 20:42:29
grndata/-2025-01-30 20:42:29
gpaExample/-2025-01-30 20:42:29
golubEsets/-2025-01-30 20:42:29
genomationData/-2025-01-30 20:42:29
geneLenDataBase/-2025-01-30 20:42:29
gcspikelite/-2025-01-30 20:42:29
gaschYHS/-2025-01-30 20:42:29
gageData/-2025-01-30 20:42:29
gDRtestData/-2025-01-30 20:42:29
gDNAinRNAseqData/-2025-01-30 20:42:29
furrowSeg/-2025-01-30 20:42:29
frmaExampleData/-2025-01-30 20:42:29
fourDNData/-2025-01-30 20:42:29
flowWorkspaceData/-2025-01-30 20:42:29
flowPloidyData/-2025-01-30 20:42:29
fission/-2025-01-30 20:42:29
fibroEset/-2025-01-30 20:42:29
ffpeExampleData/-2025-01-30 20:42:29
fabiaData/-2025-01-30 20:42:29
faahKO/-2025-01-30 20:42:29
ewceData/-2025-01-30 20:42:29
etec16s/-2025-01-30 20:42:29
estrogen/-2025-01-30 20:42:29
epimutacionsData/-2025-01-30 20:42:29
eoPredData/-2025-01-30 20:42:29
emtdata/-2025-01-30 20:42:29
ecoliLeucine/-2025-01-30 20:42:29
easierData/-2025-01-30 20:42:29
dyebiasexamples/-2025-01-30 20:42:29
dressCheck/-2025-01-30 20:42:29
dorothea/-2025-01-30 20:42:29
diggitdata/-2025-01-30 20:42:29
diffloopdata/-2025-01-30 20:42:29
derfinderData/-2025-01-30 20:42:29
depmap/-2025-01-30 20:42:29
davidTiling/-2025-01-30 20:42:29
curatedTCGAData/-2025-01-30 20:42:29
curatedTBData/-2025-01-30 20:42:29
curatedPCaData/-2025-01-30 20:42:29
curatedOvarianData/-2025-01-30 20:42:29
curatedMetagenomicData/-2025-01-30 20:42:29
curatedCRCData/-2025-01-30 20:42:29
curatedBreastData/-2025-01-30 20:42:29
curatedBladderData/-2025-01-30 20:42:29
curatedAdipoRNA/-2025-01-30 20:42:29
curatedAdipoChIP/-2025-01-30 20:42:29
curatedAdipoArray/-2025-01-30 20:42:29
crisprScoreData/-2025-01-30 20:42:29
colonCA/-2025-01-30 20:42:29
cnvGSAdata/-2025-01-30 20:42:29
clustifyrdatahub/-2025-01-30 20:42:29
chromstaRData/-2025-01-30 20:42:29
chipseqDBData/-2025-01-30 20:42:29
chipenrich.data/-2025-01-30 20:42:29
cfToolsData/-2025-01-30 20:42:29
celldex/-2025-01-30 20:42:29
celarefData/-2025-01-30 20:42:29
ccdata/-2025-01-30 20:42:29
cancerdata/-2025-01-30 20:42:29
cMap2data/-2025-01-30 20:42:29
bugphyzz/-2025-01-30 20:42:29
bsseqData/-2025-01-30 20:42:29
bronchialIL13/-2025-01-30 20:42:29
brgedata/-2025-01-30 20:42:29
breastCancerVDX/-2025-01-30 20:42:29
breastCancerUPP/-2025-01-30 20:42:29
breastCancerUNT/-2025-01-30 20:42:29
breastCancerTRANSBIG/-2025-01-30 20:42:29
breastCancerNKI/-2025-01-30 20:42:29
breastCancerMAINZ/-2025-01-30 20:42:29
breakpointRdata/-2025-01-30 20:42:29
bodymapRat/-2025-01-30 20:42:29
blimaTestingData/-2025-01-30 20:42:29
bladderbatch/-2025-01-30 20:42:29
biscuiteerData/-2025-01-30 20:42:29
biotmleData/-2025-01-30 20:42:29
beta7/-2025-01-30 20:42:29
benchmarkfdrData2019/-2025-01-30 20:42:29
beadarrayExampleData/-2025-01-30 20:42:29
bcellViper/-2025-01-30 20:42:29
aracne.networks/-2025-01-30 20:42:29
antiProfilesData/-2025-01-30 20:42:29
airway/-2025-01-30 20:42:29
affydata/-2025-01-30 20:42:29
affycompData/-2025-01-30 20:42:29
adductData/-2025-01-30 20:42:29
XhybCasneuf/-2025-01-30 20:42:30
WeberDivechaLCdata/-2025-01-30 20:42:30
WGSmapp/-2025-01-30 20:42:30
WES.1KG.WUGSC/-2025-01-30 20:42:30
VectraPolarisData/-2025-01-30 20:42:30
VariantToolsData/-2025-01-30 20:42:30
TumourMethData/-2025-01-30 20:42:30
TransOmicsData/-2025-01-30 20:42:30
TimerQuant/-2025-01-30 20:42:30
TargetSearchData/-2025-01-30 20:42:30
TargetScoreData/-2025-01-30 20:42:30
TabulaMurisSenisData/-2025-01-30 20:42:30
TabulaMurisData/-2025-01-30 20:42:30
TMExplorer/-2025-01-30 20:42:30
TENxXeniumData/-2025-01-30 20:42:30
TENxVisiumData/-2025-01-30 20:42:30
TENxPBMCData/-2025-01-30 20:42:30
TENxBrainData/-2025-01-30 20:42:30
TENxBUSData/-2025-01-30 20:42:30
TCGAcrcmiRNA/-2025-01-30 20:42:30
TCGAcrcmRNA/-2025-01-30 20:42:30
TCGAbiolinksGUI.data/-2025-01-30 20:42:30
TCGAWorkflowData/-2025-01-30 20:42:30
TCGAMethylation450k/-2025-01-30 20:42:30
TBX20BamSubset/-2025-01-30 20:42:30
SubcellularSpatialData/-2025-01-30 20:42:30
SpikeInSubset/-2025-01-30 20:42:30
SpikeIn/-2025-01-30 20:42:30
SpatialDatasets/-2025-01-30 20:42:30
SomaticCancerAlterations/-2025-01-30 20:42:30
SomatiCAData/-2025-01-30 20:42:30
SingleMoleculeFootprintingData/-2025-01-30 20:42:30
SingleCellMultiModal/-2025-01-30 20:42:30
Single.mTEC.Transcriptomes/-2025-01-30 20:42:30
SimBenchData/-2025-01-30 20:42:30
SVM2CRMdata/-2025-01-30 20:42:30
STexampleData/-2025-01-30 20:42:30
SNPhoodData/-2025-01-30 20:42:30
SNAGEEdata/-2025-01-30 20:42:30
SNAData/-2025-01-30 20:42:30
SFEData/-2025-01-30 20:42:30
SCLCBam/-2025-01-30 20:42:30
SBGNview.data/-2025-01-30 20:42:30
RnaSeqSampleSizeData/-2025-01-30 20:42:30
RnBeads.rn5/-2025-01-30 20:42:30
RnBeads.mm9/-2025-01-30 20:42:30
RnBeads.mm10/-2025-01-30 20:42:30
RnBeads.hg38/-2025-01-30 20:42:30
RnBeads.hg19/-2025-01-30 20:42:30
RforProteomics/-2025-01-30 20:42:30
RegParallel/-2025-01-30 20:42:30
ReactomeGSA.data/-2025-01-30 20:42:30
RcisTarget.hg19.motifDBs.cisbpOnly.500bp/-2025-01-30 20:42:30
RUVnormalizeData/-2025-01-30 20:42:30
RTCGA.rnaseq/-2025-01-30 20:42:30
RTCGA.mutations/-2025-01-30 20:42:30
RTCGA.miRNASeq/-2025-01-30 20:42:30
RTCGA.methylation/-2025-01-30 20:42:30
RTCGA.mRNA/-2025-01-30 20:42:30
RTCGA.clinical/-2025-01-30 20:42:30
RTCGA.RPPA/-2025-01-30 20:42:30
RTCGA.PANCAN12/-2025-01-30 20:42:30
RTCGA.CNV/-2025-01-30 20:42:30
RRBSdata/-2025-01-30 20:42:30
RNAseqData.HNRNPC.bam.chr14/-2025-01-30 20:42:30
RNAmodR.Data/-2025-01-30 20:42:30
RNAinteractMAPK/-2025-01-30 20:42:30
RMassBankData/-2025-01-30 20:42:30
RITANdata/-2025-01-30 20:42:30
RGMQLlib/-2025-01-30 20:42:30
QUBICdata/-2025-01-30 20:42:30
QDNAseq.mm10/-2025-01-30 20:42:30
QDNAseq.hg19/-2025-01-30 20:42:30
PtH2O2lipids/-2025-01-30 20:42:30
ProteinGymR/-2025-01-30 20:42:30
ProData/-2025-01-30 20:42:30
PhyloProfileData/-2025-01-30 20:42:30
PepsNMRData/-2025-01-30 20:42:30
PathNetData/-2025-01-30 20:42:30
PasillaTranscriptExpr/-2025-01-30 20:42:30
PWMEnrich.Mmusculus.background/-2025-01-30 20:42:30
PWMEnrich.Hsapiens.background/-2025-01-30 20:42:30
PWMEnrich.Dmelanogaster.background/-2025-01-30 20:42:30
PREDAsampledata/-2025-01-30 20:42:30
PCHiCdata/-2025-01-30 20:42:30
OnassisJavaLibs/-2025-01-30 20:42:30
ObMiTi/-2025-01-30 20:42:30
OMICsPCAdata/-2025-01-30 20:42:30
NxtIRFdata/-2025-01-30 20:42:30
Neve2006/-2025-01-30 20:42:30
NetActivityData/-2025-01-30 20:42:30
NestLink/-2025-01-30 20:42:30
NanoporeRNASeq/-2025-01-30 20:42:30
NGScopyData/-2025-01-30 20:42:30
NCIgraphData/-2025-01-30 20:42:30
MouseThymusAgeing/-2025-01-30 20:42:30
MouseGastrulationData/-2025-01-30 20:42:30
MouseAgingData/-2025-01-30 20:42:30
MicrobiomeBenchmarkData/-2025-01-30 20:42:30
MethylSeqData/-2025-01-30 20:42:30
MethylAidData/-2025-01-30 20:42:30
MetaScope/-2025-01-30 20:42:30
MetaGxPancreas/-2025-01-30 20:42:30
MetaGxOvarian/-2025-01-30 20:42:30
MetaGxBreast/-2025-01-30 20:42:30
MerfishData/-2025-01-30 20:42:30
MUGAExampleData/-2025-01-30 20:42:30
MSMB/-2025-01-30 20:42:30
MOFAdata/-2025-01-30 20:42:30
MMDiffBamSubset/-2025-01-30 20:42:30
MEEBOdata/-2025-01-30 20:42:30
MEDIPSData/-2025-01-30 20:42:30
MAQCsubset/-2025-01-30 20:42:29
MACSdata/-2025-01-30 20:42:29
M3DExampleData/-2025-01-30 20:42:29
LungCancerLines/-2025-01-30 20:42:29
LungCancerACvsSCCGEO/-2025-01-30 20:42:29
ListerEtAlBSseq/-2025-01-30 20:42:29
LiebermanAidenHiC2009/-2025-01-30 20:42:29
LegATo/-2025-01-30 20:42:29
LRcellTypeMarkers/-2025-01-30 20:42:29
KOdata/-2025-01-30 20:42:29
KEGGdzPathwaysGEO/-2025-01-30 20:42:29
KEGGandMetacoreDzPathwaysGEO/-2025-01-30 20:42:29
JohnsonKinaseData/-2025-01-30 20:42:29
JASPAR2016/-2025-01-30 20:42:29
JASPAR2014/-2025-01-30 20:42:29
Iyer517/-2025-01-30 20:42:29
IlluminaDataTestFiles/-2025-01-30 20:42:29
Illumina450ProbeVariants.db/-2025-01-30 20:42:29
ITALICSData/-2025-01-30 20:42:29
IHWpaper/-2025-01-30 20:42:29
HumanAffyData/-2025-01-30 20:42:29
Hiiragi2013/-2025-01-30 20:42:29
HighlyReplicatedRNASeq/-2025-01-30 20:42:29
HiContactsData/-2025-01-30 20:42:29
HiCDataLymphoblast/-2025-01-30 20:42:29
HiCDataHumanIMR90/-2025-01-30 20:42:29
HiBED/-2025-01-30 20:42:29
HelloRangesData/-2025-01-30 20:42:29
HarmonizedTCGAData/-2025-01-30 20:42:29
HarmanData/-2025-01-30 20:42:29
HSMMSingleCell/-2025-01-30 20:42:29
HMP2Data/-2025-01-30 20:42:29
HMP16SData/-2025-01-30 20:42:29
HIVcDNAvantWout03/-2025-01-30 20:42:29
HEEBOdata/-2025-01-30 20:42:29
HDCytoData/-2025-01-30 20:42:29
HD2013SGI/-2025-01-30 20:42:29
HCATonsilData/-2025-01-30 20:42:29
HCAData/-2025-01-30 20:42:29
GeuvadisTranscriptExpr/-2025-01-30 20:42:29
GenomicDistributionsData/-2025-01-30 20:42:29
GWASdata/-2025-01-30 20:42:29
GSVAdata/-2025-01-30 20:42:29
GSE62944/-2025-01-30 20:42:29
GSE159526/-2025-01-30 20:42:29
GSE13015/-2025-01-30 20:42:29
GSE103322/-2025-01-30 20:42:29
GSBenchMark/-2025-01-30 20:42:29
GIGSEAdata/-2025-01-30 20:42:29
FlowSorted.DLPFC.450k/-2025-01-30 20:42:29
FlowSorted.CordBloodNorway.450k/-2025-01-30 20:42:29
FlowSorted.CordBloodCombined.450k/-2025-01-30 20:42:29
FlowSorted.CordBlood.450k/-2025-01-30 20:42:29
FlowSorted.Blood.EPIC/-2025-01-30 20:42:29
FlowSorted.Blood.450k/-2025-01-30 20:42:29
Fletcher2013b/-2025-01-30 20:42:29
Fletcher2013a/-2025-01-30 20:42:29
FieldEffectCrc/-2025-01-30 20:42:29
FIs/-2025-01-30 20:42:29
FANTOM3and4CAGE/-2025-01-30 20:42:29
EpipwR.data/-2025-01-30 20:42:29
EpiMix.data/-2025-01-30 20:42:29
EatonEtAlChIPseq/-2025-01-30 20:42:29
ELMER.data/-2025-01-30 20:42:29
EGSEAdata/-2025-01-30 20:42:29
DvDdata/-2025-01-30 20:42:29
DuoClustering2018/-2025-01-30 20:42:29
DrugVsDiseasedata/-2025-01-30 20:42:29
DropletTestFiles/-2025-01-30 20:42:29
DonaPLLP2013/-2025-01-30 20:42:29
DmelSGI/-2025-01-30 20:42:29
DeSousa2013/-2025-01-30 20:42:29
DNAZooData/-2025-01-30 20:42:29
DMRcatedata/-2025-01-30 20:42:29
DLBCL/-2025-01-30 20:42:29
DExMAdata/-2025-01-30 20:42:29
DAPARdata/-2025-01-30 20:42:29
CytoMethIC/-2025-01-30 20:42:29
CopyhelpeR/-2025-01-30 20:42:29
CopyNeutralIMA/-2025-01-30 20:42:29
ConnectivityMap/-2025-01-30 20:42:29
CoSIAdata/-2025-01-30 20:42:29
CluMSIDdata/-2025-01-30 20:42:29
ChimpHumanBrainData/-2025-01-30 20:42:29
ChIPexoQualExample/-2025-01-30 20:42:29
ChIPXpressData/-2025-01-30 20:42:29
ChAMPdata/-2025-01-30 20:42:29
CellMapperData/-2025-01-30 20:42:29
CardinalWorkflows/-2025-01-30 20:42:29
CRCL18/-2025-01-30 20:42:29
COSMIC.67/-2025-01-30 20:42:29
COPDSexualDimorphism.data/-2025-01-30 20:42:29
CONFESSdata/-2025-01-30 20:42:29
COHCAPanno/-2025-01-30 20:42:29
CLLmethylation/-2025-01-30 20:42:29
CLL/-2025-01-30 20:42:29
CCl4/-2025-01-30 20:42:29
BloodCancerMultiOmics2017/-2025-01-30 20:42:29
BioPlex/-2025-01-30 20:42:29
BioImageDbs/-2025-01-30 20:42:29
BeadSorted.Saliva.EPIC/-2025-01-30 20:42:29
BeadArrayUseCases/-2025-01-30 20:42:29
AssessORFData/-2025-01-30 20:42:29
AshkenazimSonChr21/-2025-01-30 20:42:29
AneuFinderData/-2025-01-30 20:42:29
AmpAffyExample/-2025-01-30 20:42:29
Affymoe4302Expr/-2025-01-30 20:42:29
AffymetrixDataTestFiles/-2025-01-30 20:42:29
Affyhgu133aExpr/-2025-01-30 20:42:29
Affyhgu133Plus2Expr/-2025-01-30 20:42:29
Affyhgu133A2Expr/-2025-01-30 20:42:29
ASICSdata/-2025-01-30 20:42:29
ARRmData/-2025-01-30 20:42:29
ALLMLL/-2025-01-30 20:42:29
ALL/-2025-01-30 20:42:29
skipped-index.dcf0 B2025-01-30 20:42:28
report.tgz1.1 MiB2025-01-30 20:42:32
report.js6.0 KiB2025-01-30 20:42:28
report.css11.0 KiB2025-01-30 20:42:28
nebbiolo2-R-instpkgs.html520.0 KiB2025-01-30 20:42:28
nebbiolo2-NodeInfo.html6.8 KiB2025-01-30 20:42:28
meat-index.dcf46.3 KiB2025-01-30 20:42:28
index.html597.4 KiB2025-01-30 20:42:30
Renviron.bioc3.2 KiB2025-01-30 20:42:28
PROPAGATION_STATUS_DB.txt31.4 KiB2025-01-30 20:42:28
DEVEL3b.png2.6 KiB2025-01-30 20:42:28
BUILD_STATUS_DB.txt47.1 KiB2025-01-30 20:42:28
120px-Red_Light_Icon.svg.png7.0 KiB2025-01-30 20:42:28
120px-Green_Light_Icon.svg.png7.1 KiB2025-01-30 20:42:28
120px-Blue_Light_Icon.svg.png7.1 KiB2025-01-30 20:42:28