Back to Multiple platform build/check report for BioC 3.20:   simplified   long
ABCDEF[G]HIJKLMNOPQRSTUVWXYZ

This page was generated on 2025-02-03 12:11 -0500 (Mon, 03 Feb 2025).

HostnameOSArch (*)R versionInstalled pkgs
nebbiolo2Linux (Ubuntu 24.04.1 LTS)x86_644.4.2 (2024-10-31) -- "Pile of Leaves" 4746
palomino8Windows Server 2022 Datacenterx644.4.2 (2024-10-31 ucrt) -- "Pile of Leaves" 4494
merida1macOS 12.7.5 Montereyx86_644.4.2 (2024-10-31) -- "Pile of Leaves" 4517
kjohnson1macOS 13.6.6 Venturaarm644.4.2 (2024-10-31) -- "Pile of Leaves" 4469
taishanLinux (openEuler 24.03 LTS)aarch644.4.2 (2024-10-31) -- "Pile of Leaves" 4400
Click on any hostname to see more info about the system (e.g. compilers)      (*) as reported by 'uname -p', except on Windows and Mac OS X

Package 781/2289HostnameOS / ArchINSTALLBUILDCHECKBUILD BIN
gDRutils 1.4.0  (landing page)
Arkadiusz Gladki
Snapshot Date: 2025-01-30 13:00 -0500 (Thu, 30 Jan 2025)
git_url: https://git.bioconductor.org/packages/gDRutils
git_branch: RELEASE_3_20
git_last_commit: 1433886
git_last_commit_date: 2024-10-29 11:21:35 -0500 (Tue, 29 Oct 2024)
nebbiolo2Linux (Ubuntu 24.04.1 LTS) / x86_64  OK    OK    OK  UNNEEDED, same version is already published
palomino8Windows Server 2022 Datacenter / x64  OK    OK    OK    OK  UNNEEDED, same version is already published
merida1macOS 12.7.5 Monterey / x86_64  OK    OK    OK    OK  UNNEEDED, same version is already published
kjohnson1macOS 13.6.6 Ventura / arm64  OK    OK    OK    OK  UNNEEDED, same version is already published
taishanLinux (openEuler 24.03 LTS) / aarch64  OK    OK    OK  


CHECK results for gDRutils on taishan

To the developers/maintainers of the gDRutils package:
- Allow up to 24 hours (and sometimes 48 hours) for your latest push to git@git.bioconductor.org:packages/gDRutils.git to reflect on this report. See Troubleshooting Build Report for more information.
- Use the following Renviron settings to reproduce errors and warnings.
- If 'R CMD check' started to fail recently on the Linux builder(s) over a missing dependency, add the missing dependency to 'Suggests:' in your DESCRIPTION file. See Renviron.bioc for more information.
- See Martin Grigorov's blog post for how to debug Linux ARM64 related issues on a x86_64 host.

raw results


Summary

Package: gDRutils
Version: 1.4.0
Command: /home/biocbuild/R/R/bin/R CMD check --install=check:gDRutils.install-out.txt --library=/home/biocbuild/R/R/site-library --no-vignettes --timings gDRutils_1.4.0.tar.gz
StartedAt: 2025-01-31 06:27:02 -0000 (Fri, 31 Jan 2025)
EndedAt: 2025-01-31 06:31:10 -0000 (Fri, 31 Jan 2025)
EllapsedTime: 248.2 seconds
RetCode: 0
Status:   OK  
CheckDir: gDRutils.Rcheck
Warnings: 0

Command output

##############################################################################
##############################################################################
###
### Running command:
###
###   /home/biocbuild/R/R/bin/R CMD check --install=check:gDRutils.install-out.txt --library=/home/biocbuild/R/R/site-library --no-vignettes --timings gDRutils_1.4.0.tar.gz
###
##############################################################################
##############################################################################


* using log directory ‘/home/biocbuild/bbs-3.20-bioc/meat/gDRutils.Rcheck’
* using R version 4.4.2 (2024-10-31)
* using platform: aarch64-unknown-linux-gnu
* R was compiled by
    aarch64-unknown-linux-gnu-gcc (GCC) 14.2.0
    GNU Fortran (GCC) 12.3.1 (openEuler 12.3.1-36.oe2403)
* running under: openEuler 24.03 (LTS)
* using session charset: UTF-8
* using option ‘--no-vignettes’
* checking for file ‘gDRutils/DESCRIPTION’ ... OK
* checking extension type ... Package
* this is package ‘gDRutils’ version ‘1.4.0’
* package encoding: UTF-8
* checking package namespace information ... OK
* checking package dependencies ... OK
* checking if this is a source package ... OK
* checking if there is a namespace ... OK
* checking for hidden files and directories ... OK
* checking for portable file names ... OK
* checking for sufficient/correct file permissions ... OK
* checking whether package ‘gDRutils’ can be installed ... OK
* checking installed package size ... OK
* checking package directory ... OK
* checking ‘build’ directory ... OK
* checking DESCRIPTION meta-information ... OK
* checking top-level files ... OK
* checking for left-over files ... OK
* checking index information ... OK
* checking package subdirectories ... OK
* checking code files for non-ASCII characters ... OK
* checking R files for syntax errors ... OK
* checking whether the package can be loaded ... OK
* checking whether the package can be loaded with stated dependencies ... OK
* checking whether the package can be unloaded cleanly ... OK
* checking whether the namespace can be loaded with stated dependencies ... OK
* checking whether the namespace can be unloaded cleanly ... OK
* checking loading without being on the library search path ... OK
* checking dependencies in R code ... OK
* checking S3 generic/method consistency ... OK
* checking replacement functions ... OK
* checking foreign function calls ... OK
* checking R code for possible problems ... OK
* checking Rd files ... OK
* checking Rd metadata ... OK
* checking Rd cross-references ... OK
* checking for missing documentation entries ... OK
* checking for code/documentation mismatches ... OK
* checking Rd \usage sections ... OK
* checking Rd contents ... OK
* checking for unstated dependencies in examples ... OK
* checking files in ‘vignettes’ ... OK
* checking examples ... OK
* checking for unstated dependencies in ‘tests’ ... OK
* checking tests ...
  Running ‘testthat.R’
 OK
* checking for unstated dependencies in vignettes ... OK
* checking package vignettes ... OK
* checking running R code from vignettes ... SKIPPED
* checking re-building of vignette outputs ... SKIPPED
* checking PDF version of manual ... OK
* DONE

Status: OK


Installation output

gDRutils.Rcheck/00install.out

##############################################################################
##############################################################################
###
### Running command:
###
###   /home/biocbuild/R/R/bin/R CMD INSTALL gDRutils
###
##############################################################################
##############################################################################


* installing to library ‘/home/biocbuild/R/R-4.4.2/site-library’
* installing *source* package ‘gDRutils’ ...
** using staged installation
** R
** inst
** byte-compile and prepare package for lazy loading
** help
*** installing help indices
** building package indices
** installing vignettes
** testing if installed package can be loaded from temporary location
** testing if installed package can be loaded from final location
** testing if installed package keeps a record of temporary installation path
* DONE (gDRutils)

Tests output

gDRutils.Rcheck/tests/testthat.Rout


R version 4.4.2 (2024-10-31) -- "Pile of Leaves"
Copyright (C) 2024 The R Foundation for Statistical Computing
Platform: aarch64-unknown-linux-gnu

R is free software and comes with ABSOLUTELY NO WARRANTY.
You are welcome to redistribute it under certain conditions.
Type 'license()' or 'licence()' for distribution details.

R is a collaborative project with many contributors.
Type 'contributors()' for more information and
'citation()' on how to cite R or R packages in publications.

Type 'demo()' for some demos, 'help()' for on-line help, or
'help.start()' for an HTML browser interface to help.
Type 'q()' to quit R.

> library("gDRutils")
> library("testthat")
> 
> test_check("gDRutils")
[ FAIL 0 | WARN 0 | SKIP 0 | PASS 687 ]
> 
> proc.time()
   user  system elapsed 
 62.567   2.386  64.677 

Example timings

gDRutils.Rcheck/gDRutils-Ex.timings

nameusersystemelapsed
MAEpply0.6490.0160.667
SE_metadata0.1120.0000.112
addClass0.0030.0000.002
aggregate_assay1.1030.0361.142
apply_bumpy_function2.0230.0872.117
assert_choices0.0010.0000.001
average_biological_replicates_dt0.0640.0000.064
calc_sd0.0010.0000.000
capVals0.3270.0170.346
cap_xc500.0000.0000.001
convert_colData_to_json0.0690.0000.074
convert_combo_data_to_dt0.3530.0190.372
convert_combo_field_to_assay0.0020.0000.002
convert_mae_assay_to_dt0.0790.0080.087
convert_mae_to_json0.0210.0000.021
convert_metadata_to_json0.0120.0000.013
convert_rowData_to_json0.0030.0000.004
convert_se_assay_to_custom_dt0.5490.0200.568
convert_se_assay_to_dt0.0740.0040.078
convert_se_to_json0.0170.0000.017
define_matrix_grid_positions0.0670.0000.067
demote_fields1.1670.0361.199
df_to_bm_assay0.1690.0000.168
dot-set_invalid_fit_params0.0010.0000.000
extend_normalization_type_name000
fit_curves0.1670.0080.177
flatten0.010.000.01
gen_synthetic_data0.0030.0040.007
geometric_mean0.0000.0000.001
get_MAE_identifiers0.0090.0000.009
get_additional_variables0.0040.0040.007
get_assay_dt_duplicated_rows0.120.000.12
get_assay_names000
get_assay_req_uniq_cols0.0910.0000.091
get_combo_assay_names0.0000.0000.001
get_combo_base_assay_names0.0010.0000.001
get_combo_excess_field_names0.0020.0000.002
get_combo_score_assay_names0.0010.0000.001
get_combo_score_field_names0.0010.0000.001
get_default_identifiers0.0010.0000.000
get_duplicated_rows0.0040.0000.003
get_env_assay_names0.0010.0000.000
get_expect_one_identifiers000
get_experiment_groups0.0000.0000.001
get_identifiers_dt0.0020.0040.007
get_idfs_synonyms0.0010.0000.000
get_isobologram_columns0.0440.0000.045
get_non_empty_assays0.0590.0000.059
get_required_identifiers000
get_settings_from_json0.0010.0000.001
get_supported_experiments0.0010.0000.001
get_synthetic_data0.0140.0000.014
get_testdata0.0990.0080.106
get_testdata_codilution0.0990.0040.105
get_testdata_combo0.2460.0280.287
has_assay_dt_duplicated_rows0.0920.0040.096
has_dt_duplicated_rows0.0010.0000.001
has_single_codrug_data0.1050.0000.105
has_valid_codrug_data0.0990.0040.104
headers0.0150.0000.015
identifiers000
identify_unique_se_metadata_fields0.0090.0000.009
is_any_exp_empty0.0680.0080.075
is_combo_data0.1730.0160.189
is_exp_empty0.0930.0000.093
is_mae_empty0.0580.0000.058
logisticFit0.0300.0000.031
loop000
mcolData0.0170.0000.017
merge_SE2.0970.0042.102
merge_assay0.4230.0040.428
merge_metadata0.0100.0000.009
modifyData0.1310.0000.131
mrowData0.0170.0000.018
predict_conc_from_efficacy0.0010.0000.001
predict_efficacy_from_conc000
prettify_flat_metrics0.0230.0040.027
promote_fields0.2450.0000.245
refine_coldata0.0090.0040.013
refine_rowdata0.0620.0000.062
remove_codrug_data0.0470.0000.047
rename_DFrame0.0130.0000.013
rename_bumpy0.0450.0000.045
round_concentration000
set_constant_fit_params0.0010.0000.001
set_unique_cl_names0.0770.0000.077
set_unique_cl_names_dt0.0310.0000.031
set_unique_drug_names0.0730.0000.073
set_unique_drug_names_dt0.050.000.05
set_unique_identifiers0.4310.0000.432
shorten_normalization_type_name0.0000.0000.001
split_SE_components0.1050.0000.106
standardize_mae0.1530.0000.153
standardize_se0.0420.0000.042
throw_msg_if_duplicates0.0950.0000.095
update_env_idfs_from_mae0.0010.0000.002
update_idfs_synonyms0.0010.0000.001
validate_MAE0.0990.0000.099
validate_SE0.0340.0000.034
validate_identifiers0.0090.0000.008
validate_json000
validate_mae_with_schema0.7010.0710.917
validate_se_assay_name0.0080.0010.008