Back to Multiple platform build/check report for BioC 3.20: simplified long |
|
This page was generated on 2025-02-03 12:11 -0500 (Mon, 03 Feb 2025).
Hostname | OS | Arch (*) | R version | Installed pkgs |
---|---|---|---|---|
nebbiolo2 | Linux (Ubuntu 24.04.1 LTS) | x86_64 | 4.4.2 (2024-10-31) -- "Pile of Leaves" | 4746 |
palomino8 | Windows Server 2022 Datacenter | x64 | 4.4.2 (2024-10-31 ucrt) -- "Pile of Leaves" | 4494 |
merida1 | macOS 12.7.5 Monterey | x86_64 | 4.4.2 (2024-10-31) -- "Pile of Leaves" | 4517 |
kjohnson1 | macOS 13.6.6 Ventura | arm64 | 4.4.2 (2024-10-31) -- "Pile of Leaves" | 4469 |
taishan | Linux (openEuler 24.03 LTS) | aarch64 | 4.4.2 (2024-10-31) -- "Pile of Leaves" | 4400 |
Click on any hostname to see more info about the system (e.g. compilers) (*) as reported by 'uname -p', except on Windows and Mac OS X |
Package 505/2289 | Hostname | OS / Arch | INSTALL | BUILD | CHECK | BUILD BIN | ||||||||
dar 1.2.0 (landing page) Francesc Catala-Moll
| nebbiolo2 | Linux (Ubuntu 24.04.1 LTS) / x86_64 | OK | OK | OK | |||||||||
palomino8 | Windows Server 2022 Datacenter / x64 | OK | OK | OK | OK | |||||||||
merida1 | macOS 12.7.5 Monterey / x86_64 | OK | OK | OK | OK | |||||||||
kjohnson1 | macOS 13.6.6 Ventura / arm64 | OK | OK | OK | OK | |||||||||
taishan | Linux (openEuler 24.03 LTS) / aarch64 | OK | OK | OK | ||||||||||
To the developers/maintainers of the dar package: - Allow up to 24 hours (and sometimes 48 hours) for your latest push to git@git.bioconductor.org:packages/dar.git to reflect on this report. See Troubleshooting Build Report for more information. - Use the following Renviron settings to reproduce errors and warnings. - If 'R CMD check' started to fail recently on the Linux builder(s) over a missing dependency, add the missing dependency to 'Suggests:' in your DESCRIPTION file. See Renviron.bioc for more information. - See Martin Grigorov's blog post for how to debug Linux ARM64 related issues on a x86_64 host. |
Package: dar |
Version: 1.2.0 |
Command: /home/biocbuild/R/R/bin/R CMD check --install=check:dar.install-out.txt --library=/home/biocbuild/R/R/site-library --no-vignettes --timings dar_1.2.0.tar.gz |
StartedAt: 2025-01-31 05:27:31 -0000 (Fri, 31 Jan 2025) |
EndedAt: 2025-01-31 05:40:39 -0000 (Fri, 31 Jan 2025) |
EllapsedTime: 787.8 seconds |
RetCode: 0 |
Status: OK |
CheckDir: dar.Rcheck |
Warnings: 0 |
############################################################################## ############################################################################## ### ### Running command: ### ### /home/biocbuild/R/R/bin/R CMD check --install=check:dar.install-out.txt --library=/home/biocbuild/R/R/site-library --no-vignettes --timings dar_1.2.0.tar.gz ### ############################################################################## ############################################################################## * using log directory ‘/home/biocbuild/bbs-3.20-bioc/meat/dar.Rcheck’ * using R version 4.4.2 (2024-10-31) * using platform: aarch64-unknown-linux-gnu * R was compiled by aarch64-unknown-linux-gnu-gcc (GCC) 14.2.0 GNU Fortran (GCC) 12.3.1 (openEuler 12.3.1-36.oe2403) * running under: openEuler 24.03 (LTS) * using session charset: UTF-8 * using option ‘--no-vignettes’ * checking for file ‘dar/DESCRIPTION’ ... OK * this is package ‘dar’ version ‘1.2.0’ * package encoding: UTF-8 * checking package namespace information ... OK * checking package dependencies ... OK * checking if this is a source package ... OK * checking if there is a namespace ... OK * checking for hidden files and directories ... OK * checking for portable file names ... OK * checking for sufficient/correct file permissions ... OK * checking whether package ‘dar’ can be installed ... OK * checking installed package size ... OK * checking package directory ... OK * checking ‘build’ directory ... OK * checking DESCRIPTION meta-information ... OK * checking top-level files ... OK * checking for left-over files ... OK * checking index information ... OK * checking package subdirectories ... OK * checking code files for non-ASCII characters ... OK * checking R files for syntax errors ... OK * checking whether the package can be loaded ... OK * checking whether the package can be loaded with stated dependencies ... OK * checking whether the package can be unloaded cleanly ... OK * checking whether the namespace can be loaded with stated dependencies ... OK * checking whether the namespace can be unloaded cleanly ... OK * checking loading without being on the library search path ... OK * checking dependencies in R code ... OK * checking S3 generic/method consistency ... OK * checking replacement functions ... OK * checking foreign function calls ... OK * checking R code for possible problems ... OK * checking Rd files ... OK * checking Rd metadata ... OK * checking Rd cross-references ... OK * checking for missing documentation entries ... OK * checking for code/documentation mismatches ... OK * checking Rd \usage sections ... OK * checking Rd contents ... OK * checking for unstated dependencies in examples ... OK * checking contents of ‘data’ directory ... OK * checking data for non-ASCII characters ... OK * checking data for ASCII and uncompressed saves ... OK * checking R/sysdata.rda ... OK * checking files in ‘vignettes’ ... OK * checking examples ... OK Examples with CPU (user + system) or elapsed time > 5s user system elapsed step_aldex 21.370 0.686 22.135 step_ancom 16.998 0.591 17.987 step_deseq 9.456 0.020 9.510 step_metagenomeseq 5.406 0.118 12.704 step_maaslin 4.977 0.043 5.059 prep 3.770 0.252 47.468 import_steps 2.712 0.276 45.319 export_steps 2.142 0.149 16.375 recipe 1.364 0.091 20.912 * checking for unstated dependencies in ‘tests’ ... OK * checking tests ... Running ‘testthat.R’ OK * checking for unstated dependencies in vignettes ... OK * checking package vignettes ... OK * checking running R code from vignettes ... SKIPPED * checking re-building of vignette outputs ... SKIPPED * checking PDF version of manual ... OK * DONE Status: OK
dar.Rcheck/00install.out
############################################################################## ############################################################################## ### ### Running command: ### ### /home/biocbuild/R/R/bin/R CMD INSTALL dar ### ############################################################################## ############################################################################## * installing to library ‘/home/biocbuild/R/R-4.4.2/site-library’ * installing *source* package ‘dar’ ... ** using staged installation ** R ** data ** inst ** byte-compile and prepare package for lazy loading ** help *** installing help indices *** copying figures ** building package indices ** installing vignettes ** testing if installed package can be loaded from temporary location ** testing if installed package can be loaded from final location ** testing if installed package keeps a record of temporary installation path * DONE (dar)
dar.Rcheck/tests/testthat.Rout
R version 4.4.2 (2024-10-31) -- "Pile of Leaves" Copyright (C) 2024 The R Foundation for Statistical Computing Platform: aarch64-unknown-linux-gnu R is free software and comes with ABSOLUTELY NO WARRANTY. You are welcome to redistribute it under certain conditions. Type 'license()' or 'licence()' for distribution details. R is a collaborative project with many contributors. Type 'contributors()' for more information and 'citation()' on how to cite R or R packages in publications. Type 'demo()' for some demos, 'help()' for on-line help, or 'help.start()' for an HTML browser interface to help. Type 'q()' to quit R. > library(testthat) > library(dar) > > test_check("dar") Starting 2 test processes [ FAIL 0 | WARN 0 | SKIP 10 | PASS 82 ] ══ Skipped tests (10) ══════════════════════════════════════════════════════════ • On CRAN (10): 'test-roxytest-tests-bake.R:18:3', 'test-roxytest-tests-ancom.R:14:3', 'test-roxytest-tests-lefse.R:15:3', 'test-roxytest-tests-misc.R:73:3', 'test-roxytest-tests-misc.R:101:3', 'test-roxytest-tests-misc.R:108:3', 'test-roxytest-tests-pkg_check.R:6:3', 'test-roxytest-tests-maaslin2.R:16:3', 'test-roxytest-tests-read_data.R:24:3', 'test-roxytest-tests-steps_and_checks.R:7:3' [ FAIL 0 | WARN 0 | SKIP 10 | PASS 82 ] > > proc.time() user system elapsed 263.562 6.952 363.459
dar.Rcheck/dar-Ex.timings
name | user | system | elapsed | |
abundance_plt | 3.680 | 0.183 | 3.899 | |
add_tax | 0.217 | 0.000 | 0.221 | |
add_var | 0.201 | 0.003 | 0.209 | |
bake | 0.669 | 0.009 | 0.691 | |
contains_rarefaction | 0.289 | 0.012 | 0.304 | |
cool | 0.397 | 0.004 | 0.402 | |
corr_heatmap | 4.096 | 0.120 | 4.234 | |
exclusion_plt | 1.277 | 0.004 | 1.285 | |
export_steps | 2.142 | 0.149 | 16.375 | |
find_intersections | 0.254 | 0.012 | 0.267 | |
get_comparisons | 0.032 | 0.000 | 0.032 | |
get_phy | 0.026 | 0.000 | 0.026 | |
get_tax | 0.028 | 0.003 | 0.032 | |
get_var | 0.033 | 0.000 | 0.033 | |
import_steps | 2.712 | 0.276 | 45.319 | |
intersection_df | 0.245 | 0.008 | 0.254 | |
intersection_plt | 2.243 | 0.072 | 2.324 | |
mutual_plt | 2.752 | 0.052 | 2.814 | |
otu_table | 0.633 | 0.008 | 0.644 | |
overlap_df | 0.412 | 0.016 | 0.430 | |
phy_qc | 1.609 | 0.024 | 1.639 | |
prep | 3.770 | 0.252 | 47.468 | |
rand_id | 0 | 0 | 0 | |
read_data | 2.066 | 0.348 | 2.433 | |
recipe | 1.364 | 0.091 | 20.912 | |
required_deps | 0.062 | 0.000 | 0.062 | |
sample_data | 0.039 | 0.000 | 0.040 | |
step_aldex | 21.370 | 0.686 | 22.135 | |
step_ancom | 16.998 | 0.591 | 17.987 | |
step_corncob | 3.584 | 0.080 | 3.728 | |
step_deseq | 9.456 | 0.020 | 9.510 | |
step_filter_by_abundance | 0.052 | 0.000 | 0.053 | |
step_filter_by_prevalence | 0.052 | 0.000 | 0.052 | |
step_filter_by_rarity | 0.051 | 0.000 | 0.051 | |
step_filter_by_variance | 0.055 | 0.000 | 0.055 | |
step_filter_taxa | 0.055 | 0.000 | 0.055 | |
step_lefse | 0.098 | 0.000 | 0.099 | |
step_maaslin | 4.977 | 0.043 | 5.059 | |
step_metagenomeseq | 5.406 | 0.118 | 12.704 | |
step_rarefaction | 0.066 | 0.004 | 0.070 | |
step_subset_taxa | 0.054 | 0.000 | 0.054 | |
step_wilcox | 2.581 | 0.219 | 2.848 | |
steps_ids | 0.02 | 0.00 | 0.02 | |
tax_table | 0.063 | 0.004 | 0.066 | |
tidyeval | 0.025 | 0.000 | 0.025 | |
to_tibble | 0.593 | 0.024 | 0.621 | |
use_rarefy | 0.017 | 0.000 | 0.018 | |
zero_otu | 0.633 | 0.032 | 0.668 | |