Back to Multiple platform build/check report for BioC 3.20:   simplified   long
ABCDEF[G]HIJKLMNOPQRSTUVWXYZ

This page was generated on 2025-02-03 12:11 -0500 (Mon, 03 Feb 2025).

HostnameOSArch (*)R versionInstalled pkgs
nebbiolo2Linux (Ubuntu 24.04.1 LTS)x86_644.4.2 (2024-10-31) -- "Pile of Leaves" 4746
palomino8Windows Server 2022 Datacenterx644.4.2 (2024-10-31 ucrt) -- "Pile of Leaves" 4494
merida1macOS 12.7.5 Montereyx86_644.4.2 (2024-10-31) -- "Pile of Leaves" 4517
kjohnson1macOS 13.6.6 Venturaarm644.4.2 (2024-10-31) -- "Pile of Leaves" 4469
taishanLinux (openEuler 24.03 LTS)aarch644.4.2 (2024-10-31) -- "Pile of Leaves" 4400
Click on any hostname to see more info about the system (e.g. compilers)      (*) as reported by 'uname -p', except on Windows and Mac OS X

Package 820/2289HostnameOS / ArchINSTALLBUILDCHECKBUILD BIN
GenomicDataCommons 1.30.0  (landing page)
Sean Davis
Snapshot Date: 2025-01-30 13:00 -0500 (Thu, 30 Jan 2025)
git_url: https://git.bioconductor.org/packages/GenomicDataCommons
git_branch: RELEASE_3_20
git_last_commit: b1e7125
git_last_commit_date: 2024-10-29 10:18:33 -0500 (Tue, 29 Oct 2024)
nebbiolo2Linux (Ubuntu 24.04.1 LTS) / x86_64  OK    OK    ERROR  
palomino8Windows Server 2022 Datacenter / x64  OK    OK    ERROR    OK  
merida1macOS 12.7.5 Monterey / x86_64  OK    OK    ERROR    OK  
kjohnson1macOS 13.6.6 Ventura / arm64  OK    OK    ERROR    OK  
taishanLinux (openEuler 24.03 LTS) / aarch64  OK    OK    ERROR  


CHECK results for GenomicDataCommons on taishan

To the developers/maintainers of the GenomicDataCommons package:
- Allow up to 24 hours (and sometimes 48 hours) for your latest push to git@git.bioconductor.org:packages/GenomicDataCommons.git to reflect on this report. See Troubleshooting Build Report for more information.
- Use the following Renviron settings to reproduce errors and warnings.
- If 'R CMD check' started to fail recently on the Linux builder(s) over a missing dependency, add the missing dependency to 'Suggests:' in your DESCRIPTION file. See Renviron.bioc for more information.
- See Martin Grigorov's blog post for how to debug Linux ARM64 related issues on a x86_64 host.

raw results


Summary

Package: GenomicDataCommons
Version: 1.30.0
Command: /home/biocbuild/R/R/bin/R CMD check --install=check:GenomicDataCommons.install-out.txt --library=/home/biocbuild/R/R/site-library --no-vignettes --timings GenomicDataCommons_1.30.0.tar.gz
StartedAt: 2025-01-31 06:32:53 -0000 (Fri, 31 Jan 2025)
EndedAt: 2025-01-31 06:35:11 -0000 (Fri, 31 Jan 2025)
EllapsedTime: 138.1 seconds
RetCode: 1
Status:   ERROR  
CheckDir: GenomicDataCommons.Rcheck
Warnings: NA

Command output

##############################################################################
##############################################################################
###
### Running command:
###
###   /home/biocbuild/R/R/bin/R CMD check --install=check:GenomicDataCommons.install-out.txt --library=/home/biocbuild/R/R/site-library --no-vignettes --timings GenomicDataCommons_1.30.0.tar.gz
###
##############################################################################
##############################################################################


* using log directory ‘/home/biocbuild/bbs-3.20-bioc/meat/GenomicDataCommons.Rcheck’
* using R version 4.4.2 (2024-10-31)
* using platform: aarch64-unknown-linux-gnu
* R was compiled by
    aarch64-unknown-linux-gnu-gcc (GCC) 14.2.0
    GNU Fortran (GCC) 12.3.1 (openEuler 12.3.1-36.oe2403)
* running under: openEuler 24.03 (LTS)
* using session charset: UTF-8
* using option ‘--no-vignettes’
* checking for file ‘GenomicDataCommons/DESCRIPTION’ ... OK
* checking extension type ... Package
* this is package ‘GenomicDataCommons’ version ‘1.30.0’
* package encoding: UTF-8
* checking package namespace information ... OK
* checking package dependencies ... OK
* checking if this is a source package ... OK
* checking if there is a namespace ... OK
* checking for hidden files and directories ... OK
* checking for portable file names ... OK
* checking for sufficient/correct file permissions ... OK
* checking whether package ‘GenomicDataCommons’ can be installed ... OK
* checking installed package size ... OK
* checking package directory ... OK
* checking ‘build’ directory ... OK
* checking DESCRIPTION meta-information ... OK
* checking top-level files ... OK
* checking for left-over files ... OK
* checking index information ... OK
* checking package subdirectories ... OK
* checking code files for non-ASCII characters ... OK
* checking R files for syntax errors ... OK
* checking whether the package can be loaded ... OK
* checking whether the package can be loaded with stated dependencies ... OK
* checking whether the package can be unloaded cleanly ... OK
* checking whether the namespace can be loaded with stated dependencies ... OK
* checking whether the namespace can be unloaded cleanly ... OK
* checking loading without being on the library search path ... OK
* checking dependencies in R code ... OK
* checking S3 generic/method consistency ... OK
* checking replacement functions ... OK
* checking foreign function calls ... OK
* checking R code for possible problems ... OK
* checking Rd files ... OK
* checking Rd metadata ... OK
* checking Rd cross-references ... OK
* checking for missing documentation entries ... OK
* checking for code/documentation mismatches ... OK
* checking Rd \usage sections ... OK
* checking Rd contents ... OK
* checking for unstated dependencies in examples ... OK
* checking R/sysdata.rda ... OK
* checking files in ‘vignettes’ ... OK
* checking examples ... OK
Examples with CPU (user + system) or elapsed time > 5s
           user system elapsed
filtering 0.538  0.165   7.664
* checking for unstated dependencies in ‘tests’ ... OK
* checking tests ...
  Running ‘testthat.R’
 ERROR
Running the tests in ‘tests/testthat.R’ failed.
Last 13 lines of output:
  > 
  > test_check("GenomicDataCommons")
  [ FAIL 1 | WARN 0 | SKIP 0 | PASS 45 ]
  
  ══ Failed tests ════════════════════════════════════════════════════════════════
  ── Failure ('test_clinical.R:17:5'): clinical data is structured properly ──────
  vapply(clinical_data, nrow, integer(1L)) not identical to c(...).
  3/5 mismatches (average diff: 3)
  [2] 3 - 2 == 1
  [3] 3 - 0 == 3
  [4] 5 - 0 == 5
  
  [ FAIL 1 | WARN 0 | SKIP 0 | PASS 45 ]
  Error: Test failures
  Execution halted
* checking for unstated dependencies in vignettes ... OK
* checking package vignettes ... OK
* checking running R code from vignettes ... SKIPPED
* checking re-building of vignette outputs ... SKIPPED
* checking PDF version of manual ... OK
* DONE

Status: 1 ERROR
See
  ‘/home/biocbuild/bbs-3.20-bioc/meat/GenomicDataCommons.Rcheck/00check.log’
for details.


Installation output

GenomicDataCommons.Rcheck/00install.out

##############################################################################
##############################################################################
###
### Running command:
###
###   /home/biocbuild/R/R/bin/R CMD INSTALL GenomicDataCommons
###
##############################################################################
##############################################################################


* installing to library ‘/home/biocbuild/R/R-4.4.2/site-library’
* installing *source* package ‘GenomicDataCommons’ ...
** using staged installation
** R
** inst
** byte-compile and prepare package for lazy loading
** help
*** installing help indices
** building package indices
** installing vignettes
** testing if installed package can be loaded from temporary location
** testing if installed package can be loaded from final location
** testing if installed package keeps a record of temporary installation path
* DONE (GenomicDataCommons)

Tests output

GenomicDataCommons.Rcheck/tests/testthat.Rout.fail


R version 4.4.2 (2024-10-31) -- "Pile of Leaves"
Copyright (C) 2024 The R Foundation for Statistical Computing
Platform: aarch64-unknown-linux-gnu

R is free software and comes with ABSOLUTELY NO WARRANTY.
You are welcome to redistribute it under certain conditions.
Type 'license()' or 'licence()' for distribution details.

R is a collaborative project with many contributors.
Type 'contributors()' for more information and
'citation()' on how to cite R or R packages in publications.

Type 'demo()' for some demos, 'help()' for on-line help, or
'help.start()' for an HTML browser interface to help.
Type 'q()' to quit R.

> library(testthat)
> library(GenomicDataCommons)

Attaching package: 'GenomicDataCommons'

The following object is masked from 'package:stats':

    filter

> 
> test_check("GenomicDataCommons")
[ FAIL 1 | WARN 0 | SKIP 0 | PASS 45 ]

══ Failed tests ════════════════════════════════════════════════════════════════
── Failure ('test_clinical.R:17:5'): clinical data is structured properly ──────
vapply(clinical_data, nrow, integer(1L)) not identical to c(...).
3/5 mismatches (average diff: 3)
[2] 3 - 2 == 1
[3] 3 - 0 == 3
[4] 5 - 0 == 5

[ FAIL 1 | WARN 0 | SKIP 0 | PASS 45 ]
Error: Test failures
Execution halted

Example timings

GenomicDataCommons.Rcheck/GenomicDataCommons-Ex.timings

nameusersystemelapsed
aggregations0.1190.0081.680
available_expand0.0180.0000.245
available_fields0.0350.0030.694
available_values0.0430.0170.916
constants0.0000.0020.001
count0.0830.0191.028
default_fields0.0280.0240.704
entity_name0.0490.0080.506
expand0.0980.0321.455
faceting0.0690.0160.779
field_description0.1720.0081.322
filtering0.5380.1657.664
gdc_cache0.0010.0000.001
gdc_client0.0060.0000.005
gdc_clinical0.6890.1072.595
gdc_token0.0010.0000.000
gdcdata0.2420.0084.377
grep_fields0.0260.0010.268
id_field0.0340.0000.263
ids0.2130.0082.598
manifest0.1160.0040.856
mapping0.0250.0040.247
query0.0710.0000.528
readDNAcopy0.2920.0530.345
readHTSeqFile0.0730.0000.073
response0.0510.0000.562
results0.0500.0000.565
results_all0.0690.0001.234
select0.0960.0121.440
slicing0.0000.0000.001
status0.0110.0040.244
transfer000
write_manifest0.0900.0070.839