Back to Multiple platform build/check report for BioC 3.20: simplified long |
|
This page was generated on 2025-02-03 12:11 -0500 (Mon, 03 Feb 2025).
Hostname | OS | Arch (*) | R version | Installed pkgs |
---|---|---|---|---|
nebbiolo2 | Linux (Ubuntu 24.04.1 LTS) | x86_64 | 4.4.2 (2024-10-31) -- "Pile of Leaves" | 4746 |
palomino8 | Windows Server 2022 Datacenter | x64 | 4.4.2 (2024-10-31 ucrt) -- "Pile of Leaves" | 4494 |
merida1 | macOS 12.7.5 Monterey | x86_64 | 4.4.2 (2024-10-31) -- "Pile of Leaves" | 4517 |
kjohnson1 | macOS 13.6.6 Ventura | arm64 | 4.4.2 (2024-10-31) -- "Pile of Leaves" | 4469 |
taishan | Linux (openEuler 24.03 LTS) | aarch64 | 4.4.2 (2024-10-31) -- "Pile of Leaves" | 4400 |
Click on any hostname to see more info about the system (e.g. compilers) (*) as reported by 'uname -p', except on Windows and Mac OS X |
Package 716/2289 | Hostname | OS / Arch | INSTALL | BUILD | CHECK | BUILD BIN | ||||||||
FindIT2 1.12.0 (landing page) Guandong Shang
| nebbiolo2 | Linux (Ubuntu 24.04.1 LTS) / x86_64 | OK | OK | OK | |||||||||
palomino8 | Windows Server 2022 Datacenter / x64 | OK | OK | OK | OK | |||||||||
merida1 | macOS 12.7.5 Monterey / x86_64 | OK | OK | OK | OK | |||||||||
kjohnson1 | macOS 13.6.6 Ventura / arm64 | OK | OK | OK | OK | |||||||||
taishan | Linux (openEuler 24.03 LTS) / aarch64 | OK | OK | OK | ||||||||||
To the developers/maintainers of the FindIT2 package: - Allow up to 24 hours (and sometimes 48 hours) for your latest push to git@git.bioconductor.org:packages/FindIT2.git to reflect on this report. See Troubleshooting Build Report for more information. - Use the following Renviron settings to reproduce errors and warnings. - If 'R CMD check' started to fail recently on the Linux builder(s) over a missing dependency, add the missing dependency to 'Suggests:' in your DESCRIPTION file. See Renviron.bioc for more information. - See Martin Grigorov's blog post for how to debug Linux ARM64 related issues on a x86_64 host. |
Package: FindIT2 |
Version: 1.12.0 |
Command: /home/biocbuild/R/R/bin/R CMD check --install=check:FindIT2.install-out.txt --library=/home/biocbuild/R/R/site-library --no-vignettes --timings FindIT2_1.12.0.tar.gz |
StartedAt: 2025-01-31 06:16:46 -0000 (Fri, 31 Jan 2025) |
EndedAt: 2025-01-31 06:23:44 -0000 (Fri, 31 Jan 2025) |
EllapsedTime: 417.5 seconds |
RetCode: 0 |
Status: OK |
CheckDir: FindIT2.Rcheck |
Warnings: 0 |
############################################################################## ############################################################################## ### ### Running command: ### ### /home/biocbuild/R/R/bin/R CMD check --install=check:FindIT2.install-out.txt --library=/home/biocbuild/R/R/site-library --no-vignettes --timings FindIT2_1.12.0.tar.gz ### ############################################################################## ############################################################################## * using log directory ‘/home/biocbuild/bbs-3.20-bioc/meat/FindIT2.Rcheck’ * using R version 4.4.2 (2024-10-31) * using platform: aarch64-unknown-linux-gnu * R was compiled by aarch64-unknown-linux-gnu-gcc (GCC) 14.2.0 GNU Fortran (GCC) 12.3.1 (openEuler 12.3.1-36.oe2403) * running under: openEuler 24.03 (LTS) * using session charset: UTF-8 * using option ‘--no-vignettes’ * checking for file ‘FindIT2/DESCRIPTION’ ... OK * this is package ‘FindIT2’ version ‘1.12.0’ * package encoding: UTF-8 * checking package namespace information ... OK * checking package dependencies ... OK * checking if this is a source package ... OK * checking if there is a namespace ... OK * checking for hidden files and directories ... OK * checking for portable file names ... OK * checking for sufficient/correct file permissions ... OK * checking whether package ‘FindIT2’ can be installed ... OK * checking installed package size ... OK * checking package directory ... OK * checking ‘build’ directory ... OK * checking DESCRIPTION meta-information ... OK * checking top-level files ... OK * checking for left-over files ... OK * checking index information ... OK * checking package subdirectories ... OK * checking code files for non-ASCII characters ... OK * checking R files for syntax errors ... OK * checking whether the package can be loaded ... OK * checking whether the package can be loaded with stated dependencies ... OK * checking whether the package can be unloaded cleanly ... OK * checking whether the namespace can be loaded with stated dependencies ... OK * checking whether the namespace can be unloaded cleanly ... OK * checking loading without being on the library search path ... OK * checking dependencies in R code ... OK * checking S3 generic/method consistency ... OK * checking replacement functions ... OK * checking foreign function calls ... OK * checking R code for possible problems ... OK * checking Rd files ... OK * checking Rd metadata ... OK * checking Rd cross-references ... OK * checking for missing documentation entries ... OK * checking for code/documentation mismatches ... OK * checking Rd \usage sections ... OK * checking Rd contents ... OK * checking for unstated dependencies in examples ... OK * checking contents of ‘data’ directory ... OK * checking data for non-ASCII characters ... OK * checking data for ASCII and uncompressed saves ... OK * checking files in ‘vignettes’ ... OK * checking examples ... OK Examples with CPU (user + system) or elapsed time > 5s user system elapsed calcRP_coverage 7.311 0.611 7.944 findIT_regionRP 7.018 0.051 7.085 calcRP_region 5.784 0.068 5.866 * checking for unstated dependencies in ‘tests’ ... OK * checking tests ... Running ‘testthat.R’ OK * checking for unstated dependencies in vignettes ... OK * checking package vignettes ... OK * checking running R code from vignettes ... SKIPPED * checking re-building of vignette outputs ... SKIPPED * checking PDF version of manual ... OK * DONE Status: OK
FindIT2.Rcheck/00install.out
############################################################################## ############################################################################## ### ### Running command: ### ### /home/biocbuild/R/R/bin/R CMD INSTALL FindIT2 ### ############################################################################## ############################################################################## * installing to library ‘/home/biocbuild/R/R-4.4.2/site-library’ * installing *source* package ‘FindIT2’ ... ** using staged installation ** R ** data ** inst ** byte-compile and prepare package for lazy loading ** help *** installing help indices ** building package indices ** installing vignettes ** testing if installed package can be loaded from temporary location ** testing if installed package can be loaded from final location ** testing if installed package keeps a record of temporary installation path * DONE (FindIT2)
FindIT2.Rcheck/tests/testthat.Rout
R version 4.4.2 (2024-10-31) -- "Pile of Leaves" Copyright (C) 2024 The R Foundation for Statistical Computing Platform: aarch64-unknown-linux-gnu R is free software and comes with ABSOLUTELY NO WARRANTY. You are welcome to redistribute it under certain conditions. Type 'license()' or 'licence()' for distribution details. R is a collaborative project with many contributors. Type 'contributors()' for more information and 'citation()' on how to cite R or R packages in publications. Type 'demo()' for some demos, 'help()' for on-line help, or 'help.start()' for an HTML browser interface to help. Type 'q()' to quit R. > library(testthat) > library(FindIT2) Loading required package: GenomicRanges Loading required package: stats4 Loading required package: BiocGenerics Attaching package: 'BiocGenerics' The following objects are masked from 'package:stats': IQR, mad, sd, var, xtabs The following objects are masked from 'package:base': Filter, Find, Map, Position, Reduce, anyDuplicated, aperm, append, as.data.frame, basename, cbind, colnames, dirname, do.call, duplicated, eval, evalq, get, grep, grepl, intersect, is.unsorted, lapply, mapply, match, mget, order, paste, pmax, pmax.int, pmin, pmin.int, rank, rbind, rownames, sapply, saveRDS, setdiff, table, tapply, union, unique, unsplit, which.max, which.min Loading required package: S4Vectors Attaching package: 'S4Vectors' The following object is masked from 'package:utils': findMatches The following objects are masked from 'package:base': I, expand.grid, unname Loading required package: IRanges Loading required package: GenomeInfoDb > if (!requireNamespace("TxDb.Athaliana.BioMart.plantsmart28")) { + stop("unable to load TxDb.Athaliana.BioMart.plantsmart28") + } Loading required namespace: TxDb.Athaliana.BioMart.plantsmart28 > > test_check("FindIT2") >> preparing gene features information... 2025-01-31 06:22:29 >> some scan range may cross Chr bound, trimming... 2025-01-31 06:22:30 >> preparing weight info... 2025-01-31 06:22:30 >> loading E50h_sampleChr5.bw info... 2025-01-31 06:22:30 ------------ >> extracting and calcluating Chr5 signal... 2025-01-31 06:22:30 >> dealing with Chr5 left gene signal... 2025-01-31 06:22:36 >> norming Chr5RP accoring to the whole Chr RP... 2025-01-31 06:22:37 >> merging all Chr RP together... 2025-01-31 06:22:37 >> done 2025-01-31 06:22:37 >> checking seqlevels match... 2025-01-31 06:22:37 >> your peak_GR seqlevel:Chr5... >> your Txdb seqlevel:Chr1 Chr2 Chr3 Chr4 Chr5 ChrM ChrC... Good, your Chrs in peak_GR is all in Txdb ------------ annotatePeak using geneScan mode begins >> preparing gene features information and scan region... 2025-01-31 06:22:37 >> some scan range may cross Chr bound, trimming... 2025-01-31 06:22:38 >> finding overlap peak in gene scan region... 2025-01-31 06:22:38 >> dealing with left peak not your gene scan region... 2025-01-31 06:22:38 >> merging two set peaks... 2025-01-31 06:22:38 >> calculating distance and dealing with gene strand... 2025-01-31 06:22:38 >> merging all info together ... 2025-01-31 06:22:38 >> done 2025-01-31 06:22:38 >> calculating peakCenter to TSS using peak-gene pair... 2025-01-31 06:22:38 >> pre-filling 1356 noAssoc peak gene's RP with 0... 2025-01-31 06:22:39 >> calculating RP using centerToTSS and peak score2025-01-31 06:22:39 >> merging all info together 2025-01-31 06:22:42 >> done 2025-01-31 06:22:43 >> calculating peakCenter to TSS using peak-gene pair... 2025-01-31 06:22:43 >> pre-filling 1356 noAssoc peak gene's RP with 0... 2025-01-31 06:22:44 >> calculating RP using centerToTSS and peak score2025-01-31 06:22:44 >> merging all info together 2025-01-31 06:22:48 >> done 2025-01-31 06:22:48 >> checking seqlevels match... 2025-01-31 06:22:48 >> your peak_GR seqlevel:Chr5... >> your Txdb seqlevel:Chr1 Chr2 Chr3 Chr4 Chr5 ChrM ChrC... Good, your Chrs in peak_GR is all in Txdb ------------ annotatePeak using geneScan mode begins >> preparing gene features information and scan region... 2025-01-31 06:22:48 >> some scan range may cross Chr bound, trimming... 2025-01-31 06:22:49 >> finding overlap peak in gene scan region... 2025-01-31 06:22:49 >> dealing with left peak not your gene scan region... 2025-01-31 06:22:50 >> merging two set peaks... 2025-01-31 06:22:50 >> calculating distance and dealing with gene strand... 2025-01-31 06:22:50 >> merging all info together ... 2025-01-31 06:22:50 >> done 2025-01-31 06:22:50 >> calculating peakCenter to TSS using peak-gene pair... 2025-01-31 06:22:50 >> calculating RP using centerToTSS and TF hit 2025-01-31 06:22:52 >> merging all info together 2025-01-31 06:22:52 >> done 2025-01-31 06:22:52 >> calculating peakCenter to TSS using peak-gene pair... 2025-01-31 06:22:52 >> calculating RP using centerToTSS and TF hit 2025-01-31 06:22:53 >> merging all info together 2025-01-31 06:22:53 >> done 2025-01-31 06:22:53 >> checking seqlevels match... 2025-01-31 06:22:54 >> your peak_GR seqlevel:Chr5... >> your Txdb seqlevel:Chr1 Chr2 Chr3 Chr4 Chr5 ChrM ChrC... Good, your Chrs in peak_GR is all in Txdb ------------ annotatePeak using geneScan mode begins >> preparing gene features information and scan region... 2025-01-31 06:22:54 >> some scan range may cross Chr bound, trimming... 2025-01-31 06:22:55 >> finding overlap peak in gene scan region... 2025-01-31 06:22:55 >> dealing with left peak not your gene scan region... 2025-01-31 06:22:55 >> merging two set peaks... 2025-01-31 06:22:55 >> calculating distance and dealing with gene strand... 2025-01-31 06:22:55 >> merging all info together ... 2025-01-31 06:22:55 >> done 2025-01-31 06:22:55 >> calculating peakCenter to TSS using peak-gene pair... 2025-01-31 06:22:55 >> pre-filling 1356 noAssoc peak gene's RP with 0... 2025-01-31 06:22:56 >> calculating RP using centerToTSS and peak score2025-01-31 06:22:56 >> merging all info together 2025-01-31 06:22:59 >> done 2025-01-31 06:22:59 >> extracting RP info from regionRP... 2025-01-31 06:23:00 >> dealing with TF_GR_databse... 2025-01-31 06:23:00 >> calculating percent and p-value... 2025-01-31 06:23:00 >> dealing withE5_0h_R1... 2025-01-31 06:23:00 >> dealing withE5_0h_R2... 2025-01-31 06:23:00 >> dealing withE5_4h_R1... 2025-01-31 06:23:00 >> dealing withE5_4h_R2... 2025-01-31 06:23:00 >> dealing withE5_8h_R1... 2025-01-31 06:23:01 >> dealing withE5_8h_R2... 2025-01-31 06:23:01 >> dealing withE5_16h_R1... 2025-01-31 06:23:01 >> dealing withE5_16h_R2... 2025-01-31 06:23:01 >> dealing withE5_24h_R1... 2025-01-31 06:23:01 >> dealing withE5_24h_R2... 2025-01-31 06:23:01 >> dealing withE5_48h_R1... 2025-01-31 06:23:01 >> dealing withE5_48h_R2... 2025-01-31 06:23:01 >> dealing withE5_48h_R3... 2025-01-31 06:23:01 >> dealing withE5_72h_R1... 2025-01-31 06:23:01 >> dealing withE5_72h_R2... 2025-01-31 06:23:01 >> dealing withE5_72h_R3... 2025-01-31 06:23:01 >> merging all info together... 2025-01-31 06:23:01 >> done 2025-01-31 06:23:01 >> preparing gene features information... 2025-01-31 06:23:02 >> some scan range may cross Chr bound, trimming... 2025-01-31 06:23:03 >> calculating p-value for each TF, which may be time consuming... 2025-01-31 06:23:03 >> merging all info together... 2025-01-31 06:23:03 >> done 2025-01-31 06:23:03 >> dealing with TF_GR_database... 2025-01-31 06:23:03 >> calculating coef and converting into z-score using INT... 2025-01-31 06:23:03 >> dealing with E5_0h_R1... 2025-01-31 06:23:03 >> dealing with E5_0h_R2... 2025-01-31 06:23:03 >> dealing with E5_4h_R1... 2025-01-31 06:23:03 >> dealing with E5_4h_R2... 2025-01-31 06:23:04 >> dealing with E5_8h_R1... 2025-01-31 06:23:04 >> dealing with E5_8h_R2... 2025-01-31 06:23:04 >> dealing with E5_16h_R1... 2025-01-31 06:23:04 >> dealing with E5_16h_R2... 2025-01-31 06:23:04 >> dealing with E5_24h_R1... 2025-01-31 06:23:04 >> dealing with E5_24h_R2... 2025-01-31 06:23:04 >> dealing with E5_48h_R1... 2025-01-31 06:23:04 >> dealing with E5_48h_R2... 2025-01-31 06:23:04 >> dealing with E5_48h_R3... 2025-01-31 06:23:04 >> dealing with E5_72h_R1... 2025-01-31 06:23:04 >> dealing with E5_72h_R2... 2025-01-31 06:23:06 >> dealing with E5_72h_R3... 2025-01-31 06:23:06 >> merging all info together... 2025-01-31 06:23:06 >> done 2025-01-31 06:23:06 >> checking seqlevels match... 2025-01-31 06:23:06 >> your peak_GR seqlevel:Chr5... >> your Txdb seqlevel:Chr1 Chr2 Chr3 Chr4 Chr5 ChrM ChrC... Good, your Chrs in peak_GR is all in Txdb ------------ annotatePeak using geneScan mode begins >> preparing gene features information and scan region... 2025-01-31 06:23:06 >> some scan range may cross Chr bound, trimming... 2025-01-31 06:23:07 >> finding overlap peak in gene scan region... 2025-01-31 06:23:07 >> dealing with left peak not your gene scan region... 2025-01-31 06:23:07 >> merging two set peaks... 2025-01-31 06:23:07 >> calculating distance and dealing with gene strand... 2025-01-31 06:23:07 >> merging all info together ... 2025-01-31 06:23:07 >> done 2025-01-31 06:23:07 >> calculating peakCenter to TSS using peak-gene pair... 2025-01-31 06:23:07 >> calculating RP using centerToTSS and TF hit 2025-01-31 06:23:08 >> merging all info together 2025-01-31 06:23:08 >> done 2025-01-31 06:23:08 >> checking seqlevels match... 2025-01-31 06:23:09 >> your peak_GR seqlevel:5... >> your Txdb seqlevel:Chr1 Chr2 Chr3 Chr4 Chr5 ChrM ChrC... >> checking seqlevels match... 2025-01-31 06:23:09 >> your peak_GR seqlevel:Chr5 Chr6... >> your Txdb seqlevel:Chr1 Chr2 Chr3 Chr4 Chr5 ChrM ChrC... >> checking seqlevels match... 2025-01-31 06:23:13 >> your peak_GR seqlevel:Chr5... >> your Txdb seqlevel:Chr1 Chr2 Chr3 Chr4 Chr5 ChrM ChrC... Good, your Chrs in peak_GR is all in Txdb >> checking seqlevels match... 2025-01-31 06:23:13 >> your peak_GR seqlevel:Chr5... >> your Txdb seqlevel:Chr1 Chr2 Chr3 Chr4 Chr5 ChrM ChrC... Good, your Chrs in peak_GR is all in Txdb ------------ annotating Peak using nearest gene mode begins >> preparing gene features information... 2025-01-31 06:23:13 >> finding nearest gene and calculating distance... 2025-01-31 06:23:14 >> dealing with gene strand ... 2025-01-31 06:23:14 >> merging all info together ... 2025-01-31 06:23:14 >> done 2025-01-31 06:23:14 >> checking seqlevels match... 2025-01-31 06:23:14 >> your peak_GR seqlevel:Chr5... >> your Txdb seqlevel:Chr1 Chr2 Chr3 Chr4 Chr5 ChrM ChrC... Good, your Chrs in peak_GR is all in Txdb >> checking seqlevels match... 2025-01-31 06:23:14 >> your peak_GR seqlevel:Chr5... >> your Txdb seqlevel:Chr1 Chr2 Chr3 Chr4 Chr5 ChrM ChrC... Good, your Chrs in peak_GR is all in Txdb ------------ annotating Peak using nearest gene mode begins >> preparing gene features information... 2025-01-31 06:23:14 >> finding nearest gene and calculating distance... 2025-01-31 06:23:15 >> dealing with gene strand ... 2025-01-31 06:23:15 >> merging all info together ... 2025-01-31 06:23:15 >> done 2025-01-31 06:23:15 >> checking seqlevels match... 2025-01-31 06:23:16 >> your peak_GR seqlevel:Chr5... >> your Txdb seqlevel:Chr1 Chr2 Chr3 Chr4 Chr5 ChrM ChrC... Good, your Chrs in peak_GR is all in Txdb >> checking seqlevels match... 2025-01-31 06:23:16 >> your peak_GR seqlevel:Chr5... >> your Txdb seqlevel:Chr1 Chr2 Chr3 Chr4 Chr5 ChrM ChrC... Good, your Chrs in peak_GR is all in Txdb ------------ annotating Peak using nearest gene mode begins >> preparing gene features information... 2025-01-31 06:23:16 >> finding nearest gene and calculating distance... 2025-01-31 06:23:17 >> dealing with gene strand ... 2025-01-31 06:23:17 >> merging all info together ... 2025-01-31 06:23:17 >> done 2025-01-31 06:23:17 >> checking seqlevels match... 2025-01-31 06:23:18 >> your peak_GR seqlevel:Chr5... >> your Txdb seqlevel:Chr1 Chr2 Chr3 Chr4 Chr5 ChrM ChrC... Good, your Chrs in peak_GR is all in Txdb >> checking seqlevels match... 2025-01-31 06:23:19 >> your peak_GR seqlevel:Chr5... >> your Txdb seqlevel:Chr1 Chr2 Chr3 Chr4 Chr5 ChrM ChrC... Good, your Chrs in peak_GR is all in Txdb ------------ annotating Peak using nearest gene mode begins >> preparing gene features information... 2025-01-31 06:23:19 >> finding nearest gene and calculating distance... 2025-01-31 06:23:19 >> dealing with gene strand ... 2025-01-31 06:23:20 >> merging all info together ... 2025-01-31 06:23:20 >> done 2025-01-31 06:23:20 It seems that there 1 genes have not been annotated by nearestGene mode >> checking seqlevels match... 2025-01-31 06:23:21 >> your peak_GR seqlevel:Chr5... >> your Txdb seqlevel:Chr1 Chr2 Chr3 Chr4 Chr5 ChrM ChrC... Good, your Chrs in peak_GR is all in Txdb >> checking seqlevels match... 2025-01-31 06:23:21 >> your peak_GR seqlevel:Chr5... >> your Txdb seqlevel:Chr1 Chr2 Chr3 Chr4 Chr5 ChrM ChrC... Good, your Chrs in peak_GR is all in Txdb ------------ annotating Peak using nearest gene mode begins >> preparing gene features information... 2025-01-31 06:23:21 >> finding nearest gene and calculating distance... 2025-01-31 06:23:22 >> dealing with gene strand ... 2025-01-31 06:23:22 >> merging all info together ... 2025-01-31 06:23:22 >> done 2025-01-31 06:23:22 It seems that there 1 genes have not been annotated by nearestGene mode >> checking seqlevels match... 2025-01-31 06:23:23 >> your peak_GR seqlevel:Chr5... >> your Txdb seqlevel:Chr1 Chr2 Chr3 Chr4 Chr5 ChrM ChrC... Good, your Chrs in peak_GR is all in Txdb >> checking seqlevels match... 2025-01-31 06:23:24 >> your peak_GR seqlevel:Chr5... >> your Txdb seqlevel:Chr1 Chr2 Chr3 Chr4 Chr5 ChrM ChrC... Good, your Chrs in peak_GR is all in Txdb >> some scan range may cross Chr bound, trimming... 2025-01-31 06:23:25 >> checking seqlevels match... 2025-01-31 06:23:26 >> your peak_GR seqlevel:Chr5... >> your Txdb seqlevel:Chr1 Chr2 Chr3 Chr4 Chr5 ChrM ChrC... Good, your Chrs in peak_GR is all in Txdb >> some scan range may cross Chr bound, trimming... 2025-01-31 06:23:27 Good, your two matrix colnames matchs >> calculating cor and pvalue, which may be time consuming... 2025-01-31 06:23:29 >> merging all info together... 2025-01-31 06:23:29 >> done 2025-01-31 06:23:29 >> checking seqlevels match... 2025-01-31 06:23:29 >> your peak_GR seqlevel:Chr5... >> your Txdb seqlevel:Chr1 Chr2 Chr3 Chr4 Chr5 ChrM ChrC... Good, your Chrs in peak_GR is all in Txdb >> using scanPromoter parameter to scan promoter for each gene... 2025-01-31 06:23:29 >> checking seqlevels match... 2025-01-31 06:23:29 >> your peak_GR seqlevel:Chr5... >> your Txdb seqlevel:Chr1 Chr2 Chr3 Chr4 Chr5 ChrM ChrC... Good, your Chrs in peak_GR is all in Txdb >> some scan range may cross Chr bound, trimming... 2025-01-31 06:23:30 >> there are 85 gene have scaned promoter >> using scanEnhancer parameter to scan Enhancer for each gene... 2025-01-31 06:23:30 >> checking seqlevels match... 2025-01-31 06:23:30 >> your peak_GR seqlevel:Chr5... >> your Txdb seqlevel:Chr1 Chr2 Chr3 Chr4 Chr5 ChrM ChrC... Good, your Chrs in peak_GR is all in Txdb >> some scan range may cross Chr bound, trimming... 2025-01-31 06:23:31 >> calculating cor and pvalue, which may be time consuming... 2025-01-31 06:23:31 >> merging all info together... 2025-01-31 06:23:32 >> done 2025-01-31 06:23:32 Good, your two matrix colnames matchs >> calculating cor and pvalue, which may be time consuming... 2025-01-31 06:23:32 >> merging all info together... 2025-01-31 06:23:32 >> done 2025-01-31 06:23:32 >> checking seqlevels match... 2025-01-31 06:23:32 >> your peak_GR seqlevel:Chr5... >> your Txdb seqlevel:Chr1 Chr2 Chr3 Chr4 Chr5 ChrM ChrC... Good, your Chrs in peak_GR is all in Txdb ------------ annotatePeak using geneScan mode begins >> preparing gene features information and scan region... 2025-01-31 06:23:32 >> some scan range may cross Chr bound, trimming... 2025-01-31 06:23:33 >> finding overlap peak in gene scan region... 2025-01-31 06:23:33 >> dealing with left peak not your gene scan region... 2025-01-31 06:23:33 >> merging two set peaks... 2025-01-31 06:23:33 >> calculating distance and dealing with gene strand... 2025-01-31 06:23:33 >> merging all info together ... 2025-01-31 06:23:33 >> done 2025-01-31 06:23:33 Good, your two matrix colnames matchs >> calculating cor and pvalue, which may be time consuming... 2025-01-31 06:23:35 >> merging all info together... 2025-01-31 06:23:35 >> done 2025-01-31 06:23:35 >> checking seqlevels match... 2025-01-31 06:23:35 >> your peak_GR seqlevel:Chr5... >> your Txdb seqlevel:Chr1 Chr2 Chr3 Chr4 Chr5 ChrM ChrC... Good, your Chrs in peak_GR is all in Txdb >> using scanPromoter parameter to scan promoter for each gene... 2025-01-31 06:23:35 >> checking seqlevels match... 2025-01-31 06:23:35 >> your peak_GR seqlevel:Chr5... >> your Txdb seqlevel:Chr1 Chr2 Chr3 Chr4 Chr5 ChrM ChrC... Good, your Chrs in peak_GR is all in Txdb >> some scan range may cross Chr bound, trimming... 2025-01-31 06:23:36 >> there are 85 gene have scaned promoter >> using scanEnhancer parameter to scan Enhancer for each gene... 2025-01-31 06:23:36 >> checking seqlevels match... 2025-01-31 06:23:36 >> your peak_GR seqlevel:Chr5... >> your Txdb seqlevel:Chr1 Chr2 Chr3 Chr4 Chr5 ChrM ChrC... Good, your Chrs in peak_GR is all in Txdb >> some scan range may cross Chr bound, trimming... 2025-01-31 06:23:37 >> calculating cor and pvalue, which may be time consuming... 2025-01-31 06:23:38 >> merging all info together... 2025-01-31 06:23:38 >> done 2025-01-31 06:23:38 Joining with `by = join_by(feature_id)` Joining with `by = join_by(feature_id)` `geom_smooth()` using formula = 'y ~ x' Joining with `by = join_by(feature_id)` Joining with `by = join_by(feature_id)` `geom_smooth()` using formula = 'y ~ x' [ FAIL 0 | WARN 0 | SKIP 0 | PASS 65 ] > > proc.time() user system elapsed 83.555 2.750 86.610
FindIT2.Rcheck/FindIT2-Ex.timings
name | user | system | elapsed | |
TF_target_database | 0.000 | 0.000 | 0.001 | |
calcRP_TFHit | 3.422 | 0.076 | 3.684 | |
calcRP_coverage | 7.311 | 0.611 | 7.944 | |
calcRP_region | 5.784 | 0.068 | 5.866 | |
enhancerPromoterCor | 3.312 | 0.024 | 3.344 | |
findIT_MARA | 0.570 | 0.004 | 0.575 | |
findIT_TFHit | 1.144 | 0.004 | 1.151 | |
findIT_TTPair | 0.091 | 0.000 | 0.091 | |
findIT_enrichFisher | 0.963 | 0.000 | 0.965 | |
findIT_enrichWilcox | 0.207 | 0.004 | 0.213 | |
findIT_regionRP | 7.018 | 0.051 | 7.085 | |
getAssocPairNumber | 1.411 | 0.040 | 1.454 | |
integrate_ChIP_RNA | 2.454 | 0.012 | 2.472 | |
integrate_replicates | 0.002 | 0.000 | 0.003 | |
jaccard_findIT_TTpair | 0.122 | 0.000 | 0.122 | |
jaccard_findIT_enrichFisher | 0.253 | 0.000 | 0.253 | |
loadPeakFile | 0.078 | 0.000 | 0.079 | |
mm_geneBound | 2.239 | 0.032 | 2.275 | |
mm_geneScan | 1.416 | 0.004 | 1.423 | |
mm_nearestGene | 1.295 | 0.008 | 1.305 | |
peakGeneCor | 2.878 | 0.028 | 2.912 | |
plot_annoDistance | 1.847 | 0.004 | 1.856 | |
plot_peakGeneAlias_summary | 1.635 | 0.008 | 1.648 | |
plot_peakGeneCor | 3.698 | 0.000 | 3.707 | |
test_geneSet | 0.000 | 0.000 | 0.001 | |