Welcome to mirrors.dotsrc.org

All our mirrors of open source software are available via http, https, ftp and an onion service. More information about our mirrors including statistics and contact information is available on our mirror info pages.

For information about dotsrc.org and our other services please go to our website.

Index of /bioconductor/checkResults/devel/bioc-rapid-LATEST/

File Name  ↓ File Size  ↓ Date  ↓ 
Parent directory/--
bamsignals/-2025-02-17 20:41:28
AnnotationHub/-2025-02-17 20:41:28
alabaster.schemas/-2025-02-17 20:41:28
affxparser/-2025-02-17 20:41:28
AnnotationHubData/-2025-02-17 20:41:28
assorthead/-2025-02-17 20:41:28
affyio/-2025-02-17 20:41:28
AnnotationForge/-2025-02-17 20:41:28
alabaster.base/-2025-02-17 20:41:28
AnnotationDbi/-2025-02-17 20:41:28
alabaster.sce/-2025-02-17 20:41:28
alabaster.matrix/-2025-02-17 20:41:28
batchelor/-2025-02-17 20:41:28
affy/-2025-02-17 20:41:28
basilisk.utils/-2025-02-17 20:41:28
alabaster.ranges/-2025-02-17 20:41:28
alabaster.se/-2025-02-17 20:41:28
annotate/-2025-02-17 20:41:28
apeglm/-2025-02-17 20:41:28
affyPLM/-2025-02-17 20:41:28
aroma.light/-2025-02-17 20:41:28
basilisk/-2025-02-17 20:41:28
AnnotationFilter/-2025-02-17 20:41:28
BSgenome/-2025-02-17 20:41:29
gage/-2025-02-17 20:41:29
BiocSingular/-2025-02-17 20:41:29
BiocNeighbors/-2025-02-17 20:41:29
MsCoreUtils/-2025-02-17 20:41:29
DESeq2/-2025-02-17 20:41:29
DirichletMultinomial/-2025-02-17 20:41:29
flowClust/-2025-02-17 20:41:29
limma/-2025-02-17 20:41:29
DNAcopy/-2025-02-17 20:41:29
h5mread/-2025-02-17 20:41:29
lpsymphony/-2025-02-17 20:41:29
interactiveDisplay/-2025-02-17 20:41:29
LoomExperiment/-2025-02-17 20:41:29
geneplotter/-2025-02-17 20:41:29
BiocFileCache/-2025-02-17 20:41:29
flowWorkspace/-2025-02-17 20:41:29
MsBackendMgf/-2025-02-17 20:41:29
ProtGenerics/-2025-02-17 20:41:29
ggtree/-2025-02-17 20:41:29
gypsum/-2025-02-17 20:41:29
GenomicAlignments/-2025-02-17 20:41:29
bluster/-2025-02-17 20:41:29
BiocParallel/-2025-02-17 20:41:29
GenomicFeatures/-2025-02-17 20:41:29
biovizBase/-2025-02-17 20:41:29
ChemmineR/-2025-02-17 20:41:29
biomaRt/-2025-02-17 20:41:29
eds/-2025-02-17 20:41:29
flowStats/-2025-02-17 20:41:29
DOSE/-2025-02-17 20:41:29
Gviz/-2025-02-17 20:41:29
csaw/-2025-02-17 20:41:29
EnhancedVolcano/-2025-02-17 20:41:29
GenomeInfoDb/-2025-02-17 20:41:29
clusterProfiler/-2025-02-17 20:41:29
mzR/-2025-02-17 20:41:29
MatrixGenerics/-2025-02-17 20:41:29
biocthis/-2025-02-17 20:41:29
DelayedArray/-2025-02-17 20:41:29
qvalue/-2025-02-17 20:41:29
graph/-2025-02-17 20:41:29
Category/-2025-02-17 20:41:29
mzID/-2025-02-17 20:41:29
edgeR/-2025-02-17 20:41:29
EBarrays/-2025-02-17 20:41:29
openCyto/-2025-02-17 20:41:29
gdsfmt/-2025-02-17 20:41:29
pcaMethods/-2025-02-17 20:41:29
chihaya/-2025-02-17 20:41:29
preprocessCore/-2025-02-17 20:41:29
ggcyto/-2025-02-17 20:41:29
MLInterfaces/-2025-02-17 20:41:29
MassSpecWavelet/-2025-02-17 20:41:29
RaggedExperiment/-2025-02-17 20:41:29
BiocVersion/-2025-02-17 20:41:29
enrichplot/-2025-02-17 20:41:29
BumpyMatrix/-2025-02-17 20:41:29
GSEABase/-2025-02-17 20:41:29
HubPub/-2025-02-17 20:41:29
DEXSeq/-2025-02-17 20:41:29
MsBackendSql/-2025-02-17 20:41:29
ggbio/-2025-02-17 20:41:29
PSMatch/-2025-02-17 20:41:29
genefilter/-2025-02-17 20:41:29
GEOquery/-2025-02-17 20:41:29
phyloseq/-2025-02-17 20:41:29
fgsea/-2025-02-17 20:41:29
ncdfFlow/-2025-02-17 20:41:29
fishpond/-2025-02-17 20:41:29
gcrma/-2025-02-17 20:41:29
DropletUtils/-2025-02-17 20:41:29
DynDoc/-2025-02-17 20:41:29
ComplexHeatmap/-2025-02-17 20:41:29
hpar/-2025-02-17 20:41:29
BiocStyle/-2025-02-17 20:41:29
dir.expiry/-2025-02-17 20:41:29
GOSemSim/-2025-02-17 20:41:29
KEGGREST/-2025-02-17 20:41:29
IHW/-2025-02-17 20:41:29
BiocBaseUtils/-2025-02-17 20:41:29
ggtreeExtra/-2025-02-17 20:41:29
QFeatures/-2025-02-17 20:41:29
biocViews/-2025-02-17 20:41:29
metapod/-2025-02-17 20:41:29
GenomicRanges/-2025-02-17 20:41:29
ensembldb/-2025-02-17 20:41:29
ExperimentHub/-2025-02-17 20:41:29
pathview/-2025-02-17 20:41:29
beachmat/-2025-02-17 20:41:29
CytoML/-2025-02-17 20:41:29
metagenomeSeq/-2025-02-17 20:41:29
MsFeatures/-2025-02-17 20:41:29
minet/-2025-02-17 20:41:29
densvis/-2025-02-17 20:41:29
pRoloc/-2025-02-17 20:41:29
impute/-2025-02-17 20:41:29
ChemmineOB/-2025-02-17 20:41:29
pwalign/-2025-02-17 20:41:29
maftools/-2025-02-17 20:41:29
OrganismDbi/-2025-02-17 20:41:29
cytolib/-2025-02-17 20:41:29
keggorthology/-2025-02-17 20:41:29
GSVA/-2025-02-17 20:41:29
mbkmeans/-2025-02-17 20:41:29
biomformat/-2025-02-17 20:41:29
IRanges/-2025-02-17 20:41:29
microRNA/-2025-02-17 20:41:29
CompoundDb/-2025-02-17 20:41:29
BiocIO/-2025-02-17 20:41:29
MsExperiment/-2025-02-17 20:41:29
ConsensusClusterPlus/-2025-02-17 20:41:29
KEGGgraph/-2025-02-17 20:41:29
karyoploteR/-2025-02-17 20:41:29
HDF5Array/-2025-02-17 20:41:29
illuminaio/-2025-02-17 20:41:29
EnrichedHeatmap/-2025-02-17 20:41:29
MSnbase/-2025-02-17 20:41:29
BiocGenerics/-2025-02-17 20:41:29
MsDataHub/-2025-02-17 20:41:29
beachmat.hdf5/-2025-02-17 20:41:29
interactiveDisplayBase/-2025-02-17 20:41:29
glmGamPoi/-2025-02-17 20:41:29
ExperimentHubData/-2025-02-17 20:41:29
MetaboCoreUtils/-2025-02-17 20:41:29
MultiAssayExperiment/-2025-02-17 20:41:29
EDASeq/-2025-02-17 20:41:29
BSgenomeForge/-2025-02-17 20:41:29
DECIPHER/-2025-02-17 20:41:29
BiocCheck/-2025-02-17 20:41:29
multtest/-2025-02-17 20:41:29
DelayedMatrixStats/-2025-02-17 20:41:29
Biobase/-2025-02-17 20:41:29
gpls/-2025-02-17 20:41:29
flowViz/-2025-02-17 20:41:29
Biostrings/-2025-02-17 20:41:29
fmcsR/-2025-02-17 20:41:29
EBImage/-2025-02-17 20:41:29
GOstats/-2025-02-17 20:41:29
flowCore/-2025-02-17 20:41:29
SingleCellExperiment/-2025-02-17 20:41:30
Rgraphviz/-2025-02-17 20:41:30
SpatialExperiment/-2025-02-17 20:41:30
rpx/-2025-02-17 20:41:30
VariantAnnotation/-2025-02-17 20:41:30
treeio/-2025-02-17 20:41:30
S4Arrays/-2025-02-17 20:41:30
SummarizedExperiment/-2025-02-17 20:41:30
scran/-2025-02-17 20:41:30
SingleR/-2025-02-17 20:41:30
UCSC.utils/-2025-02-17 20:41:30
SparseArray/-2025-02-17 20:41:30
sesame/-2025-02-17 20:41:30
Rsubread/-2025-02-17 20:41:30
RBGL/-2025-02-17 20:41:30
seqLogo/-2025-02-17 20:41:30
txdbmaker/-2025-02-17 20:41:30
Rhtslib/-2025-02-17 20:41:30
sparseMatrixStats/-2025-02-17 20:41:30
ROC/-2025-02-17 20:41:30
TCGAbiolinks/-2025-02-17 20:41:30
scuttle/-2025-02-17 20:41:30
scater/-2025-02-17 20:41:30
sva/-2025-02-17 20:41:30
zlibbioc/-2025-02-17 20:41:30
tximeta/-2025-02-17 20:41:30
ShortRead/-2025-02-17 20:41:30
RProtoBufLib/-2025-02-17 20:41:30
snifter/-2025-02-17 20:41:30
rhdf5/-2025-02-17 20:41:30
Rdisop/-2025-02-17 20:41:30
widgetTools/-2025-02-17 20:41:30
zellkonverter/-2025-02-17 20:41:30
snpStats/-2025-02-17 20:41:30
XVector/-2025-02-17 20:41:30
S4Vectors/-2025-02-17 20:41:30
Spectra/-2025-02-17 20:41:30
tkWidgets/-2025-02-17 20:41:30
regioneR/-2025-02-17 20:41:30
Rhdf5lib/-2025-02-17 20:41:30
rBiopaxParser/-2025-02-17 20:41:30
ReportingTools/-2025-02-17 20:41:30
Wrench/-2025-02-17 20:41:30
Rsamtools/-2025-02-17 20:41:30
xcms/-2025-02-17 20:41:30
rtracklayer/-2025-02-17 20:41:30
SPIA/-2025-02-17 20:41:30
tximport/-2025-02-17 20:41:30
ScaledMatrix/-2025-02-17 20:41:30
rhdf5filters/-2025-02-17 20:41:30
supraHex/-2025-02-17 20:41:30
ResidualMatrix/-2025-02-17 20:41:30
scrapper/-2025-02-17 20:41:30
vsn/-2025-02-17 20:41:30
teran2-R-instpkgs.html113.9 KiB2025-02-17 20:41:28
Renviron.bioc3.3 KiB2025-02-17 20:41:28
BUILD_STATUS_DB.txt19.6 KiB2025-02-17 20:41:28
teran2-NodeInfo.html7.0 KiB2025-02-17 20:41:28
report.css11.0 KiB2025-02-17 20:41:28
120px-Blue_Light_Icon.svg.png7.1 KiB2025-02-17 20:41:28
skipped-index.dcf0 B2025-02-17 20:41:28
DEVEL3b.png2.6 KiB2025-02-17 20:41:28
report.js6.0 KiB2025-02-17 20:41:28
120px-Red_Light_Icon.svg.png7.0 KiB2025-02-17 20:41:28
120px-Green_Light_Icon.svg.png7.1 KiB2025-02-17 20:41:28
meat-index.dcf23.6 KiB2025-02-17 20:41:28
index.html232.0 KiB2025-02-17 20:41:30
report.tgz4.1 MiB2025-02-17 20:41:32