Back to Mac ARM64 build report for BioC 3.20 |
|
This page was generated on 2024-05-20 11:32:19 -0400 (Mon, 20 May 2024).
Hostname | OS | Arch (*) | R version | Installed pkgs |
---|---|---|---|---|
kjohnson1 | macOS 13.6.6 Ventura | arm64 | 4.4.0 Patched (2024-04-24 r86482) -- "Puppy Cup" | 4381 |
Click on any hostname to see more info about the system (e.g. compilers) (*) as reported by 'uname -p', except on Windows and Mac OS X |
Package 1726/2233 | Hostname | OS / Arch | INSTALL | BUILD | CHECK | BUILD BIN | ||||||||
rmelting 1.21.0 (landing page) J. Aravind
| kjohnson1 | macOS 13.6.6 Ventura / arm64 | OK | OK | OK | OK | ||||||||
To the developers/maintainers of the rmelting package: - Use the following Renviron settings to reproduce errors and warnings. - If 'R CMD check' started to fail recently on the Linux builder(s) over a missing dependency, add the missing dependency to 'Suggests:' in your DESCRIPTION file. See Renviron.bioc for more information. |
Package: rmelting |
Version: 1.21.0 |
Command: /Library/Frameworks/R.framework/Resources/bin/R CMD build --keep-empty-dirs --no-resave-data rmelting |
StartedAt: 2024-05-19 00:50:41 -0400 (Sun, 19 May 2024) |
EndedAt: 2024-05-19 00:51:19 -0400 (Sun, 19 May 2024) |
EllapsedTime: 37.3 seconds |
RetCode: 0 |
Status: OK |
PackageFile: rmelting_1.21.0.tar.gz |
PackageFileSize: 2.489 MiB |
############################################################################## ############################################################################## ### ### Running command: ### ### /Library/Frameworks/R.framework/Resources/bin/R CMD build --keep-empty-dirs --no-resave-data rmelting ### ############################################################################## ############################################################################## * checking for file ‘rmelting/DESCRIPTION’ ... OK * preparing ‘rmelting’: * checking DESCRIPTION meta-information ... OK * installing the package to process help pages Loading required namespace: rmelting * saving partial Rd database * creating vignettes ... OK * checking for LF line-endings in source and make files and shell scripts * checking for empty or unneeded directories Omitted ‘LazyData’ from DESCRIPTION * building ‘rmelting_1.21.0.tar.gz’