Back to Mac ARM64 build report for BioC 3.20 |
|
This page was generated on 2024-05-20 11:32:10 -0400 (Mon, 20 May 2024).
Hostname | OS | Arch (*) | R version | Installed pkgs |
---|---|---|---|---|
kjohnson1 | macOS 13.6.6 Ventura | arm64 | 4.4.0 Patched (2024-04-24 r86482) -- "Puppy Cup" | 4381 |
Click on any hostname to see more info about the system (e.g. compilers) (*) as reported by 'uname -p', except on Windows and Mac OS X |
Package 501/2233 | Hostname | OS / Arch | INSTALL | BUILD | CHECK | BUILD BIN | ||||||||
ddPCRclust 1.25.0 (landing page) Benedikt G. Brink
| kjohnson1 | macOS 13.6.6 Ventura / arm64 | OK | OK | OK | OK | ||||||||
To the developers/maintainers of the ddPCRclust package: - Use the following Renviron settings to reproduce errors and warnings. - If 'R CMD check' started to fail recently on the Linux builder(s) over a missing dependency, add the missing dependency to 'Suggests:' in your DESCRIPTION file. See Renviron.bioc for more information. |
Package: ddPCRclust |
Version: 1.25.0 |
Command: /Library/Frameworks/R.framework/Resources/bin/R CMD check --install=check:ddPCRclust.install-out.txt --library=/Library/Frameworks/R.framework/Resources/library --no-vignettes --timings ddPCRclust_1.25.0.tar.gz |
StartedAt: 2024-05-19 10:40:34 -0400 (Sun, 19 May 2024) |
EndedAt: 2024-05-19 10:43:24 -0400 (Sun, 19 May 2024) |
EllapsedTime: 170.1 seconds |
RetCode: 0 |
Status: OK |
CheckDir: ddPCRclust.Rcheck |
Warnings: 0 |
############################################################################## ############################################################################## ### ### Running command: ### ### /Library/Frameworks/R.framework/Resources/bin/R CMD check --install=check:ddPCRclust.install-out.txt --library=/Library/Frameworks/R.framework/Resources/library --no-vignettes --timings ddPCRclust_1.25.0.tar.gz ### ############################################################################## ############################################################################## * using log directory ‘/Users/biocbuild/bbs-3.20-bioc-mac-arm64/meat/ddPCRclust.Rcheck’ * using R version 4.4.0 Patched (2024-04-24 r86482) * using platform: aarch64-apple-darwin20 * R was compiled by Apple clang version 14.0.0 (clang-1400.0.29.202) GNU Fortran (GCC) 12.2.0 * running under: macOS Ventura 13.6.6 * using session charset: UTF-8 * using option ‘--no-vignettes’ * checking for file ‘ddPCRclust/DESCRIPTION’ ... OK * this is package ‘ddPCRclust’ version ‘1.25.0’ * checking package namespace information ... OK * checking package dependencies ... OK * checking if this is a source package ... OK * checking if there is a namespace ... OK * checking for hidden files and directories ... OK * checking for portable file names ... OK * checking for sufficient/correct file permissions ... OK * checking whether package ‘ddPCRclust’ can be installed ... OK * checking installed package size ... OK * checking package directory ... OK * checking ‘build’ directory ... OK * checking DESCRIPTION meta-information ... OK * checking top-level files ... OK * checking for left-over files ... OK * checking index information ... OK * checking package subdirectories ... OK * checking code files for non-ASCII characters ... OK * checking R files for syntax errors ... OK * checking whether the package can be loaded ... OK * checking whether the package can be loaded with stated dependencies ... OK * checking whether the package can be unloaded cleanly ... OK * checking whether the namespace can be loaded with stated dependencies ... OK * checking whether the namespace can be unloaded cleanly ... OK * checking dependencies in R code ... OK * checking S3 generic/method consistency ... OK * checking replacement functions ... OK * checking foreign function calls ... OK * checking R code for possible problems ... NOTE exportPlots: no visible binding for global variable ‘Cluster’ Undefined global functions or variables: Cluster * checking Rd files ... OK * checking Rd metadata ... OK * checking Rd cross-references ... OK * checking for missing documentation entries ... OK * checking for code/documentation mismatches ... OK * checking Rd \usage sections ... OK * checking Rd contents ... OK * checking for unstated dependencies in examples ... OK * checking sizes of PDF files under ‘inst/doc’ ... OK * checking files in ‘vignettes’ ... OK * checking examples ... OK Examples with CPU (user + system) or elapsed time > 5s user system elapsed exportPlots 15.769 0.420 16.617 ddPCRclust 11.171 0.397 11.703 calculateCPDs 10.735 0.398 11.182 exportToExcel 10.324 0.313 10.658 createEnsemble 10.296 0.304 10.768 exportToCSV 10.025 0.315 10.376 runSam 5.467 0.239 5.708 * checking for unstated dependencies in vignettes ... OK * checking package vignettes ... OK * checking running R code from vignettes ... SKIPPED * checking re-building of vignette outputs ... SKIPPED * checking PDF version of manual ... OK * DONE Status: 1 NOTE See ‘/Users/biocbuild/bbs-3.20-bioc-mac-arm64/meat/ddPCRclust.Rcheck/00check.log’ for details.
ddPCRclust.Rcheck/00install.out
############################################################################## ############################################################################## ### ### Running command: ### ### /Library/Frameworks/R.framework/Resources/bin/R CMD INSTALL ddPCRclust ### ############################################################################## ############################################################################## * installing to library ‘/Library/Frameworks/R.framework/Versions/4.4-arm64/Resources/library’ * installing *source* package ‘ddPCRclust’ ... ** using staged installation ** R ** inst ** byte-compile and prepare package for lazy loading ** help *** installing help indices ** building package indices ** installing vignettes ** testing if installed package can be loaded from temporary location ** testing if installed package can be loaded from final location ** testing if installed package keeps a record of temporary installation path * DONE (ddPCRclust)
ddPCRclust.Rcheck/ddPCRclust-Ex.timings
name | user | system | elapsed | |
calculateCPDs | 10.735 | 0.398 | 11.182 | |
createEnsemble | 10.296 | 0.304 | 10.768 | |
ddPCRclust | 11.171 | 0.397 | 11.703 | |
exportPlots | 15.769 | 0.420 | 16.617 | |
exportToCSV | 10.025 | 0.315 | 10.376 | |
exportToExcel | 10.324 | 0.313 | 10.658 | |
readFiles | 0.406 | 0.010 | 0.418 | |
readTemplate | 0.003 | 0.000 | 0.002 | |
runDensity | 3.272 | 0.120 | 3.395 | |
runPeaks | 4.124 | 0.052 | 4.178 | |
runSam | 5.467 | 0.239 | 5.708 | |