Back to Mac ARM64 build report for BioC 3.20 |
|
This page was generated on 2024-05-20 11:32:10 -0400 (Mon, 20 May 2024).
Hostname | OS | Arch (*) | R version | Installed pkgs |
---|---|---|---|---|
kjohnson1 | macOS 13.6.6 Ventura | arm64 | 4.4.0 Patched (2024-04-24 r86482) -- "Puppy Cup" | 4381 |
Click on any hostname to see more info about the system (e.g. compilers) (*) as reported by 'uname -p', except on Windows and Mac OS X |
Package 579/2233 | Hostname | OS / Arch | INSTALL | BUILD | CHECK | BUILD BIN | ||||||||
DNABarcodeCompatibility 1.21.0 (landing page) Céline Trébeau
| kjohnson1 | macOS 13.6.6 Ventura / arm64 | ERROR | ERROR | skipped | skipped | ||||||||
To the developers/maintainers of the DNABarcodeCompatibility package: - Use the following Renviron settings to reproduce errors and warnings. - If 'R CMD check' started to fail recently on the Linux builder(s) over a missing dependency, add the missing dependency to 'Suggests:' in your DESCRIPTION file. See Renviron.bioc for more information. |
Package: DNABarcodeCompatibility |
Version: 1.21.0 |
Command: /Library/Frameworks/R.framework/Resources/bin/R CMD build --keep-empty-dirs --no-resave-data DNABarcodeCompatibility |
StartedAt: 2024-05-18 17:13:43 -0400 (Sat, 18 May 2024) |
EndedAt: 2024-05-18 17:13:44 -0400 (Sat, 18 May 2024) |
EllapsedTime: 1.2 seconds |
RetCode: 1 |
Status: ERROR |
PackageFile: None |
PackageFileSize: NA |
############################################################################## ############################################################################## ### ### Running command: ### ### /Library/Frameworks/R.framework/Resources/bin/R CMD build --keep-empty-dirs --no-resave-data DNABarcodeCompatibility ### ############################################################################## ############################################################################## * checking for file ‘DNABarcodeCompatibility/DESCRIPTION’ ... OK * preparing ‘DNABarcodeCompatibility’: * checking DESCRIPTION meta-information ... OK * installing the package to build vignettes ----------------------------------- ERROR: dependency ‘DNABarcodes’ is not available for package ‘DNABarcodeCompatibility’ * removing ‘/private/tmp/RtmpRzeY6H/Rinst486afadb72c/DNABarcodeCompatibility’ ----------------------------------- ERROR: package installation failed