Back to Multiple platform build/check report for BioC 3.21:   simplified   long
ABCDEFGHIJKLMNO[P]QRSTUVWXYZ

This page was generated on 2025-02-17 11:43 -0500 (Mon, 17 Feb 2025).

HostnameOSArch (*)R versionInstalled pkgs
nebbiolo1Linux (Ubuntu 24.04.1 LTS)x86_64R Under development (unstable) (2025-01-20 r87609) -- "Unsuffered Consequences" 4720
palomino7Windows Server 2022 Datacenterx64R Under development (unstable) (2025-01-21 r87610 ucrt) -- "Unsuffered Consequences" 4482
lconwaymacOS 12.7.1 Montereyx86_64R Under development (unstable) (2025-01-22 r87618) -- "Unsuffered Consequences" 4493
kjohnson3macOS 13.7.1 Venturaarm64R Under development (unstable) (2025-01-20 r87609) -- "Unsuffered Consequences" 4446
Click on any hostname to see more info about the system (e.g. compilers)      (*) as reported by 'uname -p', except on Windows and Mac OS X

Package 1550/2295HostnameOS / ArchINSTALLBUILDCHECKBUILD BIN
PhyloProfile 1.99.4  (landing page)
Vinh Tran
Snapshot Date: 2025-02-16 13:40 -0500 (Sun, 16 Feb 2025)
git_url: https://git.bioconductor.org/packages/PhyloProfile
git_branch: devel
git_last_commit: 5f2a0cc
git_last_commit_date: 2025-02-07 07:40:34 -0500 (Fri, 07 Feb 2025)
nebbiolo1Linux (Ubuntu 24.04.1 LTS) / x86_64  OK    OK    OK  UNNEEDED, same version is already published
palomino7Windows Server 2022 Datacenter / x64  OK    OK    OK    OK  UNNEEDED, same version is already published
lconwaymacOS 12.7.1 Monterey / x86_64  OK    OK    OK    OK  UNNEEDED, same version is already published
kjohnson3macOS 13.7.1 Ventura / arm64  OK    OK    OK    OK  UNNEEDED, same version is already published


CHECK results for PhyloProfile on lconway

To the developers/maintainers of the PhyloProfile package:
- Allow up to 24 hours (and sometimes 48 hours) for your latest push to git@git.bioconductor.org:packages/PhyloProfile.git to reflect on this report. See Troubleshooting Build Report for more information.
- Use the following Renviron settings to reproduce errors and warnings.
- If 'R CMD check' started to fail recently on the Linux builder(s) over a missing dependency, add the missing dependency to 'Suggests:' in your DESCRIPTION file. See Renviron.bioc for more information.

raw results


Summary

Package: PhyloProfile
Version: 1.99.4
Command: /Library/Frameworks/R.framework/Resources/bin/R CMD check --install=check:PhyloProfile.install-out.txt --library=/Library/Frameworks/R.framework/Resources/library --no-vignettes --timings PhyloProfile_1.99.4.tar.gz
StartedAt: 2025-02-16 22:14:51 -0500 (Sun, 16 Feb 2025)
EndedAt: 2025-02-16 22:18:38 -0500 (Sun, 16 Feb 2025)
EllapsedTime: 227.6 seconds
RetCode: 0
Status:   OK  
CheckDir: PhyloProfile.Rcheck
Warnings: 0

Command output

##############################################################################
##############################################################################
###
### Running command:
###
###   /Library/Frameworks/R.framework/Resources/bin/R CMD check --install=check:PhyloProfile.install-out.txt --library=/Library/Frameworks/R.framework/Resources/library --no-vignettes --timings PhyloProfile_1.99.4.tar.gz
###
##############################################################################
##############################################################################


* using log directory ‘/Users/biocbuild/bbs-3.21-bioc/meat/PhyloProfile.Rcheck’
* using R Under development (unstable) (2025-01-22 r87618)
* using platform: x86_64-apple-darwin20
* R was compiled by
    Apple clang version 14.0.0 (clang-1400.0.29.202)
    GNU Fortran (GCC) 14.2.0
* running under: macOS Monterey 12.7.6
* using session charset: UTF-8
* using option ‘--no-vignettes’
* checking for file ‘PhyloProfile/DESCRIPTION’ ... OK
* this is package ‘PhyloProfile’ version ‘1.99.4’
* package encoding: UTF-8
* checking package namespace information ... OK
* checking package dependencies ... INFO
Imports includes 31 non-default packages.
Importing from so many packages makes the package vulnerable to any of
them becoming unavailable.  Move as many as possible to Suggests and
use conditionally.
* checking if this is a source package ... OK
* checking if there is a namespace ... OK
* checking for hidden files and directories ... OK
* checking for portable file names ... OK
* checking for sufficient/correct file permissions ... OK
* checking whether package ‘PhyloProfile’ can be installed ... OK
* checking installed package size ... OK
* checking package directory ... OK
* checking ‘build’ directory ... OK
* checking DESCRIPTION meta-information ... OK
* checking top-level files ... OK
* checking for left-over files ... OK
* checking index information ... OK
* checking package subdirectories ... OK
* checking code files for non-ASCII characters ... OK
* checking R files for syntax errors ... OK
* checking whether the package can be loaded ... OK
* checking whether the package can be loaded with stated dependencies ... OK
* checking whether the package can be unloaded cleanly ... OK
* checking whether the namespace can be loaded with stated dependencies ... OK
* checking whether the namespace can be unloaded cleanly ... OK
* checking dependencies in R code ... OK
* checking S3 generic/method consistency ... OK
* checking replacement functions ... OK
* checking foreign function calls ... OK
* checking R code for possible problems ... OK
* checking Rd files ... OK
* checking Rd metadata ... OK
* checking Rd cross-references ... OK
* checking for missing documentation entries ... OK
* checking for code/documentation mismatches ... OK
* checking Rd \usage sections ... OK
* checking Rd contents ... OK
* checking for unstated dependencies in examples ... OK
* checking contents of ‘data’ directory ... OK
* checking data for non-ASCII characters ... OK
* checking data for ASCII and uncompressed saves ... OK
* checking files in ‘vignettes’ ... OK
* checking examples ... OK
* checking for unstated dependencies in ‘tests’ ... OK
* checking tests ...
  Running ‘testthat.R’
 OK
* checking for unstated dependencies in vignettes ... OK
* checking package vignettes ... OK
* checking running R code from vignettes ... SKIPPED
* checking re-building of vignette outputs ... SKIPPED
* checking PDF version of manual ... OK
* DONE

Status: OK


Installation output

PhyloProfile.Rcheck/00install.out

##############################################################################
##############################################################################
###
### Running command:
###
###   /Library/Frameworks/R.framework/Resources/bin/R CMD INSTALL PhyloProfile
###
##############################################################################
##############################################################################


* installing to library ‘/Library/Frameworks/R.framework/Versions/4.5-x86_64/Resources/library’
* installing *source* package ‘PhyloProfile’ ...
** this is package ‘PhyloProfile’ version ‘1.99.4’
** using staged installation
** R
** data
** inst
** byte-compile and prepare package for lazy loading
** help
*** installing help indices
** building package indices
** installing vignettes
** testing if installed package can be loaded from temporary location
** testing if installed package can be loaded from final location
** testing if installed package keeps a record of temporary installation path
* DONE (PhyloProfile)

Tests output

PhyloProfile.Rcheck/tests/testthat.Rout


R Under development (unstable) (2025-01-22 r87618) -- "Unsuffered Consequences"
Copyright (C) 2025 The R Foundation for Statistical Computing
Platform: x86_64-apple-darwin20

R is free software and comes with ABSOLUTELY NO WARRANTY.
You are welcome to redistribute it under certain conditions.
Type 'license()' or 'licence()' for distribution details.

R is a collaborative project with many contributors.
Type 'contributors()' for more information and
'citation()' on how to cite R or R packages in publications.

Type 'demo()' for some demos, 'help()' for on-line help, or
'help.start()' for an HTML browser interface to help.
Type 'q()' to quit R.

> library(testthat)
> library(PhyloProfile)
> 
> test_check("PhyloProfile")
[ FAIL 0 | WARN 0 | SKIP 0 | PASS 22 ]
> 
> proc.time()
   user  system elapsed 
  9.457   0.667  10.183 

Example timings

PhyloProfile.Rcheck/PhyloProfile-Ex.timings

nameusersystemelapsed
addDimRedTaxaColors1.5460.0731.634
addFeatureColors0.0340.0020.037
addRankDivisionPlot0.8330.0220.859
calcPresSpec0.0470.0030.051
checkColorPalette0.0010.0000.001
checkInputValidity0.0040.0010.006
checkNewick0.0030.0010.004
checkOmaID000
checkOverlapDomains0.0200.0020.024
clusterDataDend0.0240.0020.026
compareMedianTaxonGroups0.0260.0030.030
compareTaxonGroups0.0370.0040.040
createArchiPlot2.5930.0302.642
createDimRedPlotData0.8570.0220.886
createGeneAgePlot0.2450.0030.251
createLongMatrix0.0160.0070.024
createPercentageDistributionData0.0810.0140.095
createProfileFromOma0.0010.0000.000
createUnrootedTree0.0130.0010.014
createVarDistPlot0.1830.0040.188
createVariableDistributionData0.0080.0040.011
createVariableDistributionDataSubset0.0070.0020.009
dataCustomizedPlot0.0300.0020.032
dataFeatureTaxGroup0.0130.0020.015
dataMainPlot0.0470.0100.056
dataVarDistTaxGroup0.0040.0020.007
dimReduction1.3980.0161.418
estimateGeneAge0.1360.0120.149
fastaParser0.0380.0020.041
featureDistTaxPlot0.2260.0050.232
filterProfileData0.1450.0300.176
fromInputToProfile0.1350.0160.151
geneAgePlotDf0.0100.0000.011
generateSinglePlot0.4470.0120.463
getAllDomainsOma000
getAllFastaOma000
getCommonAncestor0.0280.0030.031
getCoreGene0.1070.0120.121
getDataClustering0.0190.0020.021
getDataForOneOma0.0010.0010.000
getDendrogram0.0510.0030.055
getDistanceMatrix0.0190.0020.021
getDomainFolder0.0000.0010.001
getFastaFromFasInput0.0170.0010.019
getFastaFromFile0.0120.0020.014
getFastaFromFolder0.0090.0020.011
getIDsRank0.0160.0030.019
getInputTaxaID0.0020.0020.004
getInputTaxaName0.0100.0030.014
getNameList0.0210.0220.043
getOmaDataForOneOrtholog0.0000.0000.001
getOmaDomainFromURL0.0000.0010.000
getOmaMembers000
getQualColForVector0.0000.0000.001
getSelectedFastaOma0.0010.0000.000
getSelectedTaxonNames0.0170.0050.021
getTaxHierarchy0.0160.0020.017
getTaxonomyInfo0.0130.0020.014
getTaxonomyMatrix0.0950.0820.177
getTaxonomyRanks0.0000.0000.001
gridArrangeSharedLegend0.0000.0000.001
groupLabelDimRedData0.0610.0070.068
heatmapPlotting0.3400.0080.351
heatmapPlottingFast4.1070.2144.081
highlightProfilePlot0.3790.0090.391
id2name0.0050.0010.006
joinPlotMergeLegends0.6720.0290.704
linearizeArchitecture0.0090.0000.009
mainTaxonomyRank0.0010.0000.001
modifyFeatureName0.0190.0150.034
pairDomainPlotting0.5160.0040.523
parseDomainInput0.0160.0150.031
parseInfoProfile0.1740.0130.189
plotDimRed1.1680.0161.188
plotDimRed3D1.0710.0511.124
prepareDimRedData0.0550.0060.062
processNcbiTaxonomy000
processOrthoID0.1530.0760.278
qualitativeColours000
rankIndexing0.0470.0020.050
reduceProfile0.0140.0070.020
resolveOverlapFeatures0.0190.0010.020
runPhyloProfile0.0000.0010.000
singleDomainPlotting0.2320.0030.235
sortDomains0.0110.0010.012
sortDomainsByList0.0330.0020.034
sortInputTaxa0.0340.0080.042
sortTaxaFromTree0.0100.0010.011
taxonomyTableCreator0.0980.0040.102
varDistTaxPlot0.9800.0090.993
wideToLong0.0140.0080.023
xmlParser0.0190.0030.022