Back to Multiple platform build/check report for BioC 3.21:   simplified   long
AB[C]DEFGHIJKLMNOPQRSTUVWXYZ

This page was generated on 2025-02-03 12:36 -0500 (Mon, 03 Feb 2025).

HostnameOSArch (*)R versionInstalled pkgs
nebbiolo1Linux (Ubuntu 24.04.1 LTS)x86_64R Under development (unstable) (2025-01-20 r87609) -- "Unsuffered Consequences" 4704
palomino7Windows Server 2022 Datacenterx64R Under development (unstable) (2025-01-21 r87610 ucrt) -- "Unsuffered Consequences" 4467
lconwaymacOS 12.7.1 Montereyx86_64R Under development (unstable) (2025-01-22 r87618) -- "Unsuffered Consequences" 4478
Click on any hostname to see more info about the system (e.g. compilers)      (*) as reported by 'uname -p', except on Windows and Mac OS X

All results for package ComplexHeatmap


To the developers/maintainers of the ComplexHeatmap package:
- Allow up to 24 hours (and sometimes 48 hours) for your latest push to git@git.bioconductor.org:packages/ComplexHeatmap.git to reflect on this report. See Troubleshooting Build Report for more information.
- Use the following Renviron settings to reproduce errors and warnings.
- If 'R CMD check' started to fail recently on the Linux builder(s) over a missing dependency, add the missing dependency to 'Suggests:' in your DESCRIPTION file. See Renviron.bioc for more information.

raw results

Package 413/2289HostnameOS / ArchINSTALLBUILDCHECKBUILD BIN
ComplexHeatmap 2.23.0  (landing page)
Zuguang Gu
Snapshot Date: 2025-02-02 13:40 -0500 (Sun, 02 Feb 2025)
git_url: https://git.bioconductor.org/packages/ComplexHeatmap
git_branch: devel
git_last_commit: 29bc185
git_last_commit_date: 2024-10-29 09:59:54 -0500 (Tue, 29 Oct 2024)
nebbiolo1Linux (Ubuntu 24.04.1 LTS) / x86_64  OK    OK    OK  UNNEEDED, same version is already published
palomino7Windows Server 2022 Datacenter / x64  OK    OK    OK    OK  UNNEEDED, same version is already published
lconwaymacOS 12.7.1 Monterey / x86_64  OK    OK    OK    OK  UNNEEDED, same version is already published



Results for Bioconductor software packages that depend directly on package ComplexHeatmap

QUICK STATSOS / ArchINSTALLBUILDCHECKBUILD BIN
nebbiolo1Linux (Ubuntu 24.04.1 LTS) / x86_64
0282
0381
13671
palomino7Windows Server 2022 Datacenter / x64
0479
0479
03769
0079
lconwaymacOS 12.7.1 Monterey / x86_64
0381
0381
03672
0081
Package 1/84HostnameOS / ArchINSTALLBUILDCHECKBUILD BIN
airpart 1.15.0  (landing page)
Wancen Mu
git_last_commit: 68bab81
git_last_commit_date: 2024-10-29 10:57:39 -0500
nebbiolo1Linux (Ubuntu 24.04.1 LTS) / x86_64  OK    OK    OK  UNNEEDED, same version is already published
palomino7Windows Server 2022 Datacenter / x64  OK    OK    OK    OK  UNNEEDED, same version is already published
lconwaymacOS 12.7.1 Monterey / x86_64  OK    OK    OK    OK  UNNEEDED, same version is already published
Package 2/84HostnameOS / ArchINSTALLBUILDCHECKBUILD BIN
AMARETTO 1.23.0  (landing page)
Olivier Gevaert
git_last_commit: 6b4ead5
git_last_commit_date: 2024-10-29 10:35:36 -0500
nebbiolo1Linux (Ubuntu 24.04.1 LTS) / x86_64  OK    OK    WARNINGS  UNNEEDED, same version is already published
palomino7Windows Server 2022 Datacenter / x64  OK    OK    WARNINGS    OK  UNNEEDED, same version is already published
lconwaymacOS 12.7.1 Monterey / x86_64  OK    OK    WARNINGS    OK  UNNEEDED, same version is already published
Package 3/84HostnameOS / ArchINSTALLBUILDCHECKBUILD BIN
ASURAT 1.11.0  (landing page)
Keita Iida
git_last_commit: 433833d
git_last_commit_date: 2024-10-29 11:09:41 -0500
nebbiolo1Linux (Ubuntu 24.04.1 LTS) / x86_64  OK    OK    OK  UNNEEDED, same version is already published
palomino7Windows Server 2022 Datacenter / x64  OK    OK    OK    OK  UNNEEDED, same version is already published
lconwaymacOS 12.7.1 Monterey / x86_64  OK    OK    OK    OK  UNNEEDED, same version is already published
Package 4/84HostnameOS / ArchINSTALLBUILDCHECKBUILD BIN
bettr 1.3.0  (landing page)
Charlotte Soneson
git_last_commit: 7680efa
git_last_commit_date: 2024-11-02 11:37:22 -0500
nebbiolo1Linux (Ubuntu 24.04.1 LTS) / x86_64  OK    OK    OK  UNNEEDED, same version is already published
palomino7Windows Server 2022 Datacenter / x64  OK    OK    OK    OK  UNNEEDED, same version is already published
lconwaymacOS 12.7.1 Monterey / x86_64  OK    OK    OK    OK  UNNEEDED, same version is already published
Package 5/84HostnameOS / ArchINSTALLBUILDCHECKBUILD BIN
BindingSiteFinder 2.5.2  (landing page)
Mirko Brüggemann
git_last_commit: d7f7545
git_last_commit_date: 2024-11-20 15:23:27 -0500
nebbiolo1Linux (Ubuntu 24.04.1 LTS) / x86_64  OK    OK    OK  UNNEEDED, same version is already published
palomino7Windows Server 2022 Datacenter / x64  OK    OK    OK    OK  UNNEEDED, same version is already published
lconwaymacOS 12.7.1 Monterey / x86_64  OK    OK    OK    OK  NO, package depends on 'rtracklayer' which is only available as a source package that needs compilation
Package 6/84HostnameOS / ArchINSTALLBUILDCHECKBUILD BIN
BioNERO 1.15.0  (landing page)
Fabricio Almeida-Silva
git_last_commit: 20a3539
git_last_commit_date: 2024-10-29 10:57:25 -0500
nebbiolo1Linux (Ubuntu 24.04.1 LTS) / x86_64  OK    OK    OK  UNNEEDED, same version is already published
palomino7Windows Server 2022 Datacenter / x64  OK    OK    OK    OK  UNNEEDED, same version is already published
lconwaymacOS 12.7.1 Monterey / x86_64  OK    OK    OK    OK  UNNEEDED, same version is already published
Package 7/84HostnameOS / ArchINSTALLBUILDCHECKBUILD BIN
blacksheepr 1.21.0  (landing page)
RugglesLab
git_last_commit: 4a71690
git_last_commit_date: 2024-10-29 10:40:51 -0500
nebbiolo1Linux (Ubuntu 24.04.1 LTS) / x86_64  OK    OK    OK  NO, package depends on 'pasilla' which is not available
palomino7Windows Server 2022 Datacenter / x64  ERROR    ERROR  skippedskipped
lconwaymacOS 12.7.1 Monterey / x86_64  ERROR    ERROR  skippedskipped
Package 8/84HostnameOS / ArchINSTALLBUILDCHECKBUILD BIN
BloodGen3Module 1.15.0  (landing page)
Darawan Rinchai
git_last_commit: 1a37edb
git_last_commit_date: 2024-10-29 11:00:18 -0500
nebbiolo1Linux (Ubuntu 24.04.1 LTS) / x86_64  OK    OK    WARNINGS  UNNEEDED, same version is already published
palomino7Windows Server 2022 Datacenter / x64  OK    OK    WARNINGS    OK  UNNEEDED, same version is already published
lconwaymacOS 12.7.1 Monterey / x86_64  OK    OK    WARNINGS    OK  UNNEEDED, same version is already published
Package 9/84HostnameOS / ArchINSTALLBUILDCHECKBUILD BIN
BulkSignalR 0.99.22  (landing page)
Jean-Philippe Villemin
git_last_commit: a707d8a
git_last_commit_date: 2024-12-20 10:25:07 -0500
nebbiolo1Linux (Ubuntu 24.04.1 LTS) / x86_64  OK    OK    OK  UNNEEDED, same version is already published
palomino7Windows Server 2022 Datacenter / x64  OK    OK    OK    OK  UNNEEDED, same version is already published
lconwaymacOS 12.7.1 Monterey / x86_64  OK    OK    OK    OK  UNNEEDED, same version is already published
Package 10/84HostnameOS / ArchINSTALLBUILDCHECKBUILD BIN
CATALYST 1.31.2  (landing page)
Helena L. Crowell
git_last_commit: ada7c3c
git_last_commit_date: 2024-11-28 16:46:45 -0500
nebbiolo1Linux (Ubuntu 24.04.1 LTS) / x86_64  OK    OK    OK  UNNEEDED, same version is already published
palomino7Windows Server 2022 Datacenter / x64  OK    OK    OK    OK  UNNEEDED, same version is already published
lconwaymacOS 12.7.1 Monterey / x86_64  OK    OK    OK    OK  UNNEEDED, same version is already published
Package 11/84HostnameOS / ArchINSTALLBUILDCHECKBUILD BIN
CCPlotR 1.5.0  (landing page)
Sarah Ennis
git_last_commit: c2f2f50
git_last_commit_date: 2024-10-29 11:24:30 -0500
nebbiolo1Linux (Ubuntu 24.04.1 LTS) / x86_64  OK    OK    OK  UNNEEDED, same version is already published
palomino7Windows Server 2022 Datacenter / x64  OK    OK    OK    OK  UNNEEDED, same version is already published
lconwaymacOS 12.7.1 Monterey / x86_64  OK    OK    OK    OK  UNNEEDED, same version is already published
Package 12/84HostnameOS / ArchINSTALLBUILDCHECKBUILD BIN
celda 1.23.0  (landing page)
Joshua Campbell
git_last_commit: 73535bf
git_last_commit_date: 2024-10-29 10:37:27 -0500
nebbiolo1Linux (Ubuntu 24.04.1 LTS) / x86_64  ERROR    ERROR  skipped
palomino7Windows Server 2022 Datacenter / x64  ERROR    ERROR  skippedskipped
lconwaymacOS 12.7.1 Monterey / x86_64  ERROR    ERROR  skippedskipped
Package 13/84HostnameOS / ArchINSTALLBUILDCHECKBUILD BIN
CeTF 1.19.0  (landing page)
Carlos Alberto Oliveira de Biagi Junior
git_last_commit: 759b9e0
git_last_commit_date: 2024-10-29 10:42:24 -0500
nebbiolo1Linux (Ubuntu 24.04.1 LTS) / x86_64  OK    OK    OK  UNNEEDED, same version is already published
palomino7Windows Server 2022 Datacenter / x64  OK    OK    OK    OK  NO, package depends on 'DESeq2' which is only available as a source package that needs compilation
lconwaymacOS 12.7.1 Monterey / x86_64  OK    OK    OK    OK  NO, package depends on 'DESeq2' which is only available as a source package that needs compilation
Package 14/84HostnameOS / ArchINSTALLBUILDCHECKBUILD BIN
ClustAll 1.3.0  (landing page)
Asier Ortega-Legarreta
git_last_commit: 3058c84
git_last_commit_date: 2024-10-29 11:29:39 -0500
nebbiolo1Linux (Ubuntu 24.04.1 LTS) / x86_64  OK    OK    OK  UNNEEDED, same version is already published
palomino7Windows Server 2022 Datacenter / x64  OK    OK    OK    OK  UNNEEDED, same version is already published
lconwaymacOS 12.7.1 Monterey / x86_64  OK    OK    OK    OK  UNNEEDED, same version is already published
Package 15/84HostnameOS / ArchINSTALLBUILDCHECKBUILD BIN
COCOA 2.21.0  (landing page)
John Lawson
git_last_commit: 16ecf4b
git_last_commit_date: 2024-10-29 10:32:40 -0500
nebbiolo1Linux (Ubuntu 24.04.1 LTS) / x86_64  OK    OK    OK  UNNEEDED, same version is already published
palomino7Windows Server 2022 Datacenter / x64  OK    OK    OK    OK  UNNEEDED, same version is already published
lconwaymacOS 12.7.1 Monterey / x86_64  OK    OK    OK    OK  UNNEEDED, same version is already published
Package 16/84HostnameOS / ArchINSTALLBUILDCHECKBUILD BIN
cola 2.13.0  (landing page)
Zuguang Gu
git_last_commit: c1c8dc8
git_last_commit_date: 2024-10-29 10:34:13 -0500
nebbiolo1Linux (Ubuntu 24.04.1 LTS) / x86_64  OK    OK    OK  UNNEEDED, same version is already published
palomino7Windows Server 2022 Datacenter / x64  OK    OK    OK    OK  UNNEEDED, same version is already published
lconwaymacOS 12.7.1 Monterey / x86_64  OK    OK    OK    OK  UNNEEDED, same version is already published
Package 17/84HostnameOS / ArchINSTALLBUILDCHECKBUILD BIN
COTAN 2.7.3  (landing page)
Galfrè Silvia Giulia
git_last_commit: 5b7bd84
git_last_commit_date: 2025-01-27 12:01:10 -0500
nebbiolo1Linux (Ubuntu 24.04.1 LTS) / x86_64  OK    OK    OK  UNNEEDED, same version is already published
palomino7Windows Server 2022 Datacenter / x64  ERROR    ERROR  skippedskipped
lconwaymacOS 12.7.1 Monterey / x86_64  OK    OK    OK    OK  UNNEEDED, same version is already published
Package 18/84HostnameOS / ArchINSTALLBUILDCHECKBUILD BIN
CRISPRball 1.3.2  (landing page)
Jared Andrews
git_last_commit: 1f91c68
git_last_commit_date: 2024-12-19 11:11:20 -0500
nebbiolo1Linux (Ubuntu 24.04.1 LTS) / x86_64  OK    OK    OK  UNNEEDED, same version is already published
palomino7Windows Server 2022 Datacenter / x64  OK    OK    OK    OK  NO, package depends on 'PCAtools' which is only available as a source package that needs compilation
lconwaymacOS 12.7.1 Monterey / x86_64  OK    OK    OK    OK  UNNEEDED, same version is already published
Package 19/84HostnameOS / ArchINSTALLBUILDCHECKBUILD BIN
CTexploreR 1.3.0  (landing page)
Axelle Loriot
git_last_commit: b8dffc6
git_last_commit_date: 2024-10-29 11:26:00 -0500
nebbiolo1Linux (Ubuntu 24.04.1 LTS) / x86_64  OK    OK    TIMEOUT  
palomino7Windows Server 2022 Datacenter / x64  OK    OK    OK    OK  UNNEEDED, same version is already published
lconwaymacOS 12.7.1 Monterey / x86_64  OK    OK    OK    OK  UNNEEDED, same version is already published
Package 20/84HostnameOS / ArchINSTALLBUILDCHECKBUILD BIN
cytoKernel 1.13.0  (landing page)
Tusharkanti Ghosh
git_last_commit: ee6062c
git_last_commit_date: 2024-10-29 11:04:27 -0500
nebbiolo1Linux (Ubuntu 24.04.1 LTS) / x86_64  OK    OK    OK  UNNEEDED, same version is already published
palomino7Windows Server 2022 Datacenter / x64  OK    OK    OK    OK  UNNEEDED, same version is already published
lconwaymacOS 12.7.1 Monterey / x86_64  OK    OK    OK    OK  UNNEEDED, same version is already published
Package 21/84HostnameOS / ArchINSTALLBUILDCHECKBUILD BIN
Damsel 1.3.0  (landing page)
Caitlin Page
git_last_commit: 7bdd2de
git_last_commit_date: 2024-10-29 11:30:17 -0500
nebbiolo1Linux (Ubuntu 24.04.1 LTS) / x86_64  OK    OK    OK  UNNEEDED, same version is already published
palomino7Windows Server 2022 Datacenter / x64  OK    OK    OK    OK  UNNEEDED, same version is already published
lconwaymacOS 12.7.1 Monterey / x86_64  OK    OK    OK    OK  UNNEEDED, same version is already published
Package 22/84HostnameOS / ArchINSTALLBUILDCHECKBUILD BIN
dar 1.3.0  (landing page)
Francesc Catala-Moll
git_last_commit: fceb04a
git_last_commit_date: 2024-10-29 11:26:58 -0500
nebbiolo1Linux (Ubuntu 24.04.1 LTS) / x86_64  OK    OK    ERROR  
palomino7Windows Server 2022 Datacenter / x64  OK    OK    ERROR    OK  
lconwaymacOS 12.7.1 Monterey / x86_64  OK    OK    ERROR    OK  
Package 23/84HostnameOS / ArchINSTALLBUILDCHECKBUILD BIN
DEGreport 1.43.0  (landing page)
Lorena Pantano
git_last_commit: d93b674
git_last_commit_date: 2024-10-29 09:52:45 -0500
nebbiolo1Linux (Ubuntu 24.04.1 LTS) / x86_64  OK    OK    OK  UNNEEDED, same version is already published
palomino7Windows Server 2022 Datacenter / x64  OK    OK    OK    OK  NO, package depends on 'DESeq2' which is only available as a source package that needs compilation
lconwaymacOS 12.7.1 Monterey / x86_64  OK    OK    OK    OK  NO, package depends on 'DESeq2' which is only available as a source package that needs compilation
Package 24/84HostnameOS / ArchINSTALLBUILDCHECKBUILD BIN
DEP 1.29.0  (landing page)
Arne Smits
git_last_commit: 44e537d
git_last_commit_date: 2024-10-29 10:21:24 -0500
nebbiolo1Linux (Ubuntu 24.04.1 LTS) / x86_64  OK    OK    ERROR  
palomino7Windows Server 2022 Datacenter / x64  OK    OK    ERROR    OK  
lconwaymacOS 12.7.1 Monterey / x86_64  OK    OK    ERROR    OK  
Package 25/84HostnameOS / ArchINSTALLBUILDCHECKBUILD BIN
diffcyt 1.27.0  (landing page)
Lukas M. Weber
git_last_commit: c9fca52
git_last_commit_date: 2024-10-29 10:27:17 -0500
nebbiolo1Linux (Ubuntu 24.04.1 LTS) / x86_64  OK    OK    OK  UNNEEDED, same version is already published
palomino7Windows Server 2022 Datacenter / x64  OK    OK    OK    OK  UNNEEDED, same version is already published
lconwaymacOS 12.7.1 Monterey / x86_64  OK    OK    OK    OK  UNNEEDED, same version is already published
Package 26/84HostnameOS / ArchINSTALLBUILDCHECKBUILD BIN
diffUTR 1.15.0  (landing page)
Pierre-Luc Germain
git_last_commit: 43fce84
git_last_commit_date: 2024-10-29 10:59:54 -0500
nebbiolo1Linux (Ubuntu 24.04.1 LTS) / x86_64  OK    OK    OK  NO, package depends on 'DEXSeq' which is not available
palomino7Windows Server 2022 Datacenter / x64  OK    OK    OK    OK  NO, package depends on 'DEXSeq' which is not available
lconwaymacOS 12.7.1 Monterey / x86_64  OK    OK    OK    OK  NO, package depends on 'DEXSeq' which is not available
Package 27/84HostnameOS / ArchINSTALLBUILDCHECKBUILD BIN
dinoR 1.3.0  (landing page)
Michaela Schwaiger
git_last_commit: eaf277e
git_last_commit_date: 2024-10-29 11:29:04 -0500
nebbiolo1Linux (Ubuntu 24.04.1 LTS) / x86_64  OK    OK    OK  UNNEEDED, same version is already published
palomino7Windows Server 2022 Datacenter / x64  OK    OK    OK    OK  UNNEEDED, same version is already published
lconwaymacOS 12.7.1 Monterey / x86_64  OK    OK    OK    OK  UNNEEDED, same version is already published
Package 28/84HostnameOS / ArchINSTALLBUILDCHECKBUILD BIN
dominoSignal 1.1.0  (landing page)
Jacob T Mitchell
git_last_commit: 865183f
git_last_commit_date: 2024-10-29 11:33:15 -0500
nebbiolo1Linux (Ubuntu 24.04.1 LTS) / x86_64  OK    OK    OK  UNNEEDED, same version is already published
palomino7Windows Server 2022 Datacenter / x64  OK    OK    OK    OK  UNNEEDED, same version is already published
lconwaymacOS 12.7.1 Monterey / x86_64  OK    OK    OK    OK  UNNEEDED, same version is already published
Package 29/84HostnameOS / ArchINSTALLBUILDCHECKBUILD BIN
ELMER 2.31.0  (landing page)
Tiago Chedraoui Silva
git_last_commit: 1f88893
git_last_commit_date: 2024-10-29 10:01:42 -0500
nebbiolo1Linux (Ubuntu 24.04.1 LTS) / x86_64  OK    OK    OK  UNNEEDED, same version is already published
palomino7Windows Server 2022 Datacenter / x64  OK    OK    OK    OK  UNNEEDED, same version is already published
lconwaymacOS 12.7.1 Monterey / x86_64  OK    OK    OK    OK  NO, package depends on 'rtracklayer' which is only available as a source package that needs compilation
Package 30/84HostnameOS / ArchINSTALLBUILDCHECKBUILD BIN
EnrichedHeatmap 1.37.0  (landing page)
Zuguang Gu
git_last_commit: 6e3469a
git_last_commit_date: 2024-10-29 10:04:02 -0500
nebbiolo1Linux (Ubuntu 24.04.1 LTS) / x86_64  OK    OK    OK  UNNEEDED, same version is already published
palomino7Windows Server 2022 Datacenter / x64  OK    OK    OK    OK  UNNEEDED, same version is already published
lconwaymacOS 12.7.1 Monterey / x86_64  OK    OK    OK    OK  UNNEEDED, same version is already published
Package 31/84HostnameOS / ArchINSTALLBUILDCHECKBUILD BIN
epiregulon.extra 1.3.1  (landing page)
Xiaosai Yao
git_last_commit: d642425
git_last_commit_date: 2025-01-16 22:12:59 -0500
nebbiolo1Linux (Ubuntu 24.04.1 LTS) / x86_64  OK    OK    OK  UNNEEDED, same version is already published
palomino7Windows Server 2022 Datacenter / x64  OK    OK    OK    OK  UNNEEDED, same version is already published
lconwaymacOS 12.7.1 Monterey / x86_64  OK    OK    OK    OK  UNNEEDED, same version is already published
Package 32/84HostnameOS / ArchINSTALLBUILDCHECKBUILD BIN
fCCAC 1.33.0  (landing page)
Pedro Madrigal
git_last_commit: 55a4b1b
git_last_commit_date: 2024-10-29 10:15:36 -0500
nebbiolo1Linux (Ubuntu 24.04.1 LTS) / x86_64  OK    OK    OK  UNNEEDED, same version is already published
palomino7Windows Server 2022 Datacenter / x64  OK    OK    OK    OK  UNNEEDED, same version is already published
lconwaymacOS 12.7.1 Monterey / x86_64  OK    OK    OK    OK  NO, package depends on 'genomation' which is only available as a source package that needs compilation
Package 33/84HostnameOS / ArchINSTALLBUILDCHECKBUILD BIN
FLAMES 2.1.4  (landing page)
Changqing Wang
git_last_commit: 534d30d
git_last_commit_date: 2025-01-05 23:25:58 -0500
nebbiolo1Linux (Ubuntu 24.04.1 LTS) / x86_64  OK    OK    OK  UNNEEDED, same version is already published
palomino7Windows Server 2022 Datacenter / x64... NOT SUPPORTED ...
lconwaymacOS 12.7.1 Monterey / x86_64  OK    OK    OK    OK  NO, package depends on 'rtracklayer' which is only available as a source package that needs compilation
Package 34/84HostnameOS / ArchINSTALLBUILDCHECKBUILD BIN
gCrisprTools 2.13.0  (landing page)
Russell Bainer
git_last_commit: 1bb7f87
git_last_commit_date: 2024-10-29 10:13:45 -0500
nebbiolo1Linux (Ubuntu 24.04.1 LTS) / x86_64  OK    OK    OK  UNNEEDED, same version is already published
palomino7Windows Server 2022 Datacenter / x64  OK    OK    OK    OK  UNNEEDED, same version is already published
lconwaymacOS 12.7.1 Monterey / x86_64  OK    OK    OK    OK  UNNEEDED, same version is already published
Package 35/84HostnameOS / ArchINSTALLBUILDCHECKBUILD BIN
GeDi 1.3.0  (landing page)
Annekathrin Nedwed
git_last_commit: 8157757
git_last_commit_date: 2024-10-29 11:30:20 -0500
nebbiolo1Linux (Ubuntu 24.04.1 LTS) / x86_64  OK    OK    OK  UNNEEDED, same version is already published
palomino7Windows Server 2022 Datacenter / x64  OK    OK    OK    OK  UNNEEDED, same version is already published
lconwaymacOS 12.7.1 Monterey / x86_64  OK    OK    OK    OK  UNNEEDED, same version is already published
Package 36/84HostnameOS / ArchINSTALLBUILDCHECKBUILD BIN
GeneTonic 3.1.2  (landing page)
Federico Marini
git_last_commit: f1af392
git_last_commit_date: 2025-01-09 16:20:19 -0500
nebbiolo1Linux (Ubuntu 24.04.1 LTS) / x86_64  OK    OK    OK  UNNEEDED, same version is already published
palomino7Windows Server 2022 Datacenter / x64  OK    OK    OK    OK  NO, package depends on 'DESeq2' which is only available as a source package that needs compilation
lconwaymacOS 12.7.1 Monterey / x86_64  OK    OK    OK    OK  NO, package depends on 'DESeq2' which is only available as a source package that needs compilation
Package 37/84HostnameOS / ArchINSTALLBUILDCHECKBUILD BIN
GenomicPlot 1.5.3  (landing page)
Shuye Pu
git_last_commit: efbf81a
git_last_commit_date: 2025-01-30 16:52:25 -0500
nebbiolo1Linux (Ubuntu 24.04.1 LTS) / x86_64  OK    OK    OK  UNNEEDED, same version is already published
palomino7Windows Server 2022 Datacenter / x64  OK    OK    OK    OK  UNNEEDED, same version is already published
lconwaymacOS 12.7.1 Monterey / x86_64  OK    OK    OK    OK  NO, package depends on 'rtracklayer' which is only available as a source package that needs compilation
Package 38/84HostnameOS / ArchINSTALLBUILDCHECKBUILD BIN
GenomicSuperSignature 1.15.0  (landing page)
Sehyun Oh
git_last_commit: 675b807
git_last_commit_date: 2024-10-29 11:00:53 -0500
nebbiolo1Linux (Ubuntu 24.04.1 LTS) / x86_64  OK    OK    WARNINGS  UNNEEDED, same version is already published
palomino7Windows Server 2022 Datacenter / x64  OK    OK    WARNINGS    OK  UNNEEDED, same version is already published
lconwaymacOS 12.7.1 Monterey / x86_64  OK    OK    WARNINGS    OK  UNNEEDED, same version is already published
Package 39/84HostnameOS / ArchINSTALLBUILDCHECKBUILD BIN
geyser 0.99.8  (landing page)
David McGaughey
git_last_commit: 437a52d
git_last_commit_date: 2025-01-14 13:24:10 -0500
nebbiolo1Linux (Ubuntu 24.04.1 LTS) / x86_64  OK    OK    OK  UNNEEDED, same version is already published
palomino7Windows Server 2022 Datacenter / x64  OK    OK    OK    OK  UNNEEDED, same version is already published
lconwaymacOS 12.7.1 Monterey / x86_64  OK    OK    OK    OK  UNNEEDED, same version is already published
Package 40/84HostnameOS / ArchINSTALLBUILDCHECKBUILD BIN
gINTomics 1.3.0  (landing page)
Angelo Velle
git_last_commit: 3ba788e
git_last_commit_date: 2024-10-29 11:30:48 -0500
nebbiolo1Linux (Ubuntu 24.04.1 LTS) / x86_64  OK    ERROR  skipped
palomino7Windows Server 2022 Datacenter / x64  OK    OK    OK    OK  UNNEEDED, same version is already published
lconwaymacOS 12.7.1 Monterey / x86_64  OK    OK    OK    OK  UNNEEDED, same version is already published
Package 41/84HostnameOS / ArchINSTALLBUILDCHECKBUILD BIN
gmoviz 1.19.0  (landing page)
Kathleen Zeglinski
git_last_commit: f73a067
git_last_commit_date: 2024-10-29 10:44:42 -0500
nebbiolo1Linux (Ubuntu 24.04.1 LTS) / x86_64  OK    OK    OK  UNNEEDED, same version is already published
palomino7Windows Server 2022 Datacenter / x64  OK    OK    OK    OK  UNNEEDED, same version is already published
lconwaymacOS 12.7.1 Monterey / x86_64  OK    OK    OK    OK  NO, package depends on 'rtracklayer' which is only available as a source package that needs compilation
Package 42/84HostnameOS / ArchINSTALLBUILDCHECKBUILD BIN
GRaNIE 1.11.0  (landing page)
Christian Arnold
git_last_commit: 7fdc850
git_last_commit_date: 2024-10-29 11:11:39 -0500
nebbiolo1Linux (Ubuntu 24.04.1 LTS) / x86_64  OK    OK    OK  UNNEEDED, same version is already published
palomino7Windows Server 2022 Datacenter / x64  OK    OK    WARNINGS    OK  NO, package depends on 'DESeq2' which is only available as a source package that needs compilation
lconwaymacOS 12.7.1 Monterey / x86_64  OK    OK    OK    OK  NO, package depends on 'DESeq2' which is only available as a source package that needs compilation
Package 43/84HostnameOS / ArchINSTALLBUILDCHECKBUILD BIN
hermes 1.11.0  (landing page)
Daniel Sabanés Bové
git_last_commit: 2f1b4a7
git_last_commit_date: 2024-10-29 11:07:06 -0500
nebbiolo1Linux (Ubuntu 24.04.1 LTS) / x86_64  OK    OK    OK  UNNEEDED, same version is already published
palomino7Windows Server 2022 Datacenter / x64  OK    OK    OK    OK  NO, package depends on 'DESeq2' which is only available as a source package that needs compilation
lconwaymacOS 12.7.1 Monterey / x86_64  OK    OK    OK    OK  NO, package depends on 'DESeq2' which is only available as a source package that needs compilation
Package 44/84HostnameOS / ArchINSTALLBUILDCHECKBUILD BIN
hoodscanR 1.5.1  (landing page)
Ning Liu
git_last_commit: 8600f1c
git_last_commit_date: 2024-12-04 19:01:23 -0500
nebbiolo1Linux (Ubuntu 24.04.1 LTS) / x86_64  OK    OK    OK  UNNEEDED, same version is already published
palomino7Windows Server 2022 Datacenter / x64  OK    OK    OK    OK  UNNEEDED, same version is already published
lconwaymacOS 12.7.1 Monterey / x86_64  OK    OK    OK    OK  UNNEEDED, same version is already published
Package 45/84HostnameOS / ArchINSTALLBUILDCHECKBUILD BIN
HybridExpress 1.3.0  (landing page)
Fabricio Almeida-Silva
git_last_commit: 7c5952c
git_last_commit_date: 2024-10-29 11:28:52 -0500
nebbiolo1Linux (Ubuntu 24.04.1 LTS) / x86_64  OK    OK    OK  UNNEEDED, same version is already published
palomino7Windows Server 2022 Datacenter / x64  OK    OK    OK    OK  NO, package depends on 'DESeq2' which is only available as a source package that needs compilation
lconwaymacOS 12.7.1 Monterey / x86_64  OK    OK    OK    OK  NO, package depends on 'DESeq2' which is only available as a source package that needs compilation
Package 46/84HostnameOS / ArchINSTALLBUILDCHECKBUILD BIN
InteractiveComplexHeatmap 1.15.0  (landing page)
Zuguang Gu
git_last_commit: 4548478
git_last_commit_date: 2024-10-29 10:54:51 -0500
nebbiolo1Linux (Ubuntu 24.04.1 LTS) / x86_64  OK    OK    OK  UNNEEDED, same version is already published
palomino7Windows Server 2022 Datacenter / x64  OK    OK    OK    OK  UNNEEDED, same version is already published
lconwaymacOS 12.7.1 Monterey / x86_64  OK    OK    OK    OK  UNNEEDED, same version is already published
Package 47/84HostnameOS / ArchINSTALLBUILDCHECKBUILD BIN
InterCellar 2.13.0  (landing page)
Marta Interlandi
git_last_commit: e86c244
git_last_commit_date: 2024-10-29 10:56:51 -0500
nebbiolo1Linux (Ubuntu 24.04.1 LTS) / x86_64  OK    OK    OK  UNNEEDED, same version is already published
palomino7Windows Server 2022 Datacenter / x64  OK    OK    OK    OK  UNNEEDED, same version is already published
lconwaymacOS 12.7.1 Monterey / x86_64  OK    OK    OK    OK  UNNEEDED, same version is already published
Package 48/84HostnameOS / ArchINSTALLBUILDCHECKBUILD BIN
iSEE 2.19.2  (landing page)
Kevin Rue-Albrecht
git_last_commit: 2d462c8
git_last_commit_date: 2024-12-09 22:49:15 -0500
nebbiolo1Linux (Ubuntu 24.04.1 LTS) / x86_64  OK    OK    OK  UNNEEDED, same version is already published
palomino7Windows Server 2022 Datacenter / x64  OK    OK    OK    OK  UNNEEDED, same version is already published
lconwaymacOS 12.7.1 Monterey / x86_64  OK    OK    OK    OK  UNNEEDED, same version is already published
Package 49/84HostnameOS / ArchINSTALLBUILDCHECKBUILD BIN
MAPFX 1.3.0  (landing page)
Hsiao-Chi Liao
git_last_commit: 0dd36ba
git_last_commit_date: 2024-10-29 11:30:52 -0500
nebbiolo1Linux (Ubuntu 24.04.1 LTS) / x86_64  OK    OK    OK  UNNEEDED, same version is already published
palomino7Windows Server 2022 Datacenter / x64  OK    OK    OK    OK  UNNEEDED, same version is already published
lconwaymacOS 12.7.1 Monterey / x86_64  OK    OK    OK    OK  UNNEEDED, same version is already published
Package 50/84HostnameOS / ArchINSTALLBUILDCHECKBUILD BIN
MatrixQCvis 1.15.0  (landing page)
Thomas Naake
git_last_commit: ae918bf
git_last_commit_date: 2024-10-29 11:00:07 -0500
nebbiolo1Linux (Ubuntu 24.04.1 LTS) / x86_64  OK    OK    OK  UNNEEDED, same version is already published
palomino7Windows Server 2022 Datacenter / x64  OK    OK    OK    OK  UNNEEDED, same version is already published
lconwaymacOS 12.7.1 Monterey / x86_64  OK    OK    OK    OK  UNNEEDED, same version is already published
Package 51/84HostnameOS / ArchINSTALLBUILDCHECKBUILD BIN
MesKit 1.17.0  (landing page)
Mengni Liu
git_last_commit: 471c27c
git_last_commit_date: 2024-10-29 10:48:53 -0500
nebbiolo1Linux (Ubuntu 24.04.1 LTS) / x86_64  OK    OK    WARNINGS  UNNEEDED, same version is already published
palomino7Windows Server 2022 Datacenter / x64  OK    OK    WARNINGS    OK  UNNEEDED, same version is already published
lconwaymacOS 12.7.1 Monterey / x86_64  OK    OK    WARNINGS    OK  UNNEEDED, same version is already published
Package 52/84HostnameOS / ArchINSTALLBUILDCHECKBUILD BIN
MOMA 1.19.0  (landing page)
Sunny Jones
git_last_commit: cd609f2
git_last_commit_date: 2024-10-29 10:46:26 -0500
nebbiolo1Linux (Ubuntu 24.04.1 LTS) / x86_64  OK    OK    OK  UNNEEDED, same version is already published
palomino7Windows Server 2022 Datacenter / x64  OK    OK    OK    OK  UNNEEDED, same version is already published
lconwaymacOS 12.7.1 Monterey / x86_64  OK    OK    OK    OK  UNNEEDED, same version is already published
Package 53/84HostnameOS / ArchINSTALLBUILDCHECKBUILD BIN
monaLisa 1.13.2  (landing page)
Michael Stadler
git_last_commit: 5f36e73
git_last_commit_date: 2025-01-27 04:05:57 -0500
nebbiolo1Linux (Ubuntu 24.04.1 LTS) / x86_64  OK    OK    OK  UNNEEDED, same version is already published
palomino7Windows Server 2022 Datacenter / x64  OK    OK    OK    OK  UNNEEDED, same version is already published
lconwaymacOS 12.7.1 Monterey / x86_64  OK    OK    OK    OK  NO, package depends on 'TFBSTools' which is only available as a source package that needs compilation
Package 54/84HostnameOS / ArchINSTALLBUILDCHECKBUILD BIN
Moonlight2R 1.5.4  (landing page)
Matteo Tiberti
git_last_commit: 552fc09
git_last_commit_date: 2025-01-24 08:44:16 -0500
nebbiolo1Linux (Ubuntu 24.04.1 LTS) / x86_64  OK    OK    OK  UNNEEDED, same version is already published
palomino7Windows Server 2022 Datacenter / x64  OK    OK    OK    OK  UNNEEDED, same version is already published
lconwaymacOS 12.7.1 Monterey / x86_64  OK    OK    OK    OK  NO, package depends on 'rtracklayer' which is only available as a source package that needs compilation
Package 55/84HostnameOS / ArchINSTALLBUILDCHECKBUILD BIN
MOSClip 1.1.0  (landing page)
Paolo Martini
git_last_commit: 412bda8
git_last_commit_date: 2024-10-29 11:35:08 -0500
nebbiolo1Linux (Ubuntu 24.04.1 LTS) / x86_64  OK    OK    OK  UNNEEDED, same version is already published
palomino7Windows Server 2022 Datacenter / x64  OK    OK    OK    OK  UNNEEDED, same version is already published
lconwaymacOS 12.7.1 Monterey / x86_64  OK    OK    OK    OK  UNNEEDED, same version is already published
Package 56/84HostnameOS / ArchINSTALLBUILDCHECKBUILD BIN
MPAC 1.1.4  (landing page)
Peng Liu
git_last_commit: ab11417
git_last_commit_date: 2025-01-30 15:47:55 -0500
nebbiolo1Linux (Ubuntu 24.04.1 LTS) / x86_64  OK    OK    OK  UNNEEDED, same version is already published
palomino7Windows Server 2022 Datacenter / x64  OK    OK    OK    OK  UNNEEDED, same version is already published
lconwaymacOS 12.7.1 Monterey / x86_64  OK    OK    OK    OK  UNNEEDED, same version is already published
Package 57/84HostnameOS / ArchINSTALLBUILDCHECKBUILD BIN
MultiRNAflow 1.5.0  (landing page)
Rodolphe Loubaton
git_last_commit: 63c2461
git_last_commit_date: 2024-10-29 11:23:15 -0500
nebbiolo1Linux (Ubuntu 24.04.1 LTS) / x86_64  OK    OK    OK  UNNEEDED, same version is already published
palomino7Windows Server 2022 Datacenter / x64  OK    OK    OK    OK  NO, package depends on 'DESeq2' which is only available as a source package that needs compilation
lconwaymacOS 12.7.1 Monterey / x86_64  OK    OK    OK    OK  NO, package depends on 'DESeq2' which is only available as a source package that needs compilation
Package 58/84HostnameOS / ArchINSTALLBUILDCHECKBUILD BIN
multistateQTL 1.3.2  (landing page)
Amelia Dunstone
git_last_commit: f422ee0
git_last_commit_date: 2025-01-27 19:51:27 -0500
nebbiolo1Linux (Ubuntu 24.04.1 LTS) / x86_64  OK    OK    OK  UNNEEDED, same version is already published
palomino7Windows Server 2022 Datacenter / x64  OK    OK    OK    OK  UNNEEDED, same version is already published
lconwaymacOS 12.7.1 Monterey / x86_64  OK    OK    OK    OK  UNNEEDED, same version is already published
Package 59/84HostnameOS / ArchINSTALLBUILDCHECKBUILD BIN
muscat 1.21.0  (landing page)
Helena L. Crowell
git_last_commit: 0bf2615
git_last_commit_date: 2024-10-29 10:39:37 -0500
nebbiolo1Linux (Ubuntu 24.04.1 LTS) / x86_64  OK    OK    OK  UNNEEDED, same version is already published
palomino7Windows Server 2022 Datacenter / x64  OK    OK    OK    OK  NO, package depends on 'DESeq2' which is only available as a source package that needs compilation
lconwaymacOS 12.7.1 Monterey / x86_64  OK    OK    OK    OK  NO, package depends on 'DESeq2' which is only available as a source package that needs compilation
Package 60/84HostnameOS / ArchINSTALLBUILDCHECKBUILD BIN
musicatk 2.1.0  (landing page)
Joshua D. Campbell
git_last_commit: 45539aa
git_last_commit_date: 2024-10-29 10:52:22 -0500
nebbiolo1Linux (Ubuntu 24.04.1 LTS) / x86_64  OK    OK    OK  UNNEEDED, same version is already published
palomino7Windows Server 2022 Datacenter / x64  OK    OK    OK    OK  UNNEEDED, same version is already published
lconwaymacOS 12.7.1 Monterey / x86_64  OK    OK    OK    OK  NO, package depends on 'VariantAnnotation' which is only available as a source package that needs compilation
Package 61/84HostnameOS / ArchINSTALLBUILDCHECKBUILD BIN
MWASTools 1.31.0  (landing page)
Andrea Rodriguez-Martinez , Rafael Ayala
git_last_commit: f47f1f8
git_last_commit_date: 2024-10-29 10:15:48 -0500
nebbiolo1Linux (Ubuntu 24.04.1 LTS) / x86_64  OK    OK    OK  UNNEEDED, same version is already published
palomino7Windows Server 2022 Datacenter / x64  OK    OK    OK    OK  UNNEEDED, same version is already published
lconwaymacOS 12.7.1 Monterey / x86_64  OK    OK    OK    OK  UNNEEDED, same version is already published
Package 62/84HostnameOS / ArchINSTALLBUILDCHECKBUILD BIN
nipalsMCIA 1.5.2  (landing page)
Maximilian Mattessich
git_last_commit: cc5fde5
git_last_commit_date: 2024-12-18 11:42:53 -0500
nebbiolo1Linux (Ubuntu 24.04.1 LTS) / x86_64  OK    OK    OK  UNNEEDED, same version is already published
palomino7Windows Server 2022 Datacenter / x64  OK    OK    OK    OK  UNNEEDED, same version is already published
lconwaymacOS 12.7.1 Monterey / x86_64  OK    OK    OK    OK  UNNEEDED, same version is already published
Package 63/84HostnameOS / ArchINSTALLBUILDCHECKBUILD BIN
pathlinkR 1.3.7  (landing page)
Travis Blimkie
git_last_commit: a80da73
git_last_commit_date: 2024-12-23 13:34:27 -0500
nebbiolo1Linux (Ubuntu 24.04.1 LTS) / x86_64  OK    OK    OK  UNNEEDED, same version is already published
palomino7Windows Server 2022 Datacenter / x64  OK    OK    OK    OK  UNNEEDED, same version is already published
lconwaymacOS 12.7.1 Monterey / x86_64  OK    OK    OK    OK  UNNEEDED, same version is already published
Package 64/84HostnameOS / ArchINSTALLBUILDCHECKBUILD BIN
PathoStat 1.33.0  (landing page)
Solaiappan Manimaran
git_last_commit: 1f65914
git_last_commit_date: 2024-10-29 10:14:53 -0500
nebbiolo1Linux (Ubuntu 24.04.1 LTS) / x86_64  OK    OK    OK  UNNEEDED, same version is already published
palomino7Windows Server 2022 Datacenter / x64  OK    OK    OK    OK  NO, package depends on 'DESeq2' which is only available as a source package that needs compilation
lconwaymacOS 12.7.1 Monterey / x86_64  OK    OK    OK    OK  NO, package depends on 'DESeq2' which is only available as a source package that needs compilation
Package 65/84HostnameOS / ArchINSTALLBUILDCHECKBUILD BIN
PeacoQC 1.17.0  (landing page)
Annelies Emmaneel
git_last_commit: 3449ab9
git_last_commit_date: 2024-10-29 10:47:47 -0500
nebbiolo1Linux (Ubuntu 24.04.1 LTS) / x86_64  OK    OK    OK  UNNEEDED, same version is already published
palomino7Windows Server 2022 Datacenter / x64  OK    OK    OK    OK  UNNEEDED, same version is already published
lconwaymacOS 12.7.1 Monterey / x86_64  OK    OK    OK    OK  UNNEEDED, same version is already published
Package 66/84HostnameOS / ArchINSTALLBUILDCHECKBUILD BIN
pipeComp 1.17.0  (landing page)
Pierre-Luc Germain
git_last_commit: be750ef
git_last_commit_date: 2024-10-29 10:48:04 -0500
nebbiolo1Linux (Ubuntu 24.04.1 LTS) / x86_64  OK    OK    OK  UNNEEDED, same version is already published
palomino7Windows Server 2022 Datacenter / x64  OK    OK    OK    OK  UNNEEDED, same version is already published
lconwaymacOS 12.7.1 Monterey / x86_64  OK    OK    OK    OK  UNNEEDED, same version is already published
Package 67/84HostnameOS / ArchINSTALLBUILDCHECKBUILD BIN
POMA 1.17.6  (landing page)
Pol Castellano-Escuder
git_last_commit: 09bb015
git_last_commit_date: 2024-11-26 18:39:32 -0500
nebbiolo1Linux (Ubuntu 24.04.1 LTS) / x86_64  OK    OK    OK  UNNEEDED, same version is already published
palomino7Windows Server 2022 Datacenter / x64  OK    OK    OK    OK  NO, package depends on 'DESeq2' which is only available as a source package that needs compilation
lconwaymacOS 12.7.1 Monterey / x86_64  OK    OK    OK    OK  NO, package depends on 'DESeq2' which is only available as a source package that needs compilation
Package 68/84HostnameOS / ArchINSTALLBUILDCHECKBUILD BIN
profileplyr 1.23.0  (landing page)
Tom Carroll , Doug Barrows
git_last_commit: 580fe41
git_last_commit_date: 2024-10-29 10:36:26 -0500
nebbiolo1Linux (Ubuntu 24.04.1 LTS) / x86_64  OK    OK    OK  UNNEEDED, same version is already published
palomino7Windows Server 2022 Datacenter / x64  OK    OK    OK    OK  UNNEEDED, same version is already published
lconwaymacOS 12.7.1 Monterey / x86_64  OK    OK    OK    OK  NO, package depends on 'rtracklayer' which is only available as a source package that needs compilation
Package 69/84HostnameOS / ArchINSTALLBUILDCHECKBUILD BIN
PRONE 1.1.2  (landing page)
Lis Arend
git_last_commit: bca70b6
git_last_commit_date: 2025-01-23 12:01:15 -0500
nebbiolo1Linux (Ubuntu 24.04.1 LTS) / x86_64  OK    OK    OK  UNNEEDED, same version is already published
palomino7Windows Server 2022 Datacenter / x64  OK    OK    OK    OK  UNNEEDED, same version is already published
lconwaymacOS 12.7.1 Monterey / x86_64  OK    OK    OK    OK  UNNEEDED, same version is already published
Package 70/84HostnameOS / ArchINSTALLBUILDCHECKBUILD BIN
recoup 1.35.0  (landing page)
Panagiotis Moulos
git_last_commit: 8112b7e
git_last_commit_date: 2024-10-29 10:08:59 -0500
nebbiolo1Linux (Ubuntu 24.04.1 LTS) / x86_64  OK    OK    OK  UNNEEDED, same version is already published
palomino7Windows Server 2022 Datacenter / x64  OK    OK    OK    OK  UNNEEDED, same version is already published
lconwaymacOS 12.7.1 Monterey / x86_64  OK    OK    OK    OK  NO, package depends on 'rtracklayer' which is only available as a source package that needs compilation
Package 71/84HostnameOS / ArchINSTALLBUILDCHECKBUILD BIN
scRNAseqApp 1.7.9  (landing page)
Jianhong Ou
git_last_commit: dd746cd
git_last_commit_date: 2025-01-31 11:38:38 -0500
nebbiolo1Linux (Ubuntu 24.04.1 LTS) / x86_64  OK    OK    OK  UNNEEDED, same version is already published
palomino7Windows Server 2022 Datacenter / x64  OK    OK    OK    OK  UNNEEDED, same version is already published
lconwaymacOS 12.7.1 Monterey / x86_64  OK    OK    OK    OK  NO, package depends on 'rtracklayer' which is only available as a source package that needs compilation
Package 72/84HostnameOS / ArchINSTALLBUILDCHECKBUILD BIN
sechm 1.15.0  (landing page)
Pierre-Luc Germain
git_last_commit: adfb618
git_last_commit_date: 2024-10-29 10:58:26 -0500
nebbiolo1Linux (Ubuntu 24.04.1 LTS) / x86_64  OK    OK    OK  UNNEEDED, same version is already published
palomino7Windows Server 2022 Datacenter / x64  OK    OK    OK    OK  UNNEEDED, same version is already published
lconwaymacOS 12.7.1 Monterey / x86_64  OK    OK    OK    OK  UNNEEDED, same version is already published
Package 73/84HostnameOS / ArchINSTALLBUILDCHECKBUILD BIN
segmenter 1.13.0  (landing page)
Mahmoud Ahmed
git_last_commit: 2c80157
git_last_commit_date: 2024-10-29 11:01:36 -0500
nebbiolo1Linux (Ubuntu 24.04.1 LTS) / x86_64  OK    OK    OK  UNNEEDED, same version is already published
palomino7Windows Server 2022 Datacenter / x64  OK    OK    OK    OK  UNNEEDED, same version is already published
lconwaymacOS 12.7.1 Monterey / x86_64  OK    OK    OK    OK  UNNEEDED, same version is already published
Package 74/84HostnameOS / ArchINSTALLBUILDCHECKBUILD BIN
signifinder 1.9.3  (landing page)
Stefania Pirrotta
git_last_commit: c426fdd
git_last_commit_date: 2025-01-13 08:58:12 -0500
nebbiolo1Linux (Ubuntu 24.04.1 LTS) / x86_64  OK    OK    OK  UNNEEDED, same version is already published
palomino7Windows Server 2022 Datacenter / x64  OK    OK    OK    OK  UNNEEDED, same version is already published
lconwaymacOS 12.7.1 Monterey / x86_64  OK    OK    OK    OK  UNNEEDED, same version is already published
Package 75/84HostnameOS / ArchINSTALLBUILDCHECKBUILD BIN
simona 1.5.0  (landing page)
Zuguang Gu
git_last_commit: 40a2e14
git_last_commit_date: 2024-10-29 11:24:04 -0500
nebbiolo1Linux (Ubuntu 24.04.1 LTS) / x86_64  OK    OK    OK  UNNEEDED, same version is already published
palomino7Windows Server 2022 Datacenter / x64  OK    OK    OK    OK  UNNEEDED, same version is already published
lconwaymacOS 12.7.1 Monterey / x86_64  OK    OK    OK    OK  UNNEEDED, same version is already published
Package 76/84HostnameOS / ArchINSTALLBUILDCHECKBUILD BIN
simplifyEnrichment 2.1.0  (landing page)
Zuguang Gu
git_last_commit: 5590aab
git_last_commit_date: 2024-10-29 10:47:28 -0500
nebbiolo1Linux (Ubuntu 24.04.1 LTS) / x86_64  OK    OK    OK  UNNEEDED, same version is already published
palomino7Windows Server 2022 Datacenter / x64  OK    OK    OK    OK  UNNEEDED, same version is already published
lconwaymacOS 12.7.1 Monterey / x86_64  OK    OK    OK    OK  UNNEEDED, same version is already published
Package 77/84HostnameOS / ArchINSTALLBUILDCHECKBUILD BIN
singleCellTK 2.17.0  (landing page)
Joshua David Campbell
git_last_commit: 65dee790
git_last_commit_date: 2024-10-29 11:30:33 -0500
nebbiolo1Linux (Ubuntu 24.04.1 LTS) / x86_64  ERROR    ERROR  skipped
palomino7Windows Server 2022 Datacenter / x64  ERROR    ERROR  skippedskipped
lconwaymacOS 12.7.1 Monterey / x86_64  ERROR    ERROR  skippedskipped
Package 78/84HostnameOS / ArchINSTALLBUILDCHECKBUILD BIN
sparrow 1.13.4  (landing page)
Steve Lianoglou
git_last_commit: 960335c
git_last_commit_date: 2024-12-03 10:41:27 -0500
nebbiolo1Linux (Ubuntu 24.04.1 LTS) / x86_64  OK    OK    OK  UNNEEDED, same version is already published
palomino7Windows Server 2022 Datacenter / x64  OK    OK    OK    OK  UNNEEDED, same version is already published
lconwaymacOS 12.7.1 Monterey / x86_64  OK    OK    OK    OK  UNNEEDED, same version is already published
Package 79/84HostnameOS / ArchINSTALLBUILDCHECKBUILD BIN
SPONGE 1.29.0  (landing page)
Markus List
git_last_commit: 9357494
git_last_commit_date: 2024-10-29 10:21:48 -0500
nebbiolo1Linux (Ubuntu 24.04.1 LTS) / x86_64  OK    OK    WARNINGS  UNNEEDED, same version is already published
palomino7Windows Server 2022 Datacenter / x64  OK    OK    WARNINGS    OK  UNNEEDED, same version is already published
lconwaymacOS 12.7.1 Monterey / x86_64  OK    OK    WARNINGS    OK  UNNEEDED, same version is already published
Package 80/84HostnameOS / ArchINSTALLBUILDCHECKBUILD BIN
TBSignatureProfiler 1.19.0  (landing page)
Aubrey R. Odom
git_last_commit: d7f3c8a
git_last_commit_date: 2024-12-18 14:01:26 -0500
nebbiolo1Linux (Ubuntu 24.04.1 LTS) / x86_64  OK    OK    OK  UNNEEDED, same version is already published
palomino7Windows Server 2022 Datacenter / x64  OK    OK    OK    OK  NO, package depends on 'DESeq2' which is only available as a source package that needs compilation
lconwaymacOS 12.7.1 Monterey / x86_64  OK    OK    OK    OK  NO, package depends on 'DESeq2' which is only available as a source package that needs compilation
Package 81/84HostnameOS / ArchINSTALLBUILDCHECKBUILD BIN
TMSig 1.1.0  (landing page)
Tyler Sagendorf
git_last_commit: fcdbeea
git_last_commit_date: 2024-10-29 11:35:19 -0500
nebbiolo1Linux (Ubuntu 24.04.1 LTS) / x86_64  OK    OK    OK  UNNEEDED, same version is already published
palomino7Windows Server 2022 Datacenter / x64  OK    OK    OK    OK  UNNEEDED, same version is already published
lconwaymacOS 12.7.1 Monterey / x86_64  OK    OK    OK    OK  UNNEEDED, same version is already published
Package 82/84HostnameOS / ArchINSTALLBUILDCHECKBUILD BIN
ViSEAGO 1.21.0  (landing page)
Aurelien Brionne
git_last_commit: 28ecd50
git_last_commit_date: 2025-01-09 05:57:45 -0500
nebbiolo1Linux (Ubuntu 24.04.1 LTS) / x86_64  OK    OK    WARNINGS  UNNEEDED, same version is already published
palomino7Windows Server 2022 Datacenter / x64  OK    OK    WARNINGS    OK  UNNEEDED, same version is already published
lconwaymacOS 12.7.1 Monterey / x86_64  OK    OK    WARNINGS    OK  UNNEEDED, same version is already published
Package 83/84HostnameOS / ArchINSTALLBUILDCHECKBUILD BIN
Xeva 1.23.1  (landing page)
Benjamin Haibe-Kains
git_last_commit: 54c191f
git_last_commit_date: 2024-11-27 14:03:04 -0500
nebbiolo1Linux (Ubuntu 24.04.1 LTS) / x86_64  OK    OK    ERROR  
palomino7Windows Server 2022 Datacenter / x64  OK    OK    ERROR    OK  
lconwaymacOS 12.7.1 Monterey / x86_64  OK    OK    ERROR    OK  
Package 84/84HostnameOS / ArchINSTALLBUILDCHECKBUILD BIN
YAPSA 1.33.0  (landing page)
Zuguang Gu
git_last_commit: d41177e
git_last_commit_date: 2024-10-29 10:13:31 -0500
nebbiolo1Linux (Ubuntu 24.04.1 LTS) / x86_64  OK    OK    OK  UNNEEDED, same version is already published
palomino7Windows Server 2022 Datacenter / x64  OK    OK    OK    OK  UNNEEDED, same version is already published
lconwaymacOS 12.7.1 Monterey / x86_64  OK    OK    OK    OK  NO, package depends on 'VariantAnnotation' which is only available as a source package that needs compilation