Back to Multiple platform build/check report for BioC 3.8 |
|
This page was generated on 2019-04-13 11:29:38 -0400 (Sat, 13 Apr 2019).
Package 1604/1649 | Hostname | OS / Arch | INSTALL | BUILD | CHECK | BUILD BIN | ||||||
tximeta 1.0.3 Michael Love
| malbec1 | Linux (Ubuntu 16.04.6 LTS) / x86_64 | OK | OK | NA | |||||||
tokay1 | Windows Server 2012 R2 Standard / x64 | OK | OK | OK | [ OK ] | ![]() | ||||||
merida1 | OS X 10.11.6 El Capitan / x86_64 | OK | OK | OK | OK | ![]() |
Package: tximeta |
Version: 1.0.3 |
Command: rm -rf tximeta.buildbin-libdir && mkdir tximeta.buildbin-libdir && C:\Users\biocbuild\bbs-3.8-bioc\R\bin\R.exe CMD INSTALL --merge-multiarch --build --library=tximeta.buildbin-libdir tximeta_1.0.3.tar.gz |
StartedAt: 2019-04-13 08:03:05 -0400 (Sat, 13 Apr 2019) |
EndedAt: 2019-04-13 08:03:45 -0400 (Sat, 13 Apr 2019) |
EllapsedTime: 39.9 seconds |
RetCode: 0 |
Status: OK |
PackageFile: tximeta_1.0.3.zip |
PackageFileSize: 264.5 KiB |
############################################################################## ############################################################################## ### ### Running command: ### ### rm -rf tximeta.buildbin-libdir && mkdir tximeta.buildbin-libdir && C:\Users\biocbuild\bbs-3.8-bioc\R\bin\R.exe CMD INSTALL --merge-multiarch --build --library=tximeta.buildbin-libdir tximeta_1.0.3.tar.gz ### ############################################################################## ############################################################################## install for i386 * installing *source* package 'tximeta' ... ** R ** inst ** byte-compile and prepare package for lazy loading ** help *** installing help indices converting help for package 'tximeta' finding HTML links ... done addIds html getTximetaBFC html linkedTxome html summarizeToGene html tximeta html finding level-2 HTML links ... done ** building package indices ** installing vignettes ** testing if installed package can be loaded In R CMD INSTALL install for x64 * installing *source* package 'tximeta' ... ** testing if installed package can be loaded * MD5 sums packaged installation of 'tximeta' as tximeta_1.0.3.zip * DONE (tximeta) In R CMD INSTALL In R CMD INSTALL