Back to Multiple platform build/check report for BioC 3.8 |
|
This page was generated on 2019-04-16 12:13:39 -0400 (Tue, 16 Apr 2019).
Package 1579/1649 | Hostname | OS / Arch | INSTALL | BUILD | CHECK | BUILD BIN | ||||||
transite 1.0.2 Konstantin Krismer
| malbec1 | Linux (Ubuntu 16.04.6 LTS) / x86_64 | OK | OK | OK | |||||||
merida1 | OS X 10.11.6 El Capitan / x86_64 | OK | OK | [ OK ] | OK |
Package: transite |
Version: 1.0.2 |
Command: /Library/Frameworks/R.framework/Versions/Current/Resources/bin/R CMD check --install=check:transite.install-out.txt --library=/Library/Frameworks/R.framework/Versions/Current/Resources/library --no-vignettes --timings transite_1.0.2.tar.gz |
StartedAt: 2019-04-16 03:11:44 -0400 (Tue, 16 Apr 2019) |
EndedAt: 2019-04-16 03:16:15 -0400 (Tue, 16 Apr 2019) |
EllapsedTime: 271.2 seconds |
RetCode: 0 |
Status: OK |
CheckDir: transite.Rcheck |
Warnings: 0 |
############################################################################## ############################################################################## ### ### Running command: ### ### /Library/Frameworks/R.framework/Versions/Current/Resources/bin/R CMD check --install=check:transite.install-out.txt --library=/Library/Frameworks/R.framework/Versions/Current/Resources/library --no-vignettes --timings transite_1.0.2.tar.gz ### ############################################################################## ############################################################################## * using log directory ‘/Users/biocbuild/bbs-3.8-bioc/meat/transite.Rcheck’ * using R version 3.5.3 (2019-03-11) * using platform: x86_64-apple-darwin15.6.0 (64-bit) * using session charset: UTF-8 * using option ‘--no-vignettes’ * checking for file ‘transite/DESCRIPTION’ ... OK * this is package ‘transite’ version ‘1.0.2’ * package encoding: UTF-8 * checking package namespace information ... OK * checking package dependencies ... OK * checking if this is a source package ... OK * checking if there is a namespace ... OK * checking for hidden files and directories ... OK * checking for portable file names ... OK * checking for sufficient/correct file permissions ... OK * checking whether package ‘transite’ can be installed ... OK * checking installed package size ... OK * checking package directory ... OK * checking ‘build’ directory ... OK * checking DESCRIPTION meta-information ... OK * checking top-level files ... OK * checking for left-over files ... OK * checking index information ... OK * checking package subdirectories ... OK * checking R files for non-ASCII characters ... OK * checking R files for syntax errors ... OK * checking whether the package can be loaded ... OK * checking whether the package can be loaded with stated dependencies ... OK * checking whether the package can be unloaded cleanly ... OK * checking whether the namespace can be loaded with stated dependencies ... OK * checking whether the namespace can be unloaded cleanly ... OK * checking dependencies in R code ... OK * checking S3 generic/method consistency ... OK * checking replacement functions ... OK * checking foreign function calls ... OK * checking R code for possible problems ... OK * checking Rd files ... OK * checking Rd metadata ... OK * checking Rd cross-references ... OK * checking for missing documentation entries ... OK * checking for code/documentation mismatches ... OK * checking Rd \usage sections ... OK * checking Rd contents ... OK * checking for unstated dependencies in examples ... OK * checking contents of ‘data’ directory ... OK * checking data for non-ASCII characters ... OK * checking data for ASCII and uncompressed saves ... OK * checking line endings in C/C++/Fortran sources/headers ... OK * checking compiled code ... NOTE Note: information on .o files is not available * checking files in ‘vignettes’ ... OK * checking examples ... OK Examples with CPU or elapsed time > 5s user system elapsed runKmerSPMA 58.823 0.645 75.395 runKmerTSMA 56.309 0.146 57.011 calculateKmerEnrichment 7.382 0.019 7.479 runMatrixSPMA 3.186 0.033 5.430 * checking for unstated dependencies in vignettes ... OK * checking package vignettes in ‘inst/doc’ ... OK * checking running R code from vignettes ... SKIPPED * checking re-building of vignette outputs ... SKIPPED * checking PDF version of manual ... OK * DONE Status: 1 NOTE See ‘/Users/biocbuild/bbs-3.8-bioc/meat/transite.Rcheck/00check.log’ for details.
transite.Rcheck/00install.out
############################################################################## ############################################################################## ### ### Running command: ### ### /Library/Frameworks/R.framework/Versions/Current/Resources/bin/R CMD INSTALL transite ### ############################################################################## ############################################################################## * installing to library ‘/Library/Frameworks/R.framework/Versions/3.5/Resources/library’ * installing *source* package ‘transite’ ... ** libs clang++ -std=gnu++11 -I"/Library/Frameworks/R.framework/Resources/include" -DNDEBUG -I"/Library/Frameworks/R.framework/Versions/3.5/Resources/library/Rcpp/include" -I/usr/local/include -fPIC -Wall -g -O2 -c RcppExports.cpp -o RcppExports.o clang++ -std=gnu++11 -I"/Library/Frameworks/R.framework/Resources/include" -DNDEBUG -I"/Library/Frameworks/R.framework/Versions/3.5/Resources/library/Rcpp/include" -I/usr/local/include -fPIC -Wall -g -O2 -c scoring.cpp -o scoring.o clang++ -std=gnu++11 -dynamiclib -Wl,-headerpad_max_install_names -undefined dynamic_lookup -single_module -multiply_defined suppress -L/Library/Frameworks/R.framework/Resources/lib -L/usr/local/lib -o transite.so RcppExports.o scoring.o -F/Library/Frameworks/R.framework/.. -framework R -Wl,-framework -Wl,CoreFoundation installing to /Library/Frameworks/R.framework/Versions/3.5/Resources/library/transite/libs ** R ** data ** inst ** byte-compile and prepare package for lazy loading ** help *** installing help indices ** building package indices ** installing vignettes ** testing if installed package can be loaded * DONE (transite)
transite.Rcheck/transite-Ex.timings
name | user | system | elapsed | |
RBPMotif-class | 0.007 | 0.000 | 0.006 | |
SpectrumScore-class | 0.003 | 0.001 | 0.003 | |
calculateKmerEnrichment | 7.382 | 0.019 | 7.479 | |
calculateKmerScores | 0.005 | 0.001 | 0.006 | |
calculateLocalConsistency | 1.070 | 0.035 | 1.112 | |
calculateMotifEnrichment | 1.446 | 0.034 | 1.497 | |
calculateTranscriptMC | 0.01 | 0.00 | 0.01 | |
checkKmers | 0.000 | 0.001 | 0.001 | |
computeKmerEnrichment | 3.738 | 0.007 | 3.778 | |
createKmerMotif | 0.003 | 0.000 | 0.004 | |
createMatrixMotif | 0.005 | 0.000 | 0.005 | |
drawVolcanoPlot | 0.477 | 0.010 | 0.495 | |
empiricalEnrichmentMeanCDF | 0.004 | 0.001 | 0.005 | |
generateIUPACByKmers | 0.002 | 0.000 | 0.002 | |
generateIUPACByMatrix | 0.003 | 0.000 | 0.002 | |
generateKmers | 0.205 | 0.003 | 0.208 | |
generateKmersFromIUPAC | 0.002 | 0.000 | 0.002 | |
geometricMean | 0.000 | 0.000 | 0.001 | |
getMotifById | 0.007 | 0.000 | 0.008 | |
getMotifByRBP | 0.010 | 0.001 | 0.010 | |
getMotifs | 0.000 | 0.000 | 0.001 | |
getPPM | 0.007 | 0.001 | 0.008 | |
initIUPAClookupTable | 0.004 | 0.000 | 0.004 | |
motifsMetaInfo | 0.036 | 0.007 | 0.043 | |
pCombine | 0.001 | 0.000 | 0.002 | |
runKmerSPMA | 58.823 | 0.645 | 75.395 | |
runKmerTSMA | 56.309 | 0.146 | 57.011 | |
runMatrixSPMA | 3.186 | 0.033 | 5.430 | |
runMatrixTSMA | 0.019 | 0.001 | 0.020 | |
scoreSequences | 0.006 | 0.001 | 0.007 | |
scoreSpectrum | 1.514 | 0.028 | 1.551 | |
scoreTranscripts | 0.007 | 0.000 | 0.008 | |
setMotifs | 0.004 | 0.000 | 0.003 | |
spectrumClassifier | 1.538 | 0.037 | 1.588 | |
subdivideData | 0.005 | 0.000 | 0.006 | |