Back to Multiple platform build/check report for BioC 3.8 |
|
This page was generated on 2019-04-16 11:59:56 -0400 (Tue, 16 Apr 2019).
Package 1539/1649 | Hostname | OS / Arch | INSTALL | BUILD | CHECK | BUILD BIN | ||||||
synergyfinder 1.8.0 Liye He
| malbec1 | Linux (Ubuntu 16.04.6 LTS) / x86_64 | OK | OK | OK | |||||||
merida1 | OS X 10.11.6 El Capitan / x86_64 | OK | OK | OK | [ OK ] |
Package: synergyfinder |
Version: 1.8.0 |
Command: rm -rf synergyfinder.buildbin-libdir && mkdir synergyfinder.buildbin-libdir && /Users/biocbuild/BBS/utils/build-universal.sh synergyfinder_1.8.0.tar.gz /Library/Frameworks/R.framework/Versions/Current/Resources/bin/R synergyfinder.buildbin-libdir |
StartedAt: 2019-04-16 04:49:34 -0400 (Tue, 16 Apr 2019) |
EndedAt: 2019-04-16 04:50:33 -0400 (Tue, 16 Apr 2019) |
EllapsedTime: 58.9 seconds |
RetCode: 0 |
Status: OK |
PackageFile: synergyfinder_1.8.0.tgz |
PackageFileSize: 334.4 KiB |
############################################################################## ############################################################################## ### ### Running command: ### ### rm -rf synergyfinder.buildbin-libdir && mkdir synergyfinder.buildbin-libdir && /Users/biocbuild/BBS/utils/build-universal.sh synergyfinder_1.8.0.tar.gz /Library/Frameworks/R.framework/Versions/Current/Resources/bin/R synergyfinder.buildbin-libdir ### ############################################################################## ############################################################################## >>>>>>> >>>>>>> INSTALLATION WITH 'R CMD INSTALL --preclean --no-multiarch --library=synergyfinder.buildbin-libdir synergyfinder_1.8.0.tar.gz' >>>>>>> * installing *source* package ‘synergyfinder’ ... ** R ** data *** moving datasets to lazyload DB ** inst ** byte-compile and prepare package for lazy loading ** help *** installing help indices ** building package indices ** installing vignettes ** testing if installed package can be loaded * DONE (synergyfinder)