Back to Multiple platform build/check report for BioC 3.8 |
|
This page was generated on 2019-04-16 12:11:25 -0400 (Tue, 16 Apr 2019).
Package 1519/1649 | Hostname | OS / Arch | INSTALL | BUILD | CHECK | BUILD BIN | ||||||
strandCheckR 1.0.0 Thu-Hien To
| malbec1 | Linux (Ubuntu 16.04.6 LTS) / x86_64 | OK | OK | OK | ![]() | ||||||
merida1 | OS X 10.11.6 El Capitan / x86_64 | OK | OK | OK | [ OK ] | ![]() |
Package: strandCheckR |
Version: 1.0.0 |
Command: rm -rf strandCheckR.buildbin-libdir && mkdir strandCheckR.buildbin-libdir && /Users/biocbuild/BBS/utils/build-universal.sh strandCheckR_1.0.0.tar.gz /Library/Frameworks/R.framework/Versions/Current/Resources/bin/R strandCheckR.buildbin-libdir |
StartedAt: 2019-04-16 04:48:41 -0400 (Tue, 16 Apr 2019) |
EndedAt: 2019-04-16 04:49:26 -0400 (Tue, 16 Apr 2019) |
EllapsedTime: 44.4 seconds |
RetCode: 0 |
Status: OK |
PackageFile: strandCheckR_1.0.0.tgz |
PackageFileSize: 1.361 MiB |
############################################################################## ############################################################################## ### ### Running command: ### ### rm -rf strandCheckR.buildbin-libdir && mkdir strandCheckR.buildbin-libdir && /Users/biocbuild/BBS/utils/build-universal.sh strandCheckR_1.0.0.tar.gz /Library/Frameworks/R.framework/Versions/Current/Resources/bin/R strandCheckR.buildbin-libdir ### ############################################################################## ############################################################################## >>>>>>> >>>>>>> INSTALLATION WITH 'R CMD INSTALL --preclean --no-multiarch --library=strandCheckR.buildbin-libdir strandCheckR_1.0.0.tar.gz' >>>>>>> * installing *source* package ‘strandCheckR’ ... ** R ** inst ** byte-compile and prepare package for lazy loading ** help *** installing help indices ** building package indices ** installing vignettes ** testing if installed package can be loaded * DONE (strandCheckR)