Back to Multiple platform build/check report for BioC 3.8 |
|
This page was generated on 2019-04-13 11:28:29 -0400 (Sat, 13 Apr 2019).
Package 1306/1649 | Hostname | OS / Arch | INSTALL | BUILD | CHECK | BUILD BIN | ||||||
rhdf5client 1.4.1 Samuela Pollack
| malbec1 | Linux (Ubuntu 16.04.6 LTS) / x86_64 | OK | OK | WARNINGS | |||||||
tokay1 | Windows Server 2012 R2 Standard / x64 | [ OK ] | OK | WARNINGS | OK | |||||||
merida1 | OS X 10.11.6 El Capitan / x86_64 | OK | OK | WARNINGS | OK |
Package: rhdf5client |
Version: 1.4.1 |
Command: C:\cygwin\bin\curl.exe -O https://malbec1.bioconductor.org/BBS/3.8/bioc/src/contrib/rhdf5client_1.4.1.tar.gz && rm -rf rhdf5client.buildbin-libdir && mkdir rhdf5client.buildbin-libdir && C:\Users\biocbuild\bbs-3.8-bioc\R\bin\R.exe CMD INSTALL --merge-multiarch --build --library=rhdf5client.buildbin-libdir rhdf5client_1.4.1.tar.gz && C:\Users\biocbuild\bbs-3.8-bioc\R\bin\R.exe CMD INSTALL rhdf5client_1.4.1.zip && rm rhdf5client_1.4.1.tar.gz rhdf5client_1.4.1.zip |
StartedAt: 2019-04-12 19:16:28 -0400 (Fri, 12 Apr 2019) |
EndedAt: 2019-04-12 19:17:32 -0400 (Fri, 12 Apr 2019) |
EllapsedTime: 64.2 seconds |
RetCode: 0 |
Status: OK |
############################################################################## ############################################################################## ### ### Running command: ### ### C:\cygwin\bin\curl.exe -O https://malbec1.bioconductor.org/BBS/3.8/bioc/src/contrib/rhdf5client_1.4.1.tar.gz && rm -rf rhdf5client.buildbin-libdir && mkdir rhdf5client.buildbin-libdir && C:\Users\biocbuild\bbs-3.8-bioc\R\bin\R.exe CMD INSTALL --merge-multiarch --build --library=rhdf5client.buildbin-libdir rhdf5client_1.4.1.tar.gz && C:\Users\biocbuild\bbs-3.8-bioc\R\bin\R.exe CMD INSTALL rhdf5client_1.4.1.zip && rm rhdf5client_1.4.1.tar.gz rhdf5client_1.4.1.zip ### ############################################################################## ############################################################################## % Total % Received % Xferd Average Speed Time Time Time Current Dload Upload Total Spent Left Speed 0 0 0 0 0 0 0 0 --:--:-- --:--:-- --:--:-- 0 100 301k 100 301k 0 0 6786k 0 --:--:-- --:--:-- --:--:-- 7362k install for i386 * installing *source* package 'rhdf5client' ... ** libs C:/Rtools/mingw_32/bin/gcc -I"C:/Users/BIOCBU˜1/BBS-3˜1.8-B/R/include" -DNDEBUG -I"C:/extsoft/include" -O3 -Wall -std=gnu99 -mtune=generic -c extract.c -o extract.o extract.c: In function 'extractBin': extract.c:101:42: warning: 'rdp' may be used uninitialized in this function [-Wmaybe-uninitialized] A[ia] = (Rf_isReal(resvec_sexp) ? rdp[ib] : rip[ib]); ^ extract.c:101:52: warning: 'rip' may be used uninitialized in this function [-Wmaybe-uninitialized] A[ia] = (Rf_isReal(resvec_sexp) ? rdp[ib] : rip[ib]); ^ C:/Rtools/mingw_32/bin/gcc -shared -s -static-libgcc -o rhdf5client.dll tmp.def extract.o -LC:/extsoft/lib/i386 -LC:/extsoft/lib -LC:/Users/BIOCBU˜1/BBS-3˜1.8-B/R/bin/i386 -lR installing to C:/Users/biocbuild/bbs-3.8-bioc/meat/rhdf5client.buildbin-libdir/rhdf5client/libs/i386 ** R ** inst ** byte-compile and prepare package for lazy loading ** help *** installing help indices converting help for package 'rhdf5client' finding HTML links ... done H5S_Array-class html H5S_Array html H5S_ArraySeed-class html H5S_Matrix-class html H5S_dataset html H5S_dataset2 html H5S_source-class html HSDSArray html HSDSArraySeed html HSDSDataset-class html HSDSDataset html HSDSFile-class html HSDSFile html HSDSMatrix html HSDSSource-class html HSDSSource html HSDS_Matrix html HSDS_Matrix_OLD html URL_h5serv html URL_hsds html as html dataset html dim html dimnames html domains html dsmeta html extract-methods html extract_array html fetchDatasets html getData-methods html getDatasetAttrs html getDatasetSlice html getDatasetUUIDs html getDims html getHRDF html getReq html groups-methods html hsdsInfo html internalDim html links html listDatasets html listDomains-methods html rhdf5client html setPath html sproc html targets html transfermode html ** building package indices ** installing vignettes ** testing if installed package can be loaded In R CMD INSTALL install for x64 * installing *source* package 'rhdf5client' ... ** libs C:/Rtools/mingw_64/bin/gcc -I"C:/Users/BIOCBU˜1/BBS-3˜1.8-B/R/include" -DNDEBUG -I"C:/extsoft/include" -O2 -Wall -std=gnu99 -mtune=generic -c extract.c -o extract.o extract.c: In function 'extractBin': extract.c:101:42: warning: 'rdp' may be used uninitialized in this function [-Wmaybe-uninitialized] A[ia] = (Rf_isReal(resvec_sexp) ? rdp[ib] : rip[ib]); ^ extract.c:101:52: warning: 'rip' may be used uninitialized in this function [-Wmaybe-uninitialized] A[ia] = (Rf_isReal(resvec_sexp) ? rdp[ib] : rip[ib]); ^ C:/Rtools/mingw_64/bin/gcc -shared -s -static-libgcc -o rhdf5client.dll tmp.def extract.o -LC:/extsoft/lib/x64 -LC:/extsoft/lib -LC:/Users/BIOCBU˜1/BBS-3˜1.8-B/R/bin/x64 -lR installing to C:/Users/biocbuild/bbs-3.8-bioc/meat/rhdf5client.buildbin-libdir/rhdf5client/libs/x64 ** testing if installed package can be loaded * MD5 sums packaged installation of 'rhdf5client' as rhdf5client_1.4.1.zip * DONE (rhdf5client) In R CMD INSTALL In R CMD INSTALL * installing to library 'C:/Users/biocbuild/bbs-3.8-bioc/R/library' package 'rhdf5client' successfully unpacked and MD5 sums checked In R CMD INSTALL