Back to Multiple platform build/check report for BioC 3.8 |
|
This page was generated on 2019-04-13 11:20:57 -0400 (Sat, 13 Apr 2019).
Package 547/1649 | Hostname | OS / Arch | INSTALL | BUILD | CHECK | BUILD BIN | ||||||
flowStats 3.40.1 Greg Finak
| malbec1 | Linux (Ubuntu 16.04.6 LTS) / x86_64 | OK | OK | OK | |||||||
tokay1 | Windows Server 2012 R2 Standard / x64 | [ OK ] | OK | WARNINGS | OK | |||||||
merida1 | OS X 10.11.6 El Capitan / x86_64 | OK | OK | OK | OK |
Package: flowStats |
Version: 3.40.1 |
Command: C:\cygwin\bin\curl.exe -O https://malbec1.bioconductor.org/BBS/3.8/bioc/src/contrib/flowStats_3.40.1.tar.gz && rm -rf flowStats.buildbin-libdir && mkdir flowStats.buildbin-libdir && C:\Users\biocbuild\bbs-3.8-bioc\R\bin\R.exe CMD INSTALL --merge-multiarch --build --library=flowStats.buildbin-libdir flowStats_3.40.1.tar.gz && C:\Users\biocbuild\bbs-3.8-bioc\R\bin\R.exe CMD INSTALL flowStats_3.40.1.zip && rm flowStats_3.40.1.tar.gz flowStats_3.40.1.zip |
StartedAt: 2019-04-12 19:38:39 -0400 (Fri, 12 Apr 2019) |
EndedAt: 2019-04-12 19:39:57 -0400 (Fri, 12 Apr 2019) |
EllapsedTime: 77.8 seconds |
RetCode: 0 |
Status: OK |
############################################################################## ############################################################################## ### ### Running command: ### ### C:\cygwin\bin\curl.exe -O https://malbec1.bioconductor.org/BBS/3.8/bioc/src/contrib/flowStats_3.40.1.tar.gz && rm -rf flowStats.buildbin-libdir && mkdir flowStats.buildbin-libdir && C:\Users\biocbuild\bbs-3.8-bioc\R\bin\R.exe CMD INSTALL --merge-multiarch --build --library=flowStats.buildbin-libdir flowStats_3.40.1.tar.gz && C:\Users\biocbuild\bbs-3.8-bioc\R\bin\R.exe CMD INSTALL flowStats_3.40.1.zip && rm flowStats_3.40.1.tar.gz flowStats_3.40.1.zip ### ############################################################################## ############################################################################## % Total % Received % Xferd Average Speed Time Time Time Current Dload Upload Total Spent Left Speed 0 0 0 0 0 0 0 0 --:--:-- --:--:-- --:--:-- 0 100 1504k 100 1504k 0 0 26.6M 0 --:--:-- --:--:-- --:--:-- 28.2M install for i386 * installing *source* package 'flowStats' ... ** R ** data ** byte-compile and prepare package for lazy loading ** help *** installing help indices converting help for package 'flowStats' finding HTML links ... done BackGating html ITN html addName-methods html autoGate html binByRef html calcPBChiSquare html calcPearsonChi html curv1Filter-class html finding level-2 HTML links ... done curv2Filter-class html curvPeaks html density1d html fdPar html flowStats-package html gate_singlet html gaussNorm html gpaSet html iProcrustes html idFeaturesByBackgating html landmarkMatrix html lymphGate html normQA html normalize html Rd warning: C:/Users/biocbuild/bbs-3.8-bioc/tmpdir/RtmpS8CDdf/R.INSTALL194c1ba74c54/flowStats/man/normalize.Rd:58: file link 'ncdfFlowSet' in package 'ncdfFlow' does not exist and so has been treated as a topic overton_like html plotBins html proBin html quadrantGate html rangeGate html warpSet html ** building package indices ** installing vignettes ** testing if installed package can be loaded In R CMD INSTALL install for x64 * installing *source* package 'flowStats' ... ** testing if installed package can be loaded * MD5 sums packaged installation of 'flowStats' as flowStats_3.40.1.zip * DONE (flowStats) In R CMD INSTALL In R CMD INSTALL * installing to library 'C:/Users/biocbuild/bbs-3.8-bioc/R/library' package 'flowStats' successfully unpacked and MD5 sums checked In R CMD INSTALL