Back to Multiple platform build/check report for BioC 3.8 |
|
This page was generated on 2019-04-16 12:00:58 -0400 (Tue, 16 Apr 2019).
Package 1557/1649 | Hostname | OS / Arch | INSTALL | BUILD | CHECK | BUILD BIN | ||||||
TFHAZ 1.4.0 Alberto Marchesi
| malbec1 | Linux (Ubuntu 16.04.6 LTS) / x86_64 | OK | OK | OK | ![]() | ||||||
merida1 | OS X 10.11.6 El Capitan / x86_64 | OK | OK | OK | [ OK ] | ![]() |
Package: TFHAZ |
Version: 1.4.0 |
Command: rm -rf TFHAZ.buildbin-libdir && mkdir TFHAZ.buildbin-libdir && /Users/biocbuild/BBS/utils/build-universal.sh TFHAZ_1.4.0.tar.gz /Library/Frameworks/R.framework/Versions/Current/Resources/bin/R TFHAZ.buildbin-libdir |
StartedAt: 2019-04-16 04:50:35 -0400 (Tue, 16 Apr 2019) |
EndedAt: 2019-04-16 04:51:25 -0400 (Tue, 16 Apr 2019) |
EllapsedTime: 49.7 seconds |
RetCode: 0 |
Status: OK |
PackageFile: TFHAZ_1.4.0.tgz |
PackageFileSize: 3.421 MiB |
############################################################################## ############################################################################## ### ### Running command: ### ### rm -rf TFHAZ.buildbin-libdir && mkdir TFHAZ.buildbin-libdir && /Users/biocbuild/BBS/utils/build-universal.sh TFHAZ_1.4.0.tar.gz /Library/Frameworks/R.framework/Versions/Current/Resources/bin/R TFHAZ.buildbin-libdir ### ############################################################################## ############################################################################## >>>>>>> >>>>>>> INSTALLATION WITH 'R CMD INSTALL --preclean --no-multiarch --library=TFHAZ.buildbin-libdir TFHAZ_1.4.0.tar.gz' >>>>>>> * installing *source* package ‘TFHAZ’ ... ** R ** data *** moving datasets to lazyload DB ** inst ** byte-compile and prepare package for lazy loading ** help *** installing help indices ** building package indices ** installing vignettes ** testing if installed package can be loaded * DONE (TFHAZ)