Back to Multiple platform build/check report for BioC 3.8 |
|
This page was generated on 2019-04-16 11:49:13 -0400 (Tue, 16 Apr 2019).
Package 1290/1649 | Hostname | OS / Arch | INSTALL | BUILD | CHECK | BUILD BIN | ||||||
Repitools 1.28.0 Mark Robinson
| malbec1 | Linux (Ubuntu 16.04.6 LTS) / x86_64 | [ OK ] | OK | OK | ![]() | ||||||
merida1 | OS X 10.11.6 El Capitan / x86_64 | OK | OK | OK | OK | ![]() |
Package: Repitools |
Version: 1.28.0 |
Command: /home/biocbuild/bbs-3.8-bioc/R/bin/R CMD INSTALL Repitools |
StartedAt: 2019-04-15 18:22:18 -0400 (Mon, 15 Apr 2019) |
EndedAt: 2019-04-15 18:22:52 -0400 (Mon, 15 Apr 2019) |
EllapsedTime: 34.3 seconds |
RetCode: 0 |
Status: OK |
############################################################################## ############################################################################## ### ### Running command: ### ### /home/biocbuild/bbs-3.8-bioc/R/bin/R CMD INSTALL Repitools ### ############################################################################## ############################################################################## * installing to library ‘/home/biocbuild/bbs-3.8-bioc/R/library’ * installing *source* package ‘Repitools’ ... ** libs gcc -I"/home/biocbuild/bbs-3.8-bioc/R/include" -DNDEBUG -I/usr/local/include -D R_NO_REMAP -I. -fpic -g -O2 -Wall -c const.c -o const.o gcc -I"/home/biocbuild/bbs-3.8-bioc/R/include" -DNDEBUG -I/usr/local/include -D R_NO_REMAP -I. -fpic -g -O2 -Wall -c hyp2f1.c -o hyp2f1.o gcc -I"/home/biocbuild/bbs-3.8-bioc/R/include" -DNDEBUG -I/usr/local/include -D R_NO_REMAP -I. -fpic -g -O2 -Wall -c mtherr.c -o mtherr.o gcc -shared -L/home/biocbuild/bbs-3.8-bioc/R/lib -L/usr/local/lib -o Repitools.so const.o hyp2f1.o mtherr.o -L/home/biocbuild/bbs-3.8-bioc/R/lib -lR installing to /home/biocbuild/bbs-3.8-bioc/R/library/Repitools/libs ** R ** data ** inst ** byte-compile and prepare package for lazy loading ** help *** installing help indices ** building package indices ** installing vignettes ** testing if installed package can be loaded * DONE (Repitools)