Back to Multiple platform build/check report for BioC 3.8 |
|
This page was generated on 2019-04-13 11:25:25 -0400 (Sat, 13 Apr 2019).
Package 1361/1649 | Hostname | OS / Arch | INSTALL | BUILD | CHECK | BUILD BIN | ||||||
RTCGAToolbox 2.12.1 Marcel Ramos
| malbec1 | Linux (Ubuntu 16.04.6 LTS) / x86_64 | OK | OK | OK | |||||||
tokay1 | Windows Server 2012 R2 Standard / x64 | OK | OK | WARNINGS | [ OK ] | |||||||
merida1 | OS X 10.11.6 El Capitan / x86_64 | OK | OK | OK | OK |
Package: RTCGAToolbox |
Version: 2.12.1 |
Command: rm -rf RTCGAToolbox.buildbin-libdir && mkdir RTCGAToolbox.buildbin-libdir && C:\Users\biocbuild\bbs-3.8-bioc\R\bin\R.exe CMD INSTALL --merge-multiarch --build --library=RTCGAToolbox.buildbin-libdir RTCGAToolbox_2.12.1.tar.gz |
StartedAt: 2019-04-13 07:54:04 -0400 (Sat, 13 Apr 2019) |
EndedAt: 2019-04-13 07:54:33 -0400 (Sat, 13 Apr 2019) |
EllapsedTime: 29.6 seconds |
RetCode: 0 |
Status: OK |
PackageFile: RTCGAToolbox_2.12.1.zip |
PackageFileSize: 3.301 MiB |
############################################################################## ############################################################################## ### ### Running command: ### ### rm -rf RTCGAToolbox.buildbin-libdir && mkdir RTCGAToolbox.buildbin-libdir && C:\Users\biocbuild\bbs-3.8-bioc\R\bin\R.exe CMD INSTALL --merge-multiarch --build --library=RTCGAToolbox.buildbin-libdir RTCGAToolbox_2.12.1.tar.gz ### ############################################################################## ############################################################################## install for i386 * installing *source* package 'RTCGAToolbox' ... ** R ** data *** moving datasets to lazyload DB ** inst ** byte-compile and prepare package for lazy loading ** help *** installing help indices converting help for package 'RTCGAToolbox' finding HTML links ... done CorResult-class html DGEResult-class html FirehoseCGHArray-class html FirehoseData-class html FirehoseGISTIC-class html FirehoseMethylationArray-class html FirehosemRNAArray-class html RTCGASample html RTCGAToolbox html biocExtract html finding level-2 HTML links ... done Rd warning: C:/Users/biocbuild/bbs-3.8-bioc/tmpdir/Rtmp8YGMji/R.INSTALL16783d7b1665/RTCGAToolbox/man/biocExtract.Rd:32: file link 'RaggedExperiment' in package 'RaggedExperiment' does not exist and so has been treated as a topic getBroadSubtypes html getCNGECorrelation html getData html getDiffExpressedGenes html getFirehoseAnalyzeDates html getFirehoseData html getFirehoseDatasets html getFirehoseRunningDates html getGISTICPeaks html getMutationRate html getReport html getSurvival html hg19.ucsc.gene.locations html selectType html showResults-CorResult html showResults-DGEResult html showResults html ** building package indices ** installing vignettes ** testing if installed package can be loaded In R CMD INSTALL install for x64 * installing *source* package 'RTCGAToolbox' ... ** testing if installed package can be loaded * MD5 sums packaged installation of 'RTCGAToolbox' as RTCGAToolbox_2.12.1.zip * DONE (RTCGAToolbox) In R CMD INSTALL In R CMD INSTALL