Back to Multiple platform build/check report for BioC 3.8 |
|
This page was generated on 2019-04-13 11:29:12 -0400 (Sat, 13 Apr 2019).
Package 1354/1649 | Hostname | OS / Arch | INSTALL | BUILD | CHECK | BUILD BIN | ||||||
RSeqAn 1.2.0 August Guang
| malbec1 | Linux (Ubuntu 16.04.6 LTS) / x86_64 | OK | OK | OK | |||||||
tokay1 | Windows Server 2012 R2 Standard / x64 | [ OK ] | OK | OK | OK | |||||||
merida1 | OS X 10.11.6 El Capitan / x86_64 | OK | OK | OK | OK |
Package: RSeqAn |
Version: 1.2.0 |
Command: C:\cygwin\bin\curl.exe -O https://malbec1.bioconductor.org/BBS/3.8/bioc/src/contrib/RSeqAn_1.2.0.tar.gz && rm -rf RSeqAn.buildbin-libdir && mkdir RSeqAn.buildbin-libdir && C:\Users\biocbuild\bbs-3.8-bioc\R\bin\R.exe CMD INSTALL --merge-multiarch --build --library=RSeqAn.buildbin-libdir RSeqAn_1.2.0.tar.gz && C:\Users\biocbuild\bbs-3.8-bioc\R\bin\R.exe CMD INSTALL RSeqAn_1.2.0.zip && rm RSeqAn_1.2.0.tar.gz RSeqAn_1.2.0.zip |
StartedAt: 2019-04-12 18:22:34 -0400 (Fri, 12 Apr 2019) |
EndedAt: 2019-04-12 18:31:51 -0400 (Fri, 12 Apr 2019) |
EllapsedTime: 556.8 seconds |
RetCode: 0 |
Status: OK |
############################################################################## ############################################################################## ### ### Running command: ### ### C:\cygwin\bin\curl.exe -O https://malbec1.bioconductor.org/BBS/3.8/bioc/src/contrib/RSeqAn_1.2.0.tar.gz && rm -rf RSeqAn.buildbin-libdir && mkdir RSeqAn.buildbin-libdir && C:\Users\biocbuild\bbs-3.8-bioc\R\bin\R.exe CMD INSTALL --merge-multiarch --build --library=RSeqAn.buildbin-libdir RSeqAn_1.2.0.tar.gz && C:\Users\biocbuild\bbs-3.8-bioc\R\bin\R.exe CMD INSTALL RSeqAn_1.2.0.zip && rm RSeqAn_1.2.0.tar.gz RSeqAn_1.2.0.zip ### ############################################################################## ############################################################################## % Total % Received % Xferd Average Speed Time Time Time Current Dload Upload Total Spent Left Speed 0 0 0 0 0 0 0 0 --:--:-- --:--:-- --:--:-- 0 100 1719k 100 1719k 0 0 24.9M 0 --:--:-- --:--:-- --:--:-- 26.6M install for i386 * installing *source* package 'RSeqAn' ... ** inst ** help No man pages found in package 'RSeqAn' *** installing help indices ** building package indices ** installing vignettes ** testing if installed package can be loaded In R CMD INSTALL install for x64 * installing *source* package 'RSeqAn' ... ** testing if installed package can be loaded * MD5 sums packaged installation of 'RSeqAn' as RSeqAn_1.2.0.zip * DONE (RSeqAn) In R CMD INSTALL In R CMD INSTALL * installing to library 'C:/Users/biocbuild/bbs-3.8-bioc/R/library' package 'RSeqAn' successfully unpacked and MD5 sums checked In R CMD INSTALL