Back to Multiple platform build/check report for BioC 3.8 |
|
This page was generated on 2019-04-13 11:29:51 -0400 (Sat, 13 Apr 2019).
Package 300/1649 | Hostname | OS / Arch | INSTALL | BUILD | CHECK | BUILD BIN | ||||||
COCOA 1.0.2 John Lawson
| malbec1 | Linux (Ubuntu 16.04.6 LTS) / x86_64 | OK | OK | OK | |||||||
tokay1 | Windows Server 2012 R2 Standard / x64 | OK | OK | OK | [ OK ] | |||||||
merida1 | OS X 10.11.6 El Capitan / x86_64 | OK | OK | OK | OK |
Package: COCOA |
Version: 1.0.2 |
Command: rm -rf COCOA.buildbin-libdir && mkdir COCOA.buildbin-libdir && C:\Users\biocbuild\bbs-3.8-bioc\R\bin\R.exe CMD INSTALL --merge-multiarch --build --library=COCOA.buildbin-libdir COCOA_1.0.2.tar.gz |
StartedAt: 2019-04-13 07:05:28 -0400 (Sat, 13 Apr 2019) |
EndedAt: 2019-04-13 07:06:14 -0400 (Sat, 13 Apr 2019) |
EllapsedTime: 45.6 seconds |
RetCode: 0 |
Status: OK |
PackageFile: COCOA_1.0.2.zip |
PackageFileSize: 1.966 MiB |
############################################################################## ############################################################################## ### ### Running command: ### ### rm -rf COCOA.buildbin-libdir && mkdir COCOA.buildbin-libdir && C:\Users\biocbuild\bbs-3.8-bioc\R\bin\R.exe CMD INSTALL --merge-multiarch --build --library=COCOA.buildbin-libdir COCOA_1.0.2.tar.gz ### ############################################################################## ############################################################################## install for i386 * installing *source* package 'COCOA' ... ** R ** data ** inst ** byte-compile and prepare package for lazy loading ** help *** installing help indices converting help for package 'COCOA' finding HTML links ... done COCOA html aggregateLoadings html atf3_chr1 html brcaLoadings1 html brcaMCoord1 html brcaMethylData1 html brcaPCScores html brcaPCScores657 html esr1_chr1 html gata3_chr1 html getLoadingProfile html nrf1_chr1 html regionQuantileByPC html rsRankingIndex html rsScoreHeatmap html rsScores html runCOCOA html signalAlongPC html ** building package indices ** installing vignettes ** testing if installed package can be loaded In R CMD INSTALL install for x64 * installing *source* package 'COCOA' ... ** testing if installed package can be loaded * MD5 sums packaged installation of 'COCOA' as COCOA_1.0.2.zip * DONE (COCOA) In R CMD INSTALL In R CMD INSTALL