Back to Multiple platform build/check report for BioC 3.8 |
|
This page was generated on 2019-04-16 11:50:11 -0400 (Tue, 16 Apr 2019).
Package 126/1649 | Hostname | OS / Arch | INSTALL | BUILD | CHECK | BUILD BIN | ||||||
BiGGR 1.18.0 Anand K. Gavai
| malbec1 | Linux (Ubuntu 16.04.6 LTS) / x86_64 | OK | OK | [ OK ] | |||||||
merida1 | OS X 10.11.6 El Capitan / x86_64 | OK | OK | OK | OK |
Package: BiGGR |
Version: 1.18.0 |
Command: /home/biocbuild/bbs-3.8-bioc/R/bin/R CMD check --install=check:BiGGR.install-out.txt --library=/home/biocbuild/bbs-3.8-bioc/R/library --no-vignettes --timings BiGGR_1.18.0.tar.gz |
StartedAt: 2019-04-15 22:26:27 -0400 (Mon, 15 Apr 2019) |
EndedAt: 2019-04-15 22:32:03 -0400 (Mon, 15 Apr 2019) |
EllapsedTime: 336.0 seconds |
RetCode: 0 |
Status: OK |
CheckDir: BiGGR.Rcheck |
Warnings: 0 |
############################################################################## ############################################################################## ### ### Running command: ### ### /home/biocbuild/bbs-3.8-bioc/R/bin/R CMD check --install=check:BiGGR.install-out.txt --library=/home/biocbuild/bbs-3.8-bioc/R/library --no-vignettes --timings BiGGR_1.18.0.tar.gz ### ############################################################################## ############################################################################## * using log directory ‘/home/biocbuild/bbs-3.8-bioc/meat/BiGGR.Rcheck’ * using R version 3.5.3 (2019-03-11) * using platform: x86_64-pc-linux-gnu (64-bit) * using session charset: UTF-8 * using option ‘--no-vignettes’ * checking for file ‘BiGGR/DESCRIPTION’ ... OK * checking extension type ... Package * this is package ‘BiGGR’ version ‘1.18.0’ * checking package namespace information ... OK * checking package dependencies ... OK * checking if this is a source package ... OK * checking if there is a namespace ... OK * checking for hidden files and directories ... NOTE Found the following hidden files and directories: .BBSoptions These were most likely included in error. See section ‘Package structure’ in the ‘Writing R Extensions’ manual. * checking for portable file names ... OK * checking for sufficient/correct file permissions ... OK * checking whether package ‘BiGGR’ can be installed ... OK * checking installed package size ... OK * checking package directory ... OK * checking ‘build’ directory ... OK * checking DESCRIPTION meta-information ... OK * checking top-level files ... OK * checking for left-over files ... OK * checking index information ... OK * checking package subdirectories ... OK * checking R files for non-ASCII characters ... OK * checking R files for syntax errors ... OK * checking whether the package can be loaded ... OK * checking whether the package can be loaded with stated dependencies ... OK * checking whether the package can be unloaded cleanly ... OK * checking whether the namespace can be loaded with stated dependencies ... OK * checking whether the namespace can be unloaded cleanly ... OK * checking dependencies in R code ... NOTE Package in Depends field not imported from: ‘stringr’ These packages need to be imported from (in the NAMESPACE file) for when this namespace is loaded but not attached. * checking S3 generic/method consistency ... OK * checking replacement functions ... OK * checking foreign function calls ... OK * checking R code for possible problems ... NOTE .buildSubModel: no visible global function definition for ‘new’ buildSBMLFromBiGG: no visible global function definition for ‘read.delim’ buildSBMLFromBiGG : <anonymous>: no visible global function definition for ‘new’ buildSBMLFromBiGG: no visible global function definition for ‘new’ createLIMFromSBML: no visible global function definition for ‘hasArg’ gprMapping: no visible global function definition for ‘str_detect’ gprMapping: no visible global function definition for ‘na.omit’ gprMappingAvg: no visible global function definition for ‘na.omit’ sampleFluxEnsemble: no visible global function definition for ‘Xsample’ sbml2hyperdraw: no visible global function definition for ‘hasArg’ sbml2hyperdraw: no visible global function definition for ‘graphLayout’ sbml2hyperdraw: no visible global function definition for ‘nodeDataDefaults<-’ sbml2hyperdraw: no visible global function definition for ‘edgeDataDefaults<-’ sbml2hyperdraw: no visible global function definition for ‘graphDataDefaults<-’ sbml2hyperdraw : <anonymous>: no visible global function definition for ‘edgeData<-’ Undefined global functions or variables: Xsample edgeData<- edgeDataDefaults<- graphDataDefaults<- graphLayout hasArg na.omit new nodeDataDefaults<- read.delim str_detect Consider adding importFrom("methods", "hasArg", "new") importFrom("stats", "na.omit") importFrom("utils", "read.delim") to your NAMESPACE file (and ensure that your DESCRIPTION Imports field contains 'methods'). * checking Rd files ... OK * checking Rd metadata ... OK * checking Rd cross-references ... OK * checking for missing documentation entries ... OK * checking for code/documentation mismatches ... OK * checking Rd \usage sections ... OK * checking Rd contents ... OK * checking for unstated dependencies in examples ... OK * checking contents of ‘data’ directory ... OK * checking data for non-ASCII characters ... OK * checking data for ASCII and uncompressed saves ... OK * checking files in ‘vignettes’ ... OK * checking examples ... OK Examples with CPU or elapsed time > 5s user system elapsed gprMapping 186.148 0.176 187.604 gprMappingAvg 14.520 0.004 14.554 buildSBMLFromGenes 8.528 0.180 8.901 buildSBMLFromPathways 5.828 0.020 5.861 * checking for unstated dependencies in vignettes ... OK * checking package vignettes in ‘inst/doc’ ... OK * checking running R code from vignettes ... SKIPPED * checking re-building of vignette outputs ... SKIPPED * checking PDF version of manual ... OK * DONE Status: 3 NOTEs See ‘/home/biocbuild/bbs-3.8-bioc/meat/BiGGR.Rcheck/00check.log’ for details.
BiGGR.Rcheck/00install.out
############################################################################## ############################################################################## ### ### Running command: ### ### /home/biocbuild/bbs-3.8-bioc/R/bin/R CMD INSTALL BiGGR ### ############################################################################## ############################################################################## * installing to library ‘/home/biocbuild/bbs-3.8-bioc/R/library’ * installing *source* package ‘BiGGR’ ... ** R ** data ** inst ** byte-compile and prepare package for lazy loading ** help *** installing help indices ** building package indices ** installing vignettes ** testing if installed package can be loaded * DONE (BiGGR)
BiGGR.Rcheck/BiGGR-Ex.timings
name | user | system | elapsed | |
BiGGR-package | 3.584 | 0.116 | 3.776 | |
E.coli_iAF1260 | 1.120 | 0.068 | 1.217 | |
E.coli_iJR904 | 0.560 | 0.004 | 0.576 | |
E.coli_textbook | 0.068 | 0.028 | 0.098 | |
H.pylori_ilT341 | 0.264 | 0.044 | 0.306 | |
H.sapiens_Recon1 | 1.836 | 0.068 | 1.924 | |
M.barkeri_iAF692 | 0.364 | 0.100 | 0.607 | |
M.tuberculosis_iNJ661 | 0.476 | 0.040 | 0.520 | |
P.putida_iJN746 | 0.484 | 0.044 | 0.547 | |
Recon2 | 2.992 | 0.072 | 3.143 | |
S.aureus_iSB619 | 0.324 | 0.040 | 0.392 | |
S.cerevisiae_iND750 | 0.520 | 0.040 | 0.578 | |
buildSBMLFromBiGG | 0.128 | 0.016 | 0.169 | |
buildSBMLFromGenes | 8.528 | 0.180 | 8.901 | |
buildSBMLFromPathways | 5.828 | 0.020 | 5.861 | |
buildSBMLFromReactionIDs | 2.952 | 0.008 | 2.996 | |
createLIMFromBiGG | 0.152 | 0.000 | 0.154 | |
createLIMFromSBML | 1.420 | 0.040 | 1.465 | |
extractGeneAssociations | 3.512 | 0.008 | 3.521 | |
extractPathways | 3.148 | 0.000 | 3.173 | |
getPathwaysForSBML | 4.040 | 0.000 | 4.122 | |
getRates | 0.004 | 0.000 | 1.041 | |
gprMapping | 186.148 | 0.176 | 187.604 | |
gprMappingAvg | 14.520 | 0.004 | 14.554 | |
lying.tunell.data | 0.004 | 0.000 | 0.046 | |
rmvSpliceVariant | 2.004 | 0.000 | 2.004 | |
sampleFluxEnsemble | 3.000 | 0.032 | 3.113 | |
sbml2hyperdraw | 2.796 | 0.000 | 2.797 | |