Back to Multiple platform build/check report for BioC 3.7 |
|
This page was generated on 2018-10-17 08:38:34 -0400 (Wed, 17 Oct 2018).
Package 861/1561 | Hostname | OS / Arch | INSTALL | BUILD | CHECK | BUILD BIN | ||||||
MeSHDbi 1.16.0 Koki Tsuyuzaki
| malbec2 | Linux (Ubuntu 16.04.1 LTS) / x86_64 | OK | OK | OK | ![]() | ||||||
tokay2 | Windows Server 2012 R2 Standard / x64 | OK | OK | OK | [ OK ] | ![]() | ||||||
merida2 | OS X 10.11.6 El Capitan / x86_64 | OK | OK | OK | OK | ![]() |
Package: MeSHDbi |
Version: 1.16.0 |
Command: rm -rf MeSHDbi.buildbin-libdir && mkdir MeSHDbi.buildbin-libdir && C:\Users\biocbuild\bbs-3.7-bioc\R\bin\R.exe CMD INSTALL --merge-multiarch --build --library=MeSHDbi.buildbin-libdir MeSHDbi_1.16.0.tar.gz |
StartedAt: 2018-10-17 06:39:22 -0400 (Wed, 17 Oct 2018) |
EndedAt: 2018-10-17 06:39:46 -0400 (Wed, 17 Oct 2018) |
EllapsedTime: 24.4 seconds |
RetCode: 0 |
Status: OK |
PackageFile: MeSHDbi_1.16.0.zip |
PackageFileSize: 321.5 KiB |
############################################################################## ############################################################################## ### ### Running command: ### ### rm -rf MeSHDbi.buildbin-libdir && mkdir MeSHDbi.buildbin-libdir && C:\Users\biocbuild\bbs-3.7-bioc\R\bin\R.exe CMD INSTALL --merge-multiarch --build --library=MeSHDbi.buildbin-libdir MeSHDbi_1.16.0.tar.gz ### ############################################################################## ############################################################################## install for i386 * installing *source* package 'MeSHDbi' ... ** R ** data ** inst ** byte-compile and prepare package for lazy loading Creating a new generic function for 'packageName' in package 'MeSHDbi' ** help *** installing help indices converting help for package 'MeSHDbi' finding HTML links ... done MeSHDb html PAO1 html listDatabases html makeMeSHPackage html meshVersion html metaPAO1 html nomenclature html packageName html ** building package indices ** installing vignettes ** testing if installed package can be loaded In R CMD INSTALL install for x64 * installing *source* package 'MeSHDbi' ... ** testing if installed package can be loaded * MD5 sums packaged installation of 'MeSHDbi' as MeSHDbi_1.16.0.zip * DONE (MeSHDbi) In R CMD INSTALL In R CMD INSTALL