Back to Multiple platform build/check report for BioC 3.6 |
|
This page was generated on 2018-04-12 13:17:10 -0400 (Thu, 12 Apr 2018).
Package 1450/1472 | Hostname | OS / Arch | INSTALL | BUILD | CHECK | BUILD BIN | ||||||
vsn 3.46.0 Wolfgang Huber
| malbec1 | Linux (Ubuntu 16.04.1 LTS) / x86_64 | OK | OK | OK | |||||||
tokay1 | Windows Server 2012 R2 Standard / x64 | [ OK ] | OK | WARNINGS | OK | |||||||
veracruz1 | OS X 10.11.6 El Capitan / x86_64 | OK | OK | OK | OK |
Package: vsn |
Version: 3.46.0 |
Command: rm -rf vsn.buildbin-libdir && mkdir vsn.buildbin-libdir && C:\cygwin\bin\curl.exe -O https://malbec1.bioconductor.org/BBS/3.6/bioc/src/contrib/vsn_3.46.0.tar.gz && C:\Users\biocbuild\bbs-3.6-bioc\R\bin\R.exe CMD INSTALL --build --library=vsn.buildbin-libdir --merge-multiarch vsn_3.46.0.tar.gz && C:\Users\biocbuild\bbs-3.6-bioc\R\bin\R.exe CMD INSTALL vsn_3.46.0.zip && rm vsn_3.46.0.tar.gz vsn_3.46.0.zip |
StartedAt: 2018-04-11 18:32:09 -0400 (Wed, 11 Apr 2018) |
EndedAt: 2018-04-11 18:33:07 -0400 (Wed, 11 Apr 2018) |
EllapsedTime: 58.2 seconds |
RetCode: 0 |
Status: OK |
############################################################################## ############################################################################## ### ### Running command: ### ### rm -rf vsn.buildbin-libdir && mkdir vsn.buildbin-libdir && C:\cygwin\bin\curl.exe -O https://malbec1.bioconductor.org/BBS/3.6/bioc/src/contrib/vsn_3.46.0.tar.gz && C:\Users\biocbuild\bbs-3.6-bioc\R\bin\R.exe CMD INSTALL --build --library=vsn.buildbin-libdir --merge-multiarch vsn_3.46.0.tar.gz && C:\Users\biocbuild\bbs-3.6-bioc\R\bin\R.exe CMD INSTALL vsn_3.46.0.zip && rm vsn_3.46.0.tar.gz vsn_3.46.0.zip ### ############################################################################## ############################################################################## % Total % Received % Xferd Average Speed Time Time Time Current Dload Upload Total Spent Left Speed 0 0 0 0 0 0 0 0 --:--:-- --:--:-- --:--:-- 0 100 437k 100 437k 0 0 15.9M 0 --:--:-- --:--:-- --:--:-- 17.7M install for i386 * installing *source* package 'vsn' ... ** libs C:/Rtools/mingw_32/bin/gcc -I"C:/Users/BIOCBU˜1/BBS-3˜1.6-B/R/include" -DNDEBUG -I"C:/local323/include" -O3 -Wall -std=gnu99 -mtune=generic -c init.c -o init.o C:/Rtools/mingw_32/bin/gcc -I"C:/Users/BIOCBU˜1/BBS-3˜1.6-B/R/include" -DNDEBUG -I"C:/local323/include" -O3 -Wall -std=gnu99 -mtune=generic -c vsn.c -o vsn.o C:/Rtools/mingw_32/bin/gcc -I"C:/Users/BIOCBU˜1/BBS-3˜1.6-B/R/include" -DNDEBUG -I"C:/local323/include" -O3 -Wall -std=gnu99 -mtune=generic -c vsn2.c -o vsn2.o C:/Rtools/mingw_32/bin/g++ -shared -s -static-libgcc -o vsn.dll tmp.def init.o vsn.o vsn2.o -LC:/local323/lib/i386 -LC:/local323/lib -LC:/Users/BIOCBU˜1/BBS-3˜1.6-B/R/bin/i386 -lR installing to C:/Users/biocbuild/bbs-3.6-bioc/meat/vsn.buildbin-libdir/vsn/libs/i386 ** R ** data ** inst ** preparing package for lazy loading ** help *** installing help indices converting help for package 'vsn' finding HTML links ... done class.vsn html class.vsnInput html justvsn html kidney html lymphoma html meanSdPlot html Rd warning: C:/Users/biocbuild/bbs-3.6-bioc/tmpdir/RtmpeOUpMx/R.INSTALL274401212d9/vsn/man/meanSdPlot.Rd:43: missing file link 'stat_binhex' Rd warning: C:/Users/biocbuild/bbs-3.6-bioc/tmpdir/RtmpeOUpMx/R.INSTALL274401212d9/vsn/man/meanSdPlot.Rd:44: missing file link 'stat_binhex' normalize.AffyBatch.vsn html sagmbSimulateData html scalingFactorTransformation html vsn-package html vsn2 html vsn2trsf html vsnLikelihood html ** building package indices ** installing vignettes ** testing if installed package can be loaded In R CMD INSTALL install for x64 * installing *source* package 'vsn' ... ** libs C:/Rtools/mingw_64/bin/gcc -I"C:/Users/BIOCBU˜1/BBS-3˜1.6-B/R/include" -DNDEBUG -I"C:/local323/include" -O2 -Wall -std=gnu99 -mtune=generic -c init.c -o init.o C:/Rtools/mingw_64/bin/gcc -I"C:/Users/BIOCBU˜1/BBS-3˜1.6-B/R/include" -DNDEBUG -I"C:/local323/include" -O2 -Wall -std=gnu99 -mtune=generic -c vsn.c -o vsn.o C:/Rtools/mingw_64/bin/gcc -I"C:/Users/BIOCBU˜1/BBS-3˜1.6-B/R/include" -DNDEBUG -I"C:/local323/include" -O2 -Wall -std=gnu99 -mtune=generic -c vsn2.c -o vsn2.o C:/Rtools/mingw_64/bin/g++ -shared -s -static-libgcc -o vsn.dll tmp.def init.o vsn.o vsn2.o -LC:/local323/lib/x64 -LC:/local323/lib -LC:/Users/BIOCBU˜1/BBS-3˜1.6-B/R/bin/x64 -lR installing to C:/Users/biocbuild/bbs-3.6-bioc/meat/vsn.buildbin-libdir/vsn/libs/x64 ** testing if installed package can be loaded * MD5 sums packaged installation of 'vsn' as vsn_3.46.0.zip * DONE (vsn) In R CMD INSTALL In R CMD INSTALL * installing to library 'C:/Users/biocbuild/bbs-3.6-bioc/R/library' package 'vsn' successfully unpacked and MD5 sums checked In R CMD INSTALL