Back to Multiple platform build/check report for BioC 3.6 |
|
This page was generated on 2018-04-12 13:30:59 -0400 (Thu, 12 Apr 2018).
Package 535/1472 | Hostname | OS / Arch | INSTALL | BUILD | CHECK | BUILD BIN | ||||||
genefilter 1.60.0 Bioconductor Package Maintainer
| malbec1 | Linux (Ubuntu 16.04.1 LTS) / x86_64 | OK | OK | WARNINGS | ![]() | ||||||
tokay1 | Windows Server 2012 R2 Standard / x64 | OK | OK | WARNINGS | OK | ![]() | ||||||
veracruz1 | OS X 10.11.6 El Capitan / x86_64 | OK | OK | WARNINGS | [ OK ] | ![]() |
Package: genefilter |
Version: 1.60.0 |
Command: rm -rf genefilter.buildbin-libdir && mkdir genefilter.buildbin-libdir && /Users/biocbuild/BBS/utils/build-universal.sh genefilter_1.60.0.tar.gz /Library/Frameworks/R.framework/Versions/Current/Resources/bin/R genefilter.buildbin-libdir |
StartedAt: 2018-04-12 11:31:43 -0400 (Thu, 12 Apr 2018) |
EndedAt: 2018-04-12 11:31:54 -0400 (Thu, 12 Apr 2018) |
EllapsedTime: 11.4 seconds |
RetCode: 0 |
Status: OK |
PackageFile: genefilter_1.60.0.tgz |
PackageFileSize: 1.869 MiB |
############################################################################## ############################################################################## ### ### Running command: ### ### rm -rf genefilter.buildbin-libdir && mkdir genefilter.buildbin-libdir && /Users/biocbuild/BBS/utils/build-universal.sh genefilter_1.60.0.tar.gz /Library/Frameworks/R.framework/Versions/Current/Resources/bin/R genefilter.buildbin-libdir ### ############################################################################## ############################################################################## >>>>>>> >>>>>>> INSTALLATION WITH 'R CMD INSTALL --preclean --no-multiarch --library=genefilter.buildbin-libdir genefilter_1.60.0.tar.gz' >>>>>>> * installing *source* package ‘genefilter’ ... ** libs clang++ -I/Library/Frameworks/R.framework/Resources/include -DNDEBUG -I/usr/local/include -fPIC -Wall -g -O2 -c half_range_mode.cpp -o half_range_mode.o clang -I/Library/Frameworks/R.framework/Resources/include -DNDEBUG -I/usr/local/include -fPIC -Wall -g -O2 -c init.c -o init.o clang -I/Library/Frameworks/R.framework/Resources/include -DNDEBUG -I/usr/local/include -fPIC -Wall -g -O2 -c nd.c -o nd.o clang -I/Library/Frameworks/R.framework/Resources/include -DNDEBUG -I/usr/local/include -fPIC -Wall -g -O2 -c pAUC.c -o pAUC.o clang -I/Library/Frameworks/R.framework/Resources/include -DNDEBUG -I/usr/local/include -fPIC -Wall -g -O2 -c rowPAUCs.c -o rowPAUCs.o clang -I/Library/Frameworks/R.framework/Resources/include -DNDEBUG -I/usr/local/include -fPIC -Wall -g -O2 -c rowttests.c -o rowttests.o gfortran -fPIC -g -O2 -c ttest.f -o ttest.o clang++ -dynamiclib -Wl,-headerpad_max_install_names -undefined dynamic_lookup -single_module -multiply_defined suppress -L/Library/Frameworks/R.framework/Resources/lib -L/usr/local/lib -o genefilter.so half_range_mode.o init.o nd.o pAUC.o rowPAUCs.o rowttests.o ttest.o -L/usr/local/gfortran/lib/gcc/x86_64-apple-darwin15/6.1.0 -L/usr/local/gfortran/lib -lgfortran -lquadmath -lm -F/Library/Frameworks/R.framework/.. -framework R -Wl,-framework -Wl,CoreFoundation installing to /Users/biocbuild/bbs-3.6-bioc/meat/genefilter.buildbin-libdir/genefilter/libs ** R ** data *** moving datasets to lazyload DB ** inst ** preparing package for lazy loading ** help *** installing help indices ** building package indices ** installing vignettes ** testing if installed package can be loaded * DONE (genefilter) >>>>>>> >>>>>>> FIXING LINKS FOR genefilter.buildbin-libdir/genefilter/libs//genefilter.so >>>>>>> install_name_tool -change "/usr/local/lib/libgcc_s.1.dylib" "/Library/Frameworks/R.framework/Versions/3.4/Resources/lib/libgcc_s.1.dylib" "genefilter.buildbin-libdir/genefilter/libs//genefilter.so" install_name_tool -change "/usr/local/lib/libgfortran.3.dylib" "/Library/Frameworks/R.framework/Versions/3.4/Resources/lib/libgfortran.3.dylib" "genefilter.buildbin-libdir/genefilter/libs//genefilter.so" install_name_tool -change "/usr/local/lib/libreadline.5.2.dylib" "/Library/Frameworks/R.framework/Versions/3.4/Resources/lib/libreadline.5.2.dylib" "genefilter.buildbin-libdir/genefilter/libs//genefilter.so" install_name_tool -change "/usr/local/lib/libreadline.dylib" "/Library/Frameworks/R.framework/Versions/3.4/Resources/lib/libreadline.dylib" "genefilter.buildbin-libdir/genefilter/libs//genefilter.so" install_name_tool -change "/usr/local/lib/libquadmath.0.dylib" "/Library/Frameworks/R.framework/Versions/3.4/Resources/lib/libquadmath.0.dylib" "genefilter.buildbin-libdir/genefilter/libs//genefilter.so" install_name_tool -change "/usr/local/gfortran/lib/libgfortran.3.dylib" "/Library/Frameworks/R.framework/Versions/3.4/Resources/lib/libgfortran.3.dylib" "genefilter.buildbin-libdir/genefilter/libs//genefilter.so" install_name_tool -change "/usr/local/gfortran/lib/libquadmath.0.dylib" "/Library/Frameworks/R.framework/Versions/3.4/Resources/lib/libquadmath.0.dylib" "genefilter.buildbin-libdir/genefilter/libs//genefilter.so"