scran 1.5.8 Aaron Lun
Snapshot Date: 2017-08-15 17:18:21 -0400 (Tue, 15 Aug 2017) | URL: https://hedgehog.fhcrc.org/bioconductor/trunk/madman/Rpacks/scran | Last Changed Rev: 131676 / Revision: 131943 | Last Changed Date: 2017-07-31 15:29:35 -0400 (Mon, 31 Jul 2017) |
| malbec1 | Linux (Ubuntu 16.04.1 LTS) / x86_64 | OK | OK | OK | | |
tokay1 | Windows Server 2012 R2 Standard / x64 | OK | OK | OK | [ OK ] | |
veracruz1 | OS X 10.11.6 El Capitan / x86_64 | OK | OK | OK | OK | |
##############################################################################
##############################################################################
###
### Running command:
###
### cd scran.buildbin-libdir/scran && zip -r ../../scran_1.5.8.zip . & cd ../..
###
##############################################################################
##############################################################################
adding: CITATION (332 bytes security) (deflated 45%)
adding: DESCRIPTION (332 bytes security) (deflated 43%)
adding: doc/ (372 bytes security) (stored 0%)
adding: doc/index.html (332 bytes security) (deflated 57%)
adding: doc/scran.html (332 bytes security) (deflated 52%)
adding: doc/scran.R (332 bytes security) (deflated 74%)
adding: doc/scran.Rmd (332 bytes security) (deflated 63%)
adding: exdata/ (372 bytes security) (stored 0%)
adding: exdata/generate_markers.R (332 bytes security) (deflated 50%)
adding: exdata/human_cycle_markers.rds (332 bytes security) (deflated 1%)
adding: exdata/mouse_cycle_markers.rds (332 bytes security) (deflated 1%)
adding: help/ (372 bytes security) (stored 0%)
adding: help/aliases.rds (332 bytes security) (stored 0%)
adding: help/AnIndex (332 bytes security) (deflated 77%)
adding: help/paths.rds (332 bytes security) (stored 0%)
adding: help/scran.rdb (332 bytes security) (deflated 0%)
adding: help/scran.rdx (332 bytes security) (stored 0%)
adding: html/ (372 bytes security) (stored 0%)
adding: html/00Index.html (332 bytes security) (deflated 78%)
adding: html/R.css (332 bytes security) (deflated 75%)
adding: INDEX (332 bytes security) (deflated 58%)
adding: libs/ (372 bytes security) (stored 0%)
adding: libs/i386/ (372 bytes security) (stored 0%)
adding: libs/i386/scran.dll (332 bytes security) (deflated 66%)
adding: libs/x64/ (372 bytes security) (stored 0%)
adding: libs/x64/scran.dll (332 bytes security) (deflated 63%)
adding: MD5 (332 bytes security) (deflated 42%)
adding: Meta/ (372 bytes security) (stored 0%)
adding: Meta/features.rds (332 bytes security) (stored 0%)
adding: Meta/hsearch.rds (332 bytes security) (stored 0%)
adding: Meta/links.rds (332 bytes security) (stored 0%)
adding: Meta/nsInfo.rds (332 bytes security) (stored 0%)
adding: Meta/package.rds (332 bytes security) (stored 0%)
adding: Meta/Rd.rds (332 bytes security) (stored 0%)
adding: Meta/vignette.rds (332 bytes security) (stored 0%)
adding: NAMESPACE (332 bytes security) (deflated 50%)
adding: NEWS.Rd (332 bytes security) (deflated 58%)
adding: R/ (372 bytes security) (stored 0%)
adding: R/scran (332 bytes security) (deflated 41%)
adding: R/scran.rdb (332 bytes security) (deflated 39%)
adding: R/scran.rdx (332 bytes security) (stored 0%)