pRoloc 1.17.3 Laurent Gatto
Snapshot Date: 2017-08-15 17:18:21 -0400 (Tue, 15 Aug 2017) | URL: https://hedgehog.fhcrc.org/bioconductor/trunk/madman/Rpacks/pRoloc | Last Changed Rev: 129908 / Revision: 131943 | Last Changed Date: 2017-05-26 08:07:04 -0400 (Fri, 26 May 2017) |
| malbec1 | Linux (Ubuntu 16.04.1 LTS) / x86_64 | OK | OK | OK | | |
tokay1 | Windows Server 2012 R2 Standard / x64 | OK | OK | OK | [ OK ] | |
veracruz1 | OS X 10.11.6 El Capitan / x86_64 | OK | OK | OK | OK | |
##############################################################################
##############################################################################
###
### Running command:
###
### cd pRoloc.buildbin-libdir/pRoloc && zip -r ../../pRoloc_1.17.3.zip . & cd ../..
###
##############################################################################
##############################################################################
adding: CITATION (332 bytes security) (deflated 72%)
adding: data/ (372 bytes security) (stored 0%)
adding: data/andy2011params.rda (332 bytes security) (deflated 0%)
adding: data/dunkley2006params.rda (332 bytes security) (stored 0%)
adding: DESCRIPTION (332 bytes security) (deflated 54%)
adding: doc/ (372 bytes security) (stored 0%)
adding: doc/index.html (332 bytes security) (deflated 76%)
adding: doc/pRoloc-goannotations.html (332 bytes security) (deflated 47%)
adding: doc/pRoloc-goannotations.R (332 bytes security) (deflated 64%)
adding: doc/pRoloc-goannotations.Rmd (332 bytes security) (deflated 62%)
adding: doc/pRoloc-ml.html (332 bytes security) (deflated 59%)
adding: doc/pRoloc-ml.R (332 bytes security) (deflated 68%)
adding: doc/pRoloc-ml.Rmd (332 bytes security) (deflated 62%)
adding: doc/pRoloc-transfer-learning.html (332 bytes security) (deflated 48%)
adding: doc/pRoloc-transfer-learning.R (332 bytes security) (deflated 69%)
adding: doc/pRoloc-transfer-learning.Rmd (332 bytes security) (deflated 63%)
adding: doc/pRoloc-tutorial.html (332 bytes security) (deflated 47%)
adding: doc/pRoloc-tutorial.R (332 bytes security) (deflated 75%)
adding: doc/pRoloc-tutorial.Rmd (332 bytes security) (deflated 66%)
adding: extdata/ (372 bytes security) (stored 0%)
adding: extdata/dunkley2006pdunittest1.rda (332 bytes security) (deflated 2%)
adding: extdata/dunkley2006pdunittest2.rda (332 bytes security) (deflated 2%)
adding: extdata/dunkley2006pdunittest_20140408.rda (332 bytes security) (deflated 2%)
adding: extdata/marker_atha.rds (332 bytes security) (stored 0%)
adding: extdata/marker_dmel.rds (332 bytes security) (stored 0%)
adding: extdata/marker_ggal.rds (332 bytes security) (stored 0%)
adding: extdata/marker_hsap.rds (332 bytes security) (stored 0%)
adding: extdata/marker_mmus.rds (332 bytes security) (stored 0%)
adding: extdata/marker_scer_sgd.rds (332 bytes security) (stored 0%)
adding: extdata/marker_scer_uniprot.rds (332 bytes security) (stored 0%)
adding: extdata/mil.rds (332 bytes security) (stored 0%)
adding: extdata/params.rda (332 bytes security) (stored 0%)
adding: extdata/params2.rda (332 bytes security) (stored 0%)
adding: extdata/pdres.rda (332 bytes security) (deflated 0%)
adding: figs/ (372 bytes security) (stored 0%)
adding: figs/plot2D-hexbin.png (332 bytes security) (deflated 5%)
adding: figs/plot2D-lda.png (332 bytes security) (deflated 2%)
adding: figs/plot2D-null-black.png (332 bytes security) (deflated 0%)
adding: figs/plot2D-null-cex.png (332 bytes security) (deflated 1%)
adding: figs/plot2D-null-pch-black.png (332 bytes security) (deflated 1%)
adding: figs/plot2D-null-pch.png (332 bytes security) (deflated 1%)
adding: figs/plot2D-null.png (332 bytes security) (deflated 1%)
adding: figs/plot2D-scree.png (332 bytes security) (deflated 18%)
adding: figs/plot2D.png (332 bytes security) (deflated 1%)
adding: help/ (372 bytes security) (stored 0%)
adding: help/aliases.rds (332 bytes security) (stored 0%)
adding: help/AnIndex (332 bytes security) (deflated 80%)
adding: help/paths.rds (332 bytes security) (stored 0%)
adding: help/pRoloc.rdb (332 bytes security) (deflated 1%)
adding: help/pRoloc.rdx (332 bytes security) (deflated 0%)
adding: html/ (372 bytes security) (stored 0%)
adding: html/00Index.html (332 bytes security) (deflated 88%)
adding: html/R.css (332 bytes security) (deflated 75%)
adding: INDEX (332 bytes security) (deflated 67%)
adding: libs/ (372 bytes security) (stored 0%)
adding: libs/i386/ (372 bytes security) (stored 0%)
adding: libs/i386/pRoloc.dll (332 bytes security) (deflated 66%)
adding: libs/x64/ (372 bytes security) (stored 0%)
adding: libs/x64/pRoloc.dll (332 bytes security) (deflated 67%)
adding: MD5 (332 bytes security) (deflated 49%)
adding: Meta/ (372 bytes security) (stored 0%)
adding: Meta/data.rds (332 bytes security) (stored 0%)
adding: Meta/features.rds (332 bytes security) (stored 0%)
adding: Meta/hsearch.rds (332 bytes security) (deflated 2%)
adding: Meta/links.rds (332 bytes security) (stored 0%)
adding: Meta/nsInfo.rds (332 bytes security) (stored 0%)
adding: Meta/package.rds (332 bytes security) (stored 0%)
adding: Meta/Rd.rds (332 bytes security) (stored 0%)
adding: Meta/vignette.rds (332 bytes security) (stored 0%)
adding: NAMESPACE (332 bytes security) (deflated 65%)
adding: NEWS (332 bytes security) (deflated 70%)
adding: NEWS.md (332 bytes security) (deflated 68%)
adding: R/ (372 bytes security) (stored 0%)
adding: R/pRoloc (332 bytes security) (deflated 41%)
adding: R/pRoloc.rdb (332 bytes security) (deflated 18%)
adding: R/pRoloc.rdx (332 bytes security) (stored 0%)
adding: scripts/ (372 bytes security) (stored 0%)
adding: scripts/biomart.R (332 bytes security) (deflated 69%)
adding: scripts/dynamics.R (332 bytes security) (deflated 62%)
adding: scripts/test_pd.R (332 bytes security) (deflated 73%)