openCyto 1.15.0 Mike Jiang
Snapshot Date: 2017-08-15 17:18:21 -0400 (Tue, 15 Aug 2017) | URL: https://hedgehog.fhcrc.org/bioconductor/trunk/madman/Rpacks/openCyto | Last Changed Rev: 129129 / Revision: 131943 | Last Changed Date: 2017-04-24 15:50:57 -0400 (Mon, 24 Apr 2017) |
| malbec1 | Linux (Ubuntu 16.04.1 LTS) / x86_64 | OK | OK | OK | | ![UNNEEDED, same version exists in internal repository UNNEEDED, same version exists in internal repository](../120px-Blue_Light_Icon.svg.png) |
tokay1 | Windows Server 2012 R2 Standard / x64 | OK | OK | OK | [ OK ] | ![UNNEEDED, same version exists in internal repository UNNEEDED, same version exists in internal repository](../120px-Blue_Light_Icon.svg.png) |
veracruz1 | OS X 10.11.6 El Capitan / x86_64 | OK | OK | WARNINGS | OK | ![UNNEEDED, same version exists in internal repository UNNEEDED, same version exists in internal repository](../120px-Blue_Light_Icon.svg.png) |
##############################################################################
##############################################################################
###
### Running command:
###
### cd openCyto.buildbin-libdir/openCyto && zip -r ../../openCyto_1.15.0.zip . & cd ../..
###
##############################################################################
##############################################################################
adding: CITATION (332 bytes security) (deflated 54%)
adding: DESCRIPTION (332 bytes security) (deflated 37%)
adding: doc/ (372 bytes security) (stored 0%)
adding: doc/HowToAutoGating.html (332 bytes security) (deflated 64%)
adding: doc/HowToAutoGating.R (332 bytes security) (deflated 79%)
adding: doc/HowToAutoGating.Rmd (332 bytes security) (deflated 61%)
adding: doc/HowToWriteCSVTemplate.html (332 bytes security) (deflated 69%)
adding: doc/HowToWriteCSVTemplate.R (332 bytes security) (deflated 76%)
adding: doc/HowToWriteCSVTemplate.Rmd (332 bytes security) (deflated 62%)
adding: doc/index.html (332 bytes security) (deflated 72%)
adding: doc/openCytoVignette.html (332 bytes security) (deflated 33%)
adding: doc/openCytoVignette.R (332 bytes security) (deflated 71%)
adding: doc/openCytoVignette.Rmd (332 bytes security) (deflated 62%)
adding: extdata/ (372 bytes security) (stored 0%)
adding: extdata/gating_template/ (372 bytes security) (stored 0%)
adding: extdata/gating_template/bcell.csv (332 bytes security) (deflated 64%)
adding: extdata/gating_template/ICS.csv (332 bytes security) (deflated 61%)
adding: extdata/gating_template/ICS_080.csv (332 bytes security) (deflated 72%)
adding: extdata/gating_template/ITN_Newell.csv (332 bytes security) (deflated 60%)
adding: extdata/gating_template/tcell.csv (332 bytes security) (deflated 54%)
adding: extdata/gating_template/treg.csv (332 bytes security) (deflated 63%)
adding: help/ (372 bytes security) (stored 0%)
adding: help/aliases.rds (332 bytes security) (stored 0%)
adding: help/AnIndex (332 bytes security) (deflated 79%)
adding: help/openCyto.rdb (332 bytes security) (deflated 2%)
adding: help/openCyto.rdx (332 bytes security) (stored 0%)
adding: help/paths.rds (332 bytes security) (stored 0%)
adding: html/ (372 bytes security) (stored 0%)
adding: html/00Index.html (332 bytes security) (deflated 82%)
adding: html/R.css (332 bytes security) (deflated 75%)
adding: INDEX (332 bytes security) (deflated 74%)
adding: libs/ (372 bytes security) (stored 0%)
adding: libs/i386/ (372 bytes security) (stored 0%)
adding: libs/i386/openCyto.dll (332 bytes security) (deflated 66%)
adding: libs/x64/ (372 bytes security) (stored 0%)
adding: libs/x64/openCyto.dll (332 bytes security) (deflated 67%)
adding: MD5 (332 bytes security) (deflated 48%)
adding: Meta/ (372 bytes security) (stored 0%)
adding: Meta/features.rds (332 bytes security) (stored 0%)
adding: Meta/hsearch.rds (332 bytes security) (stored 0%)
adding: Meta/links.rds (332 bytes security) (stored 0%)
adding: Meta/nsInfo.rds (332 bytes security) (stored 0%)
adding: Meta/package.rds (332 bytes security) (stored 0%)
adding: Meta/Rd.rds (332 bytes security) (stored 0%)
adding: Meta/vignette.rds (332 bytes security) (stored 0%)
adding: NAMESPACE (332 bytes security) (deflated 73%)
adding: NEWS (332 bytes security) (deflated 41%)
adding: R/ (372 bytes security) (stored 0%)
adding: R/openCyto (332 bytes security) (deflated 41%)
adding: R/openCyto.rdb (332 bytes security) (deflated 19%)
adding: R/openCyto.rdx (332 bytes security) (stored 0%)
adding: tests/ (372 bytes security) (stored 0%)