Back to the "Multiple platform build/check report" | A B C D E F G H I J K L [M] N O P Q R S T U V W X Y Z |
This page was generated on 2017-08-16 13:42:26 -0400 (Wed, 16 Aug 2017).
Package 833/1410 | Hostname | OS / Arch | INSTALL | BUILD | CHECK | BUILD BIN | |||||
minfi 1.23.3 Kasper Daniel Hansen
| malbec1 | Linux (Ubuntu 16.04.1 LTS) / x86_64 | OK | OK | OK | ![]() | |||||
tokay1 | Windows Server 2012 R2 Standard / x64 | OK | OK | OK | OK | ![]() | |||||
veracruz1 | OS X 10.11.6 El Capitan / x86_64 | OK | [ OK ] | OK | OK | ![]() |
Package: minfi |
Version: 1.23.3 |
Command: /Library/Frameworks/R.framework/Versions/Current/Resources/bin/R CMD build --keep-empty-dirs --no-resave-data minfi |
StartedAt: 2017-08-15 19:44:22 -0400 (Tue, 15 Aug 2017) |
EndedAt: 2017-08-15 19:45:59 -0400 (Tue, 15 Aug 2017) |
EllapsedTime: 96.2 seconds |
RetCode: 0 |
Status: OK |
PackageFile: minfi_1.23.3.tar.gz |
PackageFileSize: 414.2 KiB |
############################################################################## ############################################################################## ### ### Running command: ### ### /Library/Frameworks/R.framework/Versions/Current/Resources/bin/R CMD build --keep-empty-dirs --no-resave-data minfi ### ############################################################################## ############################################################################## * checking for file ‘minfi/DESCRIPTION’ ... OK * preparing ‘minfi’: * checking DESCRIPTION meta-information ... OK * installing the package to build vignettes * creating vignettes ... OK * checking for LF line-endings in source and make files * checking for empty or unneeded directories * building ‘minfi_1.23.3.tar.gz’