##############################################################################
##############################################################################
###
### Running command:
###
### rm -rf metagene.buildbin-libdir && mkdir metagene.buildbin-libdir && /Users/biocbuild/BBS/utils/build-universal.sh metagene_2.9.1.tar.gz /Library/Frameworks/R.framework/Versions/Current/Resources/bin/R metagene.buildbin-libdir
###
##############################################################################
##############################################################################
>>>>>>>
>>>>>>> INSTALLATION WITH 'R CMD INSTALL --preclean --no-multiarch --library=metagene.buildbin-libdir metagene_2.9.1.tar.gz'
>>>>>>>
* installing *source* package ‘metagene’ ...
** R
** data
*** moving datasets to lazyload DB
** inst
** preparing package for lazy loading
** help
*** installing help indices
** building package indices
** installing vignettes
** testing if installed package can be loaded
* DONE (metagene)