gwascat 2.9.1 VJ Carey
Snapshot Date: 2017-08-15 17:18:21 -0400 (Tue, 15 Aug 2017) | URL: https://hedgehog.fhcrc.org/bioconductor/trunk/madman/Rpacks/gwascat | Last Changed Rev: 130494 / Revision: 131943 | Last Changed Date: 2017-06-18 11:13:08 -0400 (Sun, 18 Jun 2017) |
| malbec1 | Linux (Ubuntu 16.04.1 LTS) / x86_64 | OK | OK | OK | | ![UNNEEDED, same version exists in internal repository UNNEEDED, same version exists in internal repository](../120px-Blue_Light_Icon.svg.png) |
tokay1 | Windows Server 2012 R2 Standard / x64 | OK | OK | OK | [ OK ] | ![UNNEEDED, same version exists in internal repository UNNEEDED, same version exists in internal repository](../120px-Blue_Light_Icon.svg.png) |
veracruz1 | OS X 10.11.6 El Capitan / x86_64 | OK | OK | OK | OK | ![UNNEEDED, same version exists in internal repository UNNEEDED, same version exists in internal repository](../120px-Blue_Light_Icon.svg.png) |
##############################################################################
##############################################################################
###
### Running command:
###
### cd gwascat.buildbin-libdir/gwascat && zip -r ../../gwascat_2.9.1.zip . & cd ../..
###
##############################################################################
##############################################################################
adding: csv/ (372 bytes security) (stored 0%)
adding: csv/nomatch.csv (332 bytes security) (deflated 56%)
adding: data/ (372 bytes security) (stored 0%)
adding: data/datalist (332 bytes security) (deflated 17%)
adding: data/ebicat37.rda (332 bytes security) (deflated 3%)
adding: data/ebicat37UCSC.rda (332 bytes security) (deflated 3%)
adding: data/ebicat38.rda (332 bytes security) (deflated 3%)
adding: data/efo.obo.g.rda (332 bytes security) (deflated 3%)
adding: data/g17SM.rda (332 bytes security) (deflated 0%)
adding: data/gg17N.rda (332 bytes security) (deflated 3%)
adding: data/gw6.rs_17.rda (332 bytes security) (deflated 0%)
adding: data/gwastagger.rda (332 bytes security) (deflated 2%)
adding: data/gwdf_2014_09_08.rda (332 bytes security) (deflated 1%)
adding: data/gwrngs19.rda (332 bytes security) (deflated 4%)
adding: data/gwrngs38.rda (332 bytes security) (deflated 1%)
adding: data/locon6.rda (332 bytes security) (deflated 0%)
adding: data/low17.rda (332 bytes security) (deflated 0%)
adding: data/rules_6.0_1kg_17.rda (332 bytes security) (deflated 0%)
adding: data/si.hs.37.rda (332 bytes security) (stored 0%)
adding: data/si.hs.38.rda (332 bytes security) (stored 0%)
adding: DESCRIPTION (332 bytes security) (deflated 40%)
adding: doc/ (372 bytes security) (stored 0%)
adding: doc/gwascat.pdf (332 bytes security) (deflated 14%)
adding: doc/gwascat.R (332 bytes security) (deflated 79%)
adding: doc/gwascat.Rnw (332 bytes security) (deflated 58%)
adding: doc/gwascatOnt.html (332 bytes security) (deflated 65%)
adding: doc/gwascatOnt.R (332 bytes security) (deflated 62%)
adding: doc/gwascatOnt.Rmd (332 bytes security) (deflated 50%)
adding: doc/index.html (332 bytes security) (deflated 66%)
adding: gff3/ (372 bytes security) (stored 0%)
adding: gff3/chr17_34834101_35834100.gff3 (332 bytes security) (deflated 89%)
adding: gff3/chr17_43000000_45000000.gff3 (332 bytes security) (deflated 90%)
adding: help/ (372 bytes security) (stored 0%)
adding: help/aliases.rds (332 bytes security) (stored 0%)
adding: help/AnIndex (332 bytes security) (deflated 70%)
adding: help/gwascat.rdb (332 bytes security) (deflated 1%)
adding: help/gwascat.rdx (332 bytes security) (stored 0%)
adding: help/paths.rds (332 bytes security) (stored 0%)
adding: html/ (372 bytes security) (stored 0%)
adding: html/00Index.html (332 bytes security) (deflated 81%)
adding: html/R.css (332 bytes security) (deflated 75%)
adding: INDEX (332 bytes security) (deflated 55%)
adding: MD5 (332 bytes security) (deflated 46%)
adding: Meta/ (372 bytes security) (stored 0%)
adding: Meta/data.rds (332 bytes security) (stored 0%)
adding: Meta/features.rds (332 bytes security) (stored 0%)
adding: Meta/hsearch.rds (332 bytes security) (stored 0%)
adding: Meta/links.rds (332 bytes security) (stored 0%)
adding: Meta/nsInfo.rds (332 bytes security) (stored 0%)
adding: Meta/package.rds (332 bytes security) (stored 0%)
adding: Meta/Rd.rds (332 bytes security) (stored 0%)
adding: Meta/vignette.rds (332 bytes security) (stored 0%)
adding: NAMESPACE (332 bytes security) (deflated 56%)
adding: NEWS (332 bytes security) (deflated 54%)
adding: obo/ (372 bytes security) (stored 0%)
adding: obo/efo.020815.obo.gz (332 bytes security) (deflated 0%)
adding: obo/hpo.obo.gz (332 bytes security) (deflated 0%)
adding: obo/HumanDO.obo.gz (332 bytes security) (deflated 0%)
adding: olddata/ (372 bytes security) (stored 0%)
adding: olddata/gwdf_2012_03_20.rda (332 bytes security) (deflated 1%)
adding: olddata/gwdf_2012_09_22.rda (332 bytes security) (deflated 0%)
adding: olddata/gwrngs.rda (332 bytes security) (deflated 1%)
adding: R/ (372 bytes security) (stored 0%)
adding: R/gwascat (332 bytes security) (deflated 41%)
adding: R/gwascat.rdb (332 bytes security) (deflated 16%)
adding: R/gwascat.rdx (332 bytes security) (stored 0%)
adding: scripts/ (372 bytes security) (stored 0%)
adding: scripts/builders.hist.txt (332 bytes security) (deflated 68%)
adding: scripts/doebicat38.hist.txt (332 bytes security) (deflated 59%)
adding: tab/ (372 bytes security) (stored 0%)
adding: tab/build0307df.hist.txt (332 bytes security) (deflated 61%)
adding: tab/build0307df.hist.txt.gz (332 bytes security) (stored 0%)
adding: tab/gwascatalog20120307.txt.gz (332 bytes security) (deflated 0%)
adding: tab/gwascatalog20120320.txt.gz (332 bytes security) (deflated 0%)
adding: tab/import_gwtab.R (332 bytes security) (deflated 39%)
adding: unitTests/ (372 bytes security) (stored 0%)
adding: unitTests/test_gwascat.R (332 bytes security) (deflated 67%)