ggtree 1.9.2 Guangchuang Yu
Snapshot Date: 2017-08-15 17:18:21 -0400 (Tue, 15 Aug 2017) | URL: https://hedgehog.fhcrc.org/bioconductor/trunk/madman/Rpacks/ggtree | Last Changed Rev: 131307 / Revision: 131943 | Last Changed Date: 2017-07-18 03:59:43 -0400 (Tue, 18 Jul 2017) |
| malbec1 | Linux (Ubuntu 16.04.1 LTS) / x86_64 | OK | OK | OK | | |
tokay1 | Windows Server 2012 R2 Standard / x64 | [ OK ] | OK | OK | OK | |
veracruz1 | OS X 10.11.6 El Capitan / x86_64 | OK | OK | OK | OK | |
##############################################################################
##############################################################################
###
### Running command:
###
### rm -rf ggtree.buildbin-libdir && mkdir ggtree.buildbin-libdir && C:\cygwin\bin\curl.exe -O https://malbec1.bioconductor.org/BBS/3.6/bioc/src/contrib/ggtree_1.9.2.tar.gz && C:\Users\biocbuild\bbs-3.6-bioc\R\bin\R.exe CMD INSTALL --build --library=ggtree.buildbin-libdir --merge-multiarch ggtree_1.9.2.tar.gz && C:\Users\biocbuild\bbs-3.6-bioc\R\bin\R.exe CMD INSTALL ggtree_1.9.2.zip && rm ggtree_1.9.2.tar.gz ggtree_1.9.2.zip
###
##############################################################################
##############################################################################
% Total % Received % Xferd Average Speed Time Time Time Current
Dload Upload Total Spent Left Speed
0 0 0 0 0 0 0 0 --:--:-- --:--:-- --:--:-- 0
100 2493k 100 2493k 0 0 14.4M 0 --:--:-- --:--:-- --:--:-- 14.7M
install for i386
* installing *source* package 'ggtree' ...
** R
** inst
** byte-compile and prepare package for lazy loading
Note: wrong number of arguments to '>'
** help
*** installing help indices
** building package indices
** installing vignettes
** testing if installed package can be loaded
install for x64
* installing *source* package 'ggtree' ...
** testing if installed package can be loaded
* MD5 sums
packaged installation of 'ggtree' as ggtree_1.9.2.zip
* DONE (ggtree)
* installing to library 'C:/Users/biocbuild/bbs-3.6-bioc/R/library'
package 'ggtree' successfully unpacked and MD5 sums checked