##############################################################################
##############################################################################
###
### Running command:
###
### rm -rf garfield.buildbin-libdir && mkdir garfield.buildbin-libdir && /Users/biocbuild/BBS/utils/build-universal.sh garfield_1.5.0.tar.gz /Library/Frameworks/R.framework/Versions/Current/Resources/bin/R garfield.buildbin-libdir
###
##############################################################################
##############################################################################
>>>>>>>
>>>>>>> INSTALLATION WITH 'R CMD INSTALL --preclean --no-multiarch --library=garfield.buildbin-libdir garfield_1.5.0.tar.gz'
>>>>>>>
* installing *source* package ‘garfield’ ...
** libs
clang -I/Library/Frameworks/R.framework/Resources/include -DNDEBUG -I/usr/local/include -fPIC -Wall -g -O2 -c garfield_init.c -o garfield_init.o
clang++ -I/Library/Frameworks/R.framework/Resources/include -DNDEBUG -I/usr/local/include -fPIC -Wall -g -O2 -c garfield_perm.cpp -o garfield_perm.o
clang++ -I/Library/Frameworks/R.framework/Resources/include -DNDEBUG -I/usr/local/include -fPIC -Wall -g -O2 -c garfield_prep.cpp -o garfield_prep.o
clang++ -dynamiclib -Wl,-headerpad_max_install_names -undefined dynamic_lookup -single_module -multiply_defined suppress -L/Library/Frameworks/R.framework/Resources/lib -L/usr/local/lib -o garfield.so garfield_init.o garfield_perm.o garfield_prep.o -F/Library/Frameworks/R.framework/.. -framework R -Wl,-framework -Wl,CoreFoundation
installing to /Users/biocbuild/bbs-3.6-bioc/meat/garfield.buildbin-libdir/garfield/libs
** R
** inst
** preparing package for lazy loading
** help
*** installing help indices
** building package indices
** installing vignettes
** testing if installed package can be loaded
* DONE (garfield)
>>>>>>>
>>>>>>> FIXING LINKS FOR garfield.buildbin-libdir/garfield/libs//garfield.so
>>>>>>>
install_name_tool -change "/usr/local/lib/libgcc_s.1.dylib" "/Library/Frameworks/R.framework/Versions/3.4/Resources/lib/libgcc_s.1.dylib" "garfield.buildbin-libdir/garfield/libs//garfield.so"
install_name_tool -change "/usr/local/lib/libgfortran.3.dylib" "/Library/Frameworks/R.framework/Versions/3.4/Resources/lib/libgfortran.3.dylib" "garfield.buildbin-libdir/garfield/libs//garfield.so"
install_name_tool -change "/usr/local/lib/libreadline.5.2.dylib" "/Library/Frameworks/R.framework/Versions/3.4/Resources/lib/libreadline.5.2.dylib" "garfield.buildbin-libdir/garfield/libs//garfield.so"
install_name_tool -change "/usr/local/lib/libreadline.dylib" "/Library/Frameworks/R.framework/Versions/3.4/Resources/lib/libreadline.dylib" "garfield.buildbin-libdir/garfield/libs//garfield.so"
install_name_tool -change "/usr/local/lib/libquadmath.0.dylib" "/Library/Frameworks/R.framework/Versions/3.4/Resources/lib/libquadmath.0.dylib" "garfield.buildbin-libdir/garfield/libs//garfield.so"