ballgown 2.9.4 Jack Fu
Snapshot Date: 2017-08-15 17:18:21 -0400 (Tue, 15 Aug 2017) | URL: https://hedgehog.fhcrc.org/bioconductor/trunk/madman/Rpacks/ballgown | Last Changed Rev: 131652 / Revision: 131943 | Last Changed Date: 2017-07-29 12:34:48 -0400 (Sat, 29 Jul 2017) |
| malbec1 | Linux (Ubuntu 16.04.1 LTS) / x86_64 | OK | OK | OK | | ![UNNEEDED, same version exists in internal repository UNNEEDED, same version exists in internal repository](../120px-Blue_Light_Icon.svg.png) |
tokay1 | Windows Server 2012 R2 Standard / x64 | OK | OK | ERROR | [ OK ] | |
veracruz1 | OS X 10.11.6 El Capitan / x86_64 | OK | OK | OK | OK | ![UNNEEDED, same version exists in internal repository UNNEEDED, same version exists in internal repository](../120px-Blue_Light_Icon.svg.png) |
##############################################################################
##############################################################################
###
### Running command:
###
### cd ballgown.buildbin-libdir/ballgown && zip -r ../../ballgown_2.9.4.zip . & cd ../..
###
##############################################################################
##############################################################################
adding: data/ (372 bytes security) (stored 0%)
adding: data/bg.rda (332 bytes security) (deflated 0%)
adding: DESCRIPTION (332 bytes security) (deflated 47%)
adding: doc/ (372 bytes security) (stored 0%)
adding: doc/ballgown.html (332 bytes security) (deflated 56%)
adding: doc/ballgown.R (332 bytes security) (deflated 72%)
adding: doc/ballgown.Rmd (332 bytes security) (deflated 65%)
adding: doc/index.html (332 bytes security) (deflated 57%)
adding: extdata/ (372 bytes security) (stored 0%)
adding: extdata/annot.gtf.gz (332 bytes security) (deflated 2%)
adding: extdata/hg19_genes_small.gtf.gz (332 bytes security) (deflated 5%)
adding: extdata/sample01/ (372 bytes security) (stored 0%)
adding: extdata/sample01/e2t.ctab (332 bytes security) (deflated 75%)
adding: extdata/sample01/e_data.ctab (332 bytes security) (deflated 58%)
adding: extdata/sample01/i2t.ctab (332 bytes security) (deflated 74%)
adding: extdata/sample01/i_data.ctab (332 bytes security) (deflated 62%)
adding: extdata/sample01/t_data.ctab (332 bytes security) (deflated 59%)
adding: extdata/sample02/ (372 bytes security) (stored 0%)
adding: extdata/sample02/e2t.ctab (332 bytes security) (deflated 75%)
adding: extdata/sample02/e_data.ctab (332 bytes security) (deflated 58%)
adding: extdata/sample02/i2t.ctab (332 bytes security) (deflated 74%)
adding: extdata/sample02/i_data.ctab (332 bytes security) (deflated 62%)
adding: extdata/sample02/t_data.ctab (332 bytes security) (deflated 59%)
adding: extdata/sample03/ (372 bytes security) (stored 0%)
adding: extdata/sample03/e2t.ctab (332 bytes security) (deflated 75%)
adding: extdata/sample03/e_data.ctab (332 bytes security) (deflated 58%)
adding: extdata/sample03/i2t.ctab (332 bytes security) (deflated 74%)
adding: extdata/sample03/i_data.ctab (332 bytes security) (deflated 62%)
adding: extdata/sample03/t_data.ctab (332 bytes security) (deflated 59%)
adding: extdata/sample04/ (372 bytes security) (stored 0%)
adding: extdata/sample04/e2t.ctab (332 bytes security) (deflated 75%)
adding: extdata/sample04/e_data.ctab (332 bytes security) (deflated 58%)
adding: extdata/sample04/i2t.ctab (332 bytes security) (deflated 74%)
adding: extdata/sample04/i_data.ctab (332 bytes security) (deflated 62%)
adding: extdata/sample04/t_data.ctab (332 bytes security) (deflated 59%)
adding: extdata/sample05/ (372 bytes security) (stored 0%)
adding: extdata/sample05/e2t.ctab (332 bytes security) (deflated 75%)
adding: extdata/sample05/e_data.ctab (332 bytes security) (deflated 58%)
adding: extdata/sample05/i2t.ctab (332 bytes security) (deflated 74%)
adding: extdata/sample05/i_data.ctab (332 bytes security) (deflated 62%)
adding: extdata/sample05/t_data.ctab (332 bytes security) (deflated 59%)
adding: extdata/sample06/ (372 bytes security) (stored 0%)
adding: extdata/sample06/e2t.ctab (332 bytes security) (deflated 75%)
adding: extdata/sample06/e_data.ctab (332 bytes security) (deflated 58%)
adding: extdata/sample06/i2t.ctab (332 bytes security) (deflated 74%)
adding: extdata/sample06/i_data.ctab (332 bytes security) (deflated 62%)
adding: extdata/sample06/t_data.ctab (332 bytes security) (deflated 59%)
adding: extdata/sample07/ (372 bytes security) (stored 0%)
adding: extdata/sample07/e2t.ctab (332 bytes security) (deflated 75%)
adding: extdata/sample07/e_data.ctab (332 bytes security) (deflated 58%)
adding: extdata/sample07/i2t.ctab (332 bytes security) (deflated 74%)
adding: extdata/sample07/i_data.ctab (332 bytes security) (deflated 62%)
adding: extdata/sample07/t_data.ctab (332 bytes security) (deflated 59%)
adding: extdata/sample08/ (372 bytes security) (stored 0%)
adding: extdata/sample08/e2t.ctab (332 bytes security) (deflated 75%)
adding: extdata/sample08/e_data.ctab (332 bytes security) (deflated 58%)
adding: extdata/sample08/i2t.ctab (332 bytes security) (deflated 74%)
adding: extdata/sample08/i_data.ctab (332 bytes security) (deflated 62%)
adding: extdata/sample08/t_data.ctab (332 bytes security) (deflated 59%)
adding: extdata/sample09/ (372 bytes security) (stored 0%)
adding: extdata/sample09/e2t.ctab (332 bytes security) (deflated 75%)
adding: extdata/sample09/e_data.ctab (332 bytes security) (deflated 58%)
adding: extdata/sample09/i2t.ctab (332 bytes security) (deflated 74%)
adding: extdata/sample09/i_data.ctab (332 bytes security) (deflated 62%)
adding: extdata/sample09/t_data.ctab (332 bytes security) (deflated 59%)
adding: extdata/sample10/ (372 bytes security) (stored 0%)
adding: extdata/sample10/e2t.ctab (332 bytes security) (deflated 75%)
adding: extdata/sample10/e_data.ctab (332 bytes security) (deflated 58%)
adding: extdata/sample10/i2t.ctab (332 bytes security) (deflated 74%)
adding: extdata/sample10/i_data.ctab (332 bytes security) (deflated 62%)
adding: extdata/sample10/t_data.ctab (332 bytes security) (deflated 59%)
adding: extdata/sample11/ (372 bytes security) (stored 0%)
adding: extdata/sample11/e2t.ctab (332 bytes security) (deflated 75%)
adding: extdata/sample11/e_data.ctab (332 bytes security) (deflated 58%)
adding: extdata/sample11/i2t.ctab (332 bytes security) (deflated 74%)
adding: extdata/sample11/i_data.ctab (332 bytes security) (deflated 62%)
adding: extdata/sample11/t_data.ctab (332 bytes security) (deflated 59%)
adding: extdata/sample12/ (372 bytes security) (stored 0%)
adding: extdata/sample12/e2t.ctab (332 bytes security) (deflated 75%)
adding: extdata/sample12/e_data.ctab (332 bytes security) (deflated 58%)
adding: extdata/sample12/i2t.ctab (332 bytes security) (deflated 74%)
adding: extdata/sample12/i_data.ctab (332 bytes security) (deflated 62%)
adding: extdata/sample12/t_data.ctab (332 bytes security) (deflated 59%)
adding: extdata/sample13/ (372 bytes security) (stored 0%)
adding: extdata/sample13/e2t.ctab (332 bytes security) (deflated 75%)
adding: extdata/sample13/e_data.ctab (332 bytes security) (deflated 58%)
adding: extdata/sample13/i2t.ctab (332 bytes security) (deflated 74%)
adding: extdata/sample13/i_data.ctab (332 bytes security) (deflated 62%)
adding: extdata/sample13/t_data.ctab (332 bytes security) (deflated 59%)
adding: extdata/sample14/ (372 bytes security) (stored 0%)
adding: extdata/sample14/e2t.ctab (332 bytes security) (deflated 75%)
adding: extdata/sample14/e_data.ctab (332 bytes security) (deflated 58%)
adding: extdata/sample14/i2t.ctab (332 bytes security) (deflated 74%)
adding: extdata/sample14/i_data.ctab (332 bytes security) (deflated 62%)
adding: extdata/sample14/t_data.ctab (332 bytes security) (deflated 59%)
adding: extdata/sample15/ (372 bytes security) (stored 0%)
adding: extdata/sample15/e2t.ctab (332 bytes security) (deflated 75%)
adding: extdata/sample15/e_data.ctab (332 bytes security) (deflated 58%)
adding: extdata/sample15/i2t.ctab (332 bytes security) (deflated 74%)
adding: extdata/sample15/i_data.ctab (332 bytes security) (deflated 61%)
adding: extdata/sample15/t_data.ctab (332 bytes security) (deflated 59%)
adding: extdata/sample16/ (372 bytes security) (stored 0%)
adding: extdata/sample16/e2t.ctab (332 bytes security) (deflated 75%)
adding: extdata/sample16/e_data.ctab (332 bytes security) (deflated 58%)
adding: extdata/sample16/i2t.ctab (332 bytes security) (deflated 74%)
adding: extdata/sample16/i_data.ctab (332 bytes security) (deflated 62%)
adding: extdata/sample16/t_data.ctab (332 bytes security) (deflated 59%)
adding: extdata/sample17/ (372 bytes security) (stored 0%)
adding: extdata/sample17/e2t.ctab (332 bytes security) (deflated 75%)
adding: extdata/sample17/e_data.ctab (332 bytes security) (deflated 58%)
adding: extdata/sample17/i2t.ctab (332 bytes security) (deflated 74%)
adding: extdata/sample17/i_data.ctab (332 bytes security) (deflated 62%)
adding: extdata/sample17/t_data.ctab (332 bytes security) (deflated 59%)
adding: extdata/sample18/ (372 bytes security) (stored 0%)
adding: extdata/sample18/e2t.ctab (332 bytes security) (deflated 75%)
adding: extdata/sample18/e_data.ctab (332 bytes security) (deflated 58%)
adding: extdata/sample18/i2t.ctab (332 bytes security) (deflated 74%)
adding: extdata/sample18/i_data.ctab (332 bytes security) (deflated 62%)
adding: extdata/sample18/t_data.ctab (332 bytes security) (deflated 59%)
adding: extdata/sample19/ (372 bytes security) (stored 0%)
adding: extdata/sample19/e2t.ctab (332 bytes security) (deflated 75%)
adding: extdata/sample19/e_data.ctab (332 bytes security) (deflated 58%)
adding: extdata/sample19/i2t.ctab (332 bytes security) (deflated 74%)
adding: extdata/sample19/i_data.ctab (332 bytes security) (deflated 62%)
adding: extdata/sample19/t_data.ctab (332 bytes security) (deflated 59%)
adding: extdata/sample20/ (372 bytes security) (stored 0%)
adding: extdata/sample20/e2t.ctab (332 bytes security) (deflated 75%)
adding: extdata/sample20/e_data.ctab (332 bytes security) (deflated 58%)
adding: extdata/sample20/i2t.ctab (332 bytes security) (deflated 74%)
adding: extdata/sample20/i_data.ctab (332 bytes security) (deflated 62%)
adding: extdata/sample20/t_data.ctab (332 bytes security) (deflated 59%)
adding: extdata/tiny.genes.results.gz (332 bytes security) (deflated 0%)
adding: extdata/tiny.isoforms.results.gz (332 bytes security) (deflated 0%)
adding: extdata/tiny2.genes.results.gz (332 bytes security) (deflated 0%)
adding: extdata/tiny2.isoforms.results.gz (332 bytes security) (deflated 0%)
adding: help/ (372 bytes security) (stored 0%)
adding: help/aliases.rds (332 bytes security) (stored 0%)
adding: help/AnIndex (332 bytes security) (deflated 73%)
adding: help/ballgown.rdb (332 bytes security) (deflated 3%)
adding: help/ballgown.rdx (332 bytes security) (stored 0%)
adding: help/paths.rds (332 bytes security) (stored 0%)
adding: html/ (372 bytes security) (stored 0%)
adding: html/00Index.html (332 bytes security) (deflated 82%)
adding: html/R.css (332 bytes security) (deflated 75%)
adding: INDEX (332 bytes security) (deflated 74%)
adding: MD5 (332 bytes security) (deflated 68%)
adding: Meta/ (372 bytes security) (stored 0%)
adding: Meta/data.rds (332 bytes security) (stored 0%)
adding: Meta/features.rds (332 bytes security) (stored 0%)
adding: Meta/hsearch.rds (332 bytes security) (stored 0%)
adding: Meta/links.rds (332 bytes security) (stored 0%)
adding: Meta/nsInfo.rds (332 bytes security) (stored 0%)
adding: Meta/package.rds (332 bytes security) (stored 0%)
adding: Meta/Rd.rds (332 bytes security) (stored 0%)
adding: Meta/vignette.rds (332 bytes security) (stored 0%)
adding: NAMESPACE (332 bytes security) (deflated 70%)
adding: NEWS (332 bytes security) (deflated 57%)
adding: R/ (372 bytes security) (stored 0%)
adding: R/ballgown (332 bytes security) (deflated 41%)
adding: R/ballgown.rdb (332 bytes security) (deflated 33%)
adding: R/ballgown.rdx (332 bytes security) (deflated 1%)